{"text_format":"1","workbook":"xlsx","n_sheets":13,"sheets":["社員タイプの洗い出し","職務の内容・配置の変更の範囲の整理(正社員)","待遇の洗い出し(正社員)","待遇の整理(正社員)","点検方法の選択","【集団 対 集団】比較・点検シート","【集団 対 集団】データベース","【個別 対 個別】比較・点検シート","【手当】マニュアル参照","【福利厚生その他】マニュアル参照","【賞与】マニュアル参照","【基本給】マニュアル参照","リスト"],"not_rendered":{"charts":0,"images":14,"macros":1,"external_links":1,"defined_names":34,"comments":0,"pivot_tables":0},"unopened":[],"bounds":{"document_bytes":16777216,"sheet_cells":100000,"rows_first":2000,"rows_last":500,"rows_between":2000,"halvings":0,"cell_chars":16384,"cell_head_chars":4096},"cells_cut":0,"cells_raw":0,"read":"whole","date_system":"1900"}

{"sheet":"社員タイプの洗い出し","index":0,"n_rows":19,"n_cols":21,"rows_kept":19,"cut":false,"hidden":false,"merged":[[8,0,10,0],[13,0,15,0]]}
["手順１","正社員/パートタイム労働者・有期雇用労働者について社員タイプごとに区分し、人数を整理しましょう"]
[null,"・社員タイプとは、個々の待遇の決定方法がすべて同じである社員の塊(区分)を意味します。"]
[null,"・正社員とは、いわゆる「正規型」の労働者及び事業主と期間の定めのない労働契約を締結しているフルタイム労働者を指します。フルタイム勤務で無期労働契約に転換した労働者も含みます。"]
[null,"・パートタイム労働者とは、労働契約期間の有期・無期に関わらず、１週間の所定労働時間が同一の事業主に\n雇用される通常の労働者に比べて短い労働者を指します。　\n"]
[null,"※ただし、「短時間正社員」は該当しません。"]
[null,"・有期雇用労働者とは、 期間の定めのある労働契約を締結している労働者を指します。"]
[]
[]
["待遇が同じ社員タイプごとに区分\n(正社員）","例1","例2","例3",{"$f":"IF(E10<>\"\",\"#\"&COLUMN()-4,\"\")","v":""},{"$f":"IF(F10<>\"\",\"#\"&COLUMN()-4,\"\")","v":""},"","","","","","","","",{"$f":"IF(O10<>\"\",\"#\"&ROW()-12,\"\")","v":""},"","","","","",""]
[null,"総合職","一般職","エリア総合職"]
[null,"販売・配送・営業","配送・事務"]
["人数または概数(人)",10,40,10]
[]
["待遇が同じ社員タイプごとに区分\n(パートタイム労働者・有期雇用労働者)","例1","例2","例3",{"$f":"IF(E15<>\"\",\"#\"&COLUMN()-4,\"\")","v":""},{"$f":"IF(F15<>\"\",\"#\"&COLUMN()-4,\"\")","v":""},"","","","","","","",{"$f":"IF(N15<>\"\",\"#\"&COLUMN()-4,\"\")","v":""},{"$f":"IF(O15<>\"\",\"#\"&ROW()-12,\"\")","v":""},"","","","","",""]
[null,"パートナー社員","契約社員","アルバイト"]
[null,"販売・配送"]
["短時間かフルタイムか\n(プルダウンから選択)","フルタイム","フルタイム","短時間"]
["有期か無期か\n(プルダウンから選択)","有期","有期","有期"]
["人数または概数(人)",15,5,5]

{"sheet":"職務の内容・配置の変更の範囲の整理(正社員)","index":1,"n_rows":17,"n_cols":14,"rows_kept":17,"cut":false,"hidden":false,"merged":[[13,0,16,0]]}
["手順２","正社員の職務の内容・配置の変更の範囲を整理しましょう"]
[null,"・正社員について、職務の内容や配置に変更があるか選択し、変更がある場合はその範囲を書き出してください。"]
[null,"・制度上、働く場所や従事する仕事の変更がある場合でも実態として運用していない場合は、プルダウンより「無」と選択してください。"]
[null,"・働く場所の変更や従事する仕事の変更が「有」と選択した場合、その変更内容について詳細を記入してください。"]
[null,"・点検する中で、同一社員タイプであっても、職務の内容・配置の変更の範囲が異なると分かった場合、社員タイプを分けて記載してください。その際、社員タイプの名称は仮のもので問題ありません。"]
[null,"・社員タイプを分けた場合、「社員タイプの洗い出し」シートに戻り、社員タイプ名と人数を記入してください。"]
[]
[]
[]
[]
[]
[]
[null,null,"例1 総合職","例2 一般職",{"$f":"社員タイプの洗い出し!E$10&\" \"&社員タイプの洗い出し!E$11","v":" "},{"$f":"社員タイプの洗い出し!F$10&\" \"&社員タイプの洗い出し!F$11","v":" "},{"$f":"社員タイプの洗い出し!G$10&\" \"&社員タイプの洗い出し!G$11","v":" "},{"$f":"社員タイプの洗い出し!H$10&\" \"&社員タイプの洗い出し!H$11","v":" "},{"$f":"社員タイプの洗い出し!I$10&\" \"&社員タイプの洗い出し!I$11","v":" "},{"$f":"社員タイプの洗い出し!J$10&\" \"&社員タイプの洗い出し!J$11","v":" "},{"$f":"社員タイプの洗い出し!K$10&\" \"&社員タイプの洗い出し!K$11","v":" "},{"$f":"社員タイプの洗い出し!L$10&\" \"&社員タイプの洗い出し!L$11","v":" "},{"$f":"社員タイプの洗い出し!M$10&\" \"&社員タイプの洗い出し!M$11","v":" "},{"$f":"社員タイプの洗い出し!N$10&\" \"&社員タイプの洗い出し!N$11","v":" "}]
["職務の内容・配置の変更の範囲","働く場所の変更の有無\n（プルダウンから選択）","有","有"]
[null,"働く場所の変更の詳細","全国","採用店舗が所属するエリア内での店舗異動あり"]
[null,"従事する仕事の変更の有無\n（プルダウンから選択）","有","有"]
[null,"従事する仕事の\n変更の詳細","入社時は現場業務を経験した後、マネジメント業務へ移行","厨房⇔フロア"]

{"sheet":"待遇の洗い出し(正社員)","index":2,"n_rows":38,"n_cols":2,"rows_kept":38,"cut":false,"hidden":false,"merged":[]}
["手順３","正社員に支給・適用している待遇について洗い出してみましょう"]
[null,"・基本給(決定要素)、手当、福利厚生その他について、正社員に適用・支給しているものを書き出してください。"]
[null,"・基本給(決定要素)の欄には、決定要素としている事項を入力してください。あらかじめ５項目が入力してありますが、"]
[null,"   決定要素としていない事項は、削除してください。また、５項目以外に決定要素としている事項があれば、追記をしてください。"]
[null,"・福利厚生その他の欄に記載されている「給食施設(食堂)」、「休憩室」、「更衣室」については、パートタイム・有期雇用労働法施行後は、"]
[null,"   正社員が利用している場合は、パートタイム労働者・有期雇用労働者にも利用の機会を与えることが義務化されます。必ず、点検をしてください。"]
[]
[null,"基本給(決定要素)"]
[null,"職務の遂行能力"]
[null,"業務の内容や責任の重さ"]
[null,"仕事の成果や業績"]
[null,"年齢や勤続年数"]
[null,"市場での賃金相場"]
[]
[]
[]
[]
[]
[null,"手当"]
[]
[]
[]
[]
[]
[]
[]
[]
[]
[]
[]
[]
[]
[]
[]
[null,"福利厚生その他"]
[null,"給食施設(食堂)"]
[null,"休憩室"]
[null,"更衣室"]

{"sheet":"待遇の整理(正社員)","index":3,"n_rows":63,"n_cols":13,"rows_kept":63,"cut":false,"hidden":false,"merged":[]}
["手順４","正社員の基本給の決定要素と待遇を整理しましょう"]
[null,"・正社員の基本給の決定要素について、基本給決定における重要度をプルダウンから選択してください。"]
[null,null,"凡例"]
[null,null,"１：非常に重要"]
[null,null,"２：やや重要"]
[null,null,"３：重要でない"]
[null,"・正社員に支給している待遇について、各社員タイプに対する適用状況を「適用」「非適用」で整理してください。"]
[null,"・デフォルトではすべて「適用」と入力されています。適用していない待遇については、プルダウンから「非適用」に変更してください。"]
[]
[]
[]
["待遇種類","項目","例：総合職",{"$f":"'職務の内容・配置の変更の範囲の整理(正社員)'!E$13","v":" "},{"$f":"'職務の内容・配置の変更の範囲の整理(正社員)'!F$13","v":" "},{"$f":"'職務の内容・配置の変更の範囲の整理(正社員)'!G$13","v":" "},{"$f":"'職務の内容・配置の変更の範囲の整理(正社員)'!H$13","v":" "},{"$f":"'職務の内容・配置の変更の範囲の整理(正社員)'!I$13","v":" "},{"$f":"'職務の内容・配置の変更の範囲の整理(正社員)'!J$13","v":" "},{"$f":"'職務の内容・配置の変更の範囲の整理(正社員)'!K$13","v":" "},{"$f":"'職務の内容・配置の変更の範囲の整理(正社員)'!L$13","v":" "},{"$f":"'職務の内容・配置の変更の範囲の整理(正社員)'!M$13","v":" "},{"$f":"'職務の内容・配置の変更の範囲の整理(正社員)'!N$13","v":" "}]
["基本給（決定要素）",{"$f":"IF('待遇の洗い出し(正社員)'!B9<>0,'待遇の洗い出し(正社員)'!B9,\"\")","v":"職務の遂行能力"},"1：非常に重要"]
["基本給（決定要素）",{"$f":"IF('待遇の洗い出し(正社員)'!B10<>0,'待遇の洗い出し(正社員)'!B10,\"\")","v":"業務の内容や責任の重さ"},"2：やや重要"]
["基本給（決定要素）",{"$f":"IF('待遇の洗い出し(正社員)'!B11<>0,'待遇の洗い出し(正社員)'!B11,\"\")","v":"仕事の成果や業績"},"3：重要でない"]
["基本給（決定要素）",{"$f":"IF('待遇の洗い出し(正社員)'!B12<>0,'待遇の洗い出し(正社員)'!B12,\"\")","v":"年齢や勤続年数"},"1：非常に重要"]
["基本給（決定要素）",{"$f":"IF('待遇の洗い出し(正社員)'!B13<>0,'待遇の洗い出し(正社員)'!B13,\"\")","v":"市場での賃金相場"},"1：非常に重要"]
["基本給（決定要素）",{"$f":"IF('待遇の洗い出し(正社員)'!B14<>0,'待遇の洗い出し(正社員)'!B14,\"\")","v":""},"2：やや重要"]
["基本給（決定要素）",{"$f":"IF('待遇の洗い出し(正社員)'!B15<>0,'待遇の洗い出し(正社員)'!B15,\"\")","v":""},"3：重要でない"]
["基本給（決定要素）",{"$f":"IF('待遇の洗い出し(正社員)'!B16<>0,'待遇の洗い出し(正社員)'!B16,\"\")","v":""},"2：やや重要"]
["基本給（決定要素）",{"$f":"IF('待遇の洗い出し(正社員)'!B17<>0,'待遇の洗い出し(正社員)'!B17,\"\")","v":""},"2：やや重要"]
["基本給（決定要素）",{"$f":"IF('待遇の洗い出し(正社員)'!B18<>0,'待遇の洗い出し(正社員)'!B18,\"\")","v":""},"2：やや重要"]
["賞与","賞与","適用","適用","適用","適用","適用","適用","適用","適用","適用","適用","適用"]
["手当",{"$f":"IF('待遇の洗い出し(正社員)'!$B20<>0,'待遇の洗い出し(正社員)'!$B20,\"\")","v":""},"適用","適用","適用","適用","適用","適用","適用","適用","適用","適用","適用"]
["手当",{"$f":"IF('待遇の洗い出し(正社員)'!$B21<>0,'待遇の洗い出し(正社員)'!$B21,\"\")","v":""},"非適用","適用","適用","適用","適用","適用","適用","適用","適用","適用","適用"]
["手当",{"$f":"IF('待遇の洗い出し(正社員)'!$B22<>0,'待遇の洗い出し(正社員)'!$B22,\"\")","v":""},"適用","適用","適用","適用","適用","適用","適用","適用","適用","適用","適用"]
["手当",{"$f":"IF('待遇の洗い出し(正社員)'!$B23<>0,'待遇の洗い出し(正社員)'!$B23,\"\")","v":""},"適用","適用","適用","適用","適用","適用","適用","適用","適用","適用","適用"]
["手当",{"$f":"IF('待遇の洗い出し(正社員)'!$B24<>0,'待遇の洗い出し(正社員)'!$B24,\"\")","v":""},"適用","適用","適用","適用","適用","適用","適用","適用","適用","適用","適用"]
["手当",{"$f":"IF('待遇の洗い出し(正社員)'!$B25<>0,'待遇の洗い出し(正社員)'!$B25,\"\")","v":""},"適用","適用","適用","適用","適用","適用","適用","適用","適用","適用","適用"]
["手当",{"$f":"IF('待遇の洗い出し(正社員)'!$B26<>0,'待遇の洗い出し(正社員)'!$B26,\"\")","v":""},"適用","適用","適用","適用","適用","適用","適用","適用","適用","適用","適用"]
["手当",{"$f":"IF('待遇の洗い出し(正社員)'!$B27<>0,'待遇の洗い出し(正社員)'!$B27,\"\")","v":""},"適用","適用","適用","適用","適用","適用","適用","適用","適用","適用","適用"]
["手当",{"$f":"IF('待遇の洗い出し(正社員)'!$B28<>0,'待遇の洗い出し(正社員)'!$B28,\"\")","v":""},"適用","適用","適用","適用","適用","適用","適用","適用","適用","適用","適用"]
["手当",{"$f":"IF('待遇の洗い出し(正社員)'!$B29<>0,'待遇の洗い出し(正社員)'!$B29,\"\")","v":""},"適用","適用","適用","適用","適用","適用","適用","適用","適用","適用","適用"]
["手当",{"$f":"IF('待遇の洗い出し(正社員)'!$B30<>0,'待遇の洗い出し(正社員)'!$B30,\"\")","v":""},"適用","適用","適用","適用","適用","適用","適用","適用","適用","適用","適用"]
["手当",{"$f":"IF('待遇の洗い出し(正社員)'!$B31<>0,'待遇の洗い出し(正社員)'!$B31,\"\")","v":""},"非適用","適用","適用","適用","適用","適用","適用","適用","適用","適用","適用"]
["手当",{"$f":"IF('待遇の洗い出し(正社員)'!$B32<>0,'待遇の洗い出し(正社員)'!$B32,\"\")","v":""},"適用","適用","適用","適用","適用","適用","適用","適用","適用","適用","適用"]
["手当",{"$f":"IF('待遇の洗い出し(正社員)'!$B33<>0,'待遇の洗い出し(正社員)'!$B33,\"\")","v":""},"適用","適用","適用","適用","適用","適用","適用","適用","適用","適用","適用"]
["手当",{"$f":"IF('待遇の洗い出し(正社員)'!$B34<>0,'待遇の洗い出し(正社員)'!$B34,\"\")","v":""},"適用","適用","適用","適用","適用","適用","適用","適用","適用","適用","適用"]
["福利厚生その他","給食施設（食堂）","適用","適用","適用","適用","適用","適用","適用","適用","適用","適用","適用"]
["福利厚生その他","休憩室","適用","適用","適用","適用","適用","適用","適用","適用","適用","適用","適用"]
["福利厚生その他","更衣室","適用","適用","適用","適用","適用","適用","適用","適用","適用","適用","適用"]
["福利厚生その他",{"$f":"IF('待遇の洗い出し(正社員)'!$B39<>0,'待遇の洗い出し(正社員)'!$B39,\"\")","v":""},"適用","適用","適用","適用","適用","適用","適用","適用","適用","適用","適用"]
["福利厚生その他",{"$f":"IF('待遇の洗い出し(正社員)'!$B40<>0,'待遇の洗い出し(正社員)'!$B40,\"\")","v":""},"非適用","適用","適用","適用","適用","適用","適用","適用","適用","適用","適用"]
["福利厚生その他",{"$f":"IF('待遇の洗い出し(正社員)'!$B41<>0,'待遇の洗い出し(正社員)'!$B41,\"\")","v":""},"適用","適用","適用","適用","適用","適用","適用","適用","適用","適用","適用"]
["福利厚生その他",{"$f":"IF('待遇の洗い出し(正社員)'!$B42<>0,'待遇の洗い出し(正社員)'!$B42,\"\")","v":""},"適用","適用","適用","適用","適用","適用","適用","適用","適用","適用","適用"]
["福利厚生その他",{"$f":"IF('待遇の洗い出し(正社員)'!$B43<>0,'待遇の洗い出し(正社員)'!$B43,\"\")","v":""},"非適用","適用","適用","適用","適用","適用","適用","適用","適用","適用","適用"]
["福利厚生その他",{"$f":"IF('待遇の洗い出し(正社員)'!$B44<>0,'待遇の洗い出し(正社員)'!$B44,\"\")","v":""},"適用","適用","適用","適用","適用","適用","適用","適用","適用","適用","適用"]
["福利厚生その他",{"$f":"IF('待遇の洗い出し(正社員)'!$B45<>0,'待遇の洗い出し(正社員)'!$B45,\"\")","v":""},"適用","適用","適用","適用","適用","適用","適用","適用","適用","適用","適用"]
["福利厚生その他",{"$f":"IF('待遇の洗い出し(正社員)'!$B46<>0,'待遇の洗い出し(正社員)'!$B46,\"\")","v":""},"適用","適用","適用","適用","適用","適用","適用","適用","適用","適用","適用"]
["福利厚生その他",{"$f":"IF('待遇の洗い出し(正社員)'!$B47<>0,'待遇の洗い出し(正社員)'!$B47,\"\")","v":""},"適用","適用","適用","適用","適用","適用","適用","適用","適用","適用","適用"]
["福利厚生その他",{"$f":"IF('待遇の洗い出し(正社員)'!$B48<>0,'待遇の洗い出し(正社員)'!$B48,\"\")","v":""},"適用","適用","適用","適用","適用","適用","適用","適用","適用","適用","適用"]
["福利厚生その他",{"$f":"IF('待遇の洗い出し(正社員)'!$B49<>0,'待遇の洗い出し(正社員)'!$B49,\"\")","v":""},"適用","適用","適用","適用","適用","適用","適用","適用","適用","適用","適用"]
["福利厚生その他",{"$f":"IF('待遇の洗い出し(正社員)'!$B50<>0,'待遇の洗い出し(正社員)'!$B50,\"\")","v":""},"適用","適用","適用","適用","適用","適用","適用","適用","適用","適用","適用"]
["福利厚生その他",{"$f":"IF('待遇の洗い出し(正社員)'!$B51<>0,'待遇の洗い出し(正社員)'!$B51,\"\")","v":""},"適用","適用","適用","適用","適用","適用","適用","適用","適用","適用","適用"]
["福利厚生その他",{"$f":"IF('待遇の洗い出し(正社員)'!$B52<>0,'待遇の洗い出し(正社員)'!$B52,\"\")","v":""},"非適用","適用","適用","適用","適用","適用","適用","適用","適用","適用","適用"]
["福利厚生その他",{"$f":"IF('待遇の洗い出し(正社員)'!$B53<>0,'待遇の洗い出し(正社員)'!$B53,\"\")","v":""},"適用","適用","適用","適用","適用","適用","適用","適用","適用","適用","適用"]
["福利厚生その他",{"$f":"IF('待遇の洗い出し(正社員)'!$B54<>0,'待遇の洗い出し(正社員)'!$B54,\"\")","v":""},"適用","適用","適用","適用","適用","適用","適用","適用","適用","適用","適用"]
["福利厚生その他",{"$f":"IF('待遇の洗い出し(正社員)'!$B55<>0,'待遇の洗い出し(正社員)'!$B55,\"\")","v":""},"適用","適用","適用","適用","適用","適用","適用","適用","適用","適用","適用"]
["福利厚生その他",{"$f":"IF('待遇の洗い出し(正社員)'!$B56<>0,'待遇の洗い出し(正社員)'!$B56,\"\")","v":""},"適用","適用","適用","適用","適用","適用","適用","適用","適用","適用","適用"]
["福利厚生その他",{"$f":"IF('待遇の洗い出し(正社員)'!$B57<>0,'待遇の洗い出し(正社員)'!$B57,\"\")","v":""},"適用","適用","適用","適用","適用","適用","適用","適用","適用","適用","適用"]
["福利厚生その他",{"$f":"IF('待遇の洗い出し(正社員)'!$B58<>0,'待遇の洗い出し(正社員)'!$B58,\"\")","v":""},"非適用","適用","適用","適用","適用","適用","適用","適用","適用","適用","適用"]
["福利厚生その他",{"$f":"IF('待遇の洗い出し(正社員)'!$B59<>0,'待遇の洗い出し(正社員)'!$B59,\"\")","v":""},"適用","適用","適用","適用","適用","適用","適用","適用","適用","適用","適用"]
["福利厚生その他",{"$f":"IF('待遇の洗い出し(正社員)'!$B60<>0,'待遇の洗い出し(正社員)'!$B60,\"\")","v":""},"適用","適用","適用","適用","適用","適用","適用","適用","適用","適用","適用"]

{"sheet":"点検方法の選択","index":4,"n_rows":14,"n_cols":9,"rows_kept":14,"cut":false,"hidden":false,"merged":[[13,1,13,5],[13,6,13,10],[4,1,4,5],[4,6,4,10],[6,1,6,5],[7,1,7,5],[6,6,6,10],[7,6,7,10],[8,6,8,10],[8,1,8,5],[9,1,9,5],[10,1,10,5],[9,6,9,10],[10,6,10,10]]}
["手順５","待遇の比較方法について選択してください"]
[null,"・本ツールにおいては、正社員とパートタイム労働者・有期雇用労働者の待遇を比較する際に、2通りの方法があります。"]
[null,"・点検の目的に応じて、以下の①または②を選択してください。"]
[null,null,null,"①集団 対 集団",null,null,null,null,"②個別 対 個別"]
[null,"待遇の決定方法が同じ社員の集団\n(社員タイプ)同士で待遇を比較します",null,null,null,null,"各労働者の職務の内容を整理した上で、\n個別の労働者同士で待遇を比較します"]
[null,"使用シーン例：",null,null,null,null,"使用シーン例："]
[null,"・現在の人事制度で、均等・均衡待遇が実現できているか、点検をしたい",null,null,null,null,"・社員タイプではなく、個人ごとに労働条件を定めているため、個別に待遇を比較したい"]
[null,"・社員数が多いため、まずは社員タイプごとに待遇を比較してみたい",null,null,null,null,"・社員数が少ないため、社員ごとに点検をしたい"]
[null,null,null,null,null,null,"・社員から直接、待遇に関して問合せがあった等、特定の社員について特に点検が必要と考える場合"]
[]
[]
[]
[]
[null,"①集団 対 集団で比較する",null,null,null,null,"②個別 対 個別で比較する"]

{"sheet":"【集団 対 集団】比較・点検シート","index":5,"n_rows":93,"n_cols":34,"rows_kept":93,"cut":false,"hidden":false,"merged":[[30,31,30,33],[32,22,32,24],[33,22,33,24],[34,22,34,24],[35,22,35,24],[36,22,36,24],[32,25,32,27],[33,25,33,27],[34,25,34,27],[35,25,35,27],[36,25,36,27],[32,28,32,30],[33,28,33,30],[34,28,34,30],[35,28,35,30],[31,22,31,24],[31,25,31,27],[31,28,31,30],[31,31,31,33],[30,25,30,27],[30,28,30,30],[32,31,32,33],[33,31,33,33],[34,31,34,33],[30,3,32,3],[30,4,30,6],[32,4,32,6],[33,4,33,6],[34,4,34,6],[35,4,35,6],[36,0,39,0],[36,4,36,6],[37,4,37,6],[38,4,38,6],[39,4,39,6],[32,0,35,0],[31,4,31,6],[42,5,51,5],[42,6,51,6],[32,13,32,15],[33,13,33,15],[34,13,34,15],[35,13,35,15],[32,16,32,18],[33,16,33,18],[34,16,34,18],[35,16,35,18],[36,16,36,18],[37,16,37,18],[38,16,38,18],[39,16,39,18],[32,7,32,9],[33,7,33,9],[34,7,34,9],[35,7,35,9],[36,7,36,9],[37,7,37,9],[38,7,38,9],[42,8,51,8],[42,9,51,9],[42,11,51,11],[33,19,33,21],[34,19,34,21],[35,19,35,21],[36,19,36,21],[37,19,37,21],[38,19,38,21],[37,25,37,27],[31,7,31,9],[31,10,31,12],[31,13,31,15],[31,16,31,18],[31,19,31,21],[30,7,30,9],[30,10,30,12],[30,13,30,15],[30,16,30,18],[30,19,30,21],[30,22,30,24],[39,7,39,9],[39,19,39,21],[37,22,37,24],[38,22,38,24],[39,22,39,24],[36,13,36,15],[37,13,37,15],[38,13,38,15],[39,13,39,15],[32,10,32,12],[33,10,33,12],[34,10,34,12],[35,10,35,12],[36,10,36,12],[37,10,37,12],[38,10,38,12],[39,10,39,12],[32,19,32,21],[42,32,51,32],[42,33,51,33],[38,25,38,27],[39,25,39,27],[36,28,36,30],[37,28,37,30],[38,28,38,30],[39,28,39,30],[42,26,51,26],[42,27,51,27],[42,29,51,29],[42,30,51,30],[35,31,35,33],[36,31,36,33],[37,31,37,33],[38,31,38,33],[39,31,39,33],[41,31,41,33],[41,4,41,6],[41,7,41,9],[41,10,41,12],[41,13,41,15],[41,16,41,18],[41,19,41,21],[41,22,41,24],[41,25,41,27],[41,28,41,30],[42,12,51,12],[42,14,51,14],[42,15,51,15],[42,17,51,17],[42,18,51,18],[42,20,51,20],[42,21,51,21],[42,23,51,23],[42,24,51,24]]}
["手順６-①","正社員とパートタイム労働者・有期雇用労働者を比較・点検しましょう　",null,"(左の「＋」マークを押下して説明をお読みの上、記入してください)"]
[null,"・パートタイム労働者・有期雇用労働者と待遇を比較したい正社員の社員タイプを、プルダウンから選択してください。また、その社員タイプの職務の内容を棚卸する際に適当と考える正社員の社員名または社員番号などを入力してください。"]
[null,"・パートタイム労働者・有期雇用労働者について、各社員タイプの職務の内容を棚卸する際に適当と考える労働者を選出し、社員名または社員番号などの識別子を入力してください。"]
[null,"・選出した正社員と、パートタイム労働者・有期雇用労働者について、担当している職務の内容を記入してください。"]
[null,"・パートタイム労働者・有期雇用労働者の職務の内容・配置の変更の範囲について、正社員(選択している社員タイプ)と比較した場合の状況をプルダウンから選択してください。なお、制度上での比較ではなく、実際の転勤や配置の変更の状況を比較してください。"]
[null,null,null,"凡例"]
[null,null,null,"１：正社員(選択している社員タイプ)と同じ"]
[null,null,null,"２：正社員(選択している社員タイプ)とやや異なる"]
[null,null,null,"３：正社員(選択している社員タイプ)と大きく異なる"]
[null,"・パートタイム労働者・有期雇用労働者の基本給について、正社員を100とした時の比率を記入してください。さらに、基本給の決定要素について、重要度をプルダウンから選択してください。"]
[null,null,null,"凡例"]
[null,null,null,"１：非常に重要"]
[null,null,null,"２：やや重要"]
[null,null,null,"３：重要でない"]
[null,"・パートタイム労働者・有期雇用労働者の待遇について、正社員と比較した場合の支給状況をプルダウンから選択してください。"]
[null,null,null,"凡例"]
[null,null,null,"１：正社員(選択している社員タイプ)と同条件で支給している"]
[null,null,null,"２：正社員(選択している社員タイプ)には支給するが、パートタイム労働者・有期雇用労働者には支給していない"]
[null,null,null,"３：正社員(選択している社員タイプ)、パートタイム労働者・有期雇用労働者とも支給するが、支給条件が異なる"]
[null,"・パートタイム労働者・有期雇用労働者の待遇のうち数字の隣の欄に色がついたものは、支給条件や、正社員と違いを設けている理由を書き出してください。さらに、マニュアルを参照しながら対応策を記入してみましょう。"]
[null,"・正社員とパートタイム労働者・有期雇用労働者の待遇について、全て入力が完了したら「登録」ボタンを押下してください。"]
[null,"比較したい正社員の社員タイプをプルダウンから選択してください。⇩"]
[null,"正社員の社員タイプ",null,null,null,"マニュアルの参照はこちら⇒","手当"]
[null,null,null,null,null,null,"福利厚生その他"]
[null,null,null,null,null,null,"賞与"]
[null,null,null,null,null,null,"基本給"]
[null,null,null,null,"《賞与・手当・福利厚生その他　選択肢》",null,null,"《賞与・手当・福利厚生その他　選択肢》",null,null,"《賞与・手当・福利厚生その他　選択肢》",null,null,"《賞与・手当・福利厚生その他　選択肢》",null,null,"《賞与・手当・福利厚生その他　選択肢》",null,null,"《賞与・手当・福利厚生その他　選択肢》",null,null,"《賞与・手当・福利厚生その他　選択肢》",null,null,"《賞与・手当・福利厚生その他　選択肢》",null,null,"《賞与・手当・福利厚生その他　選択肢》",null,null,"《賞与・手当・福利厚生その他　選択肢》"]
[null,null,null,null,"１：正社員(選択している社員タイプ)と同条件で支給している",null,null,"１：正社員(選択している社員タイプ)と同条件で支給している",null,null,"１：正社員(選択している社員タイプ)と同条件で支給している",null,null,"１：正社員(選択している社員タイプ)と同条件で支給している",null,null,"１：正社員(選択している社員タイプ)と同条件で支給している",null,null,"１：正社員(選択している社員タイプ)と同条件で支給している",null,null,"１：正社員(選択している社員タイプ)と同条件で支給している",null,null,"１：正社員(選択している社員タイプ)と同条件で支給している",null,null,"１：正社員(選択している社員タイプ)と同条件で支給している",null,null,"１：正社員(選択している社員タイプ)と同条件で支給している"]
[null,null,null,null,"２：正社員(選択している社員タイプ)には支給するが、パートタイム労働者・有期雇用労働者には支給していない",null,null,"２：正社員(選択している社員タイプ)には支給するが、パートタイム労働者・有期雇用労働者には支給していない",null,null,"２：正社員(選択している社員タイプ)には支給するが、パートタイム労働者・有期雇用労働者には支給していない",null,null,"２：正社員(選択している社員タイプ)には支給するが、パートタイム労働者・有期雇用労働者には支給していない",null,null,"２：正社員(選択している社員タイプ)には支給するが、パートタイム労働者・有期雇用労働者には支給していない",null,null,"２：正社員(選択している社員タイプ)には支給するが、パートタイム労働者・有期雇用労働者には支給していない",null,null,"２：正社員(選択している社員タイプ)には支給するが、パートタイム労働者・有期雇用労働者には支給していない",null,null,"２：正社員(選択している社員タイプ)には支給するが、パートタイム労働者・有期雇用労働者には支給していない",null,null,"２：正社員(選択している社員タイプ)には支給するが、パートタイム労働者・有期雇用労働者には支給していない",null,null,"２：正社員(選択している社員タイプ)には支給するが、パートタイム労働者・有期雇用労働者には支給していない"]
[null,null,null,null,"３：正社員(選択している社員タイプ)、パートタイム労働者・有期雇用労働者とも支給するが、支給条件が異なる",null,null,"３：正社員(選択している社員タイプ)、パートタイム労働者・有期雇用労働者とも支給するが、支給条件が異なる",null,null,"３：正社員(選択している社員タイプ)、パートタイム労働者・有期雇用労働者とも支給するが、支給条件が異なる",null,null,"３：正社員(選択している社員タイプ)、パートタイム労働者・有期雇用労働者とも支給するが、支給条件が異なる",null,null,"３：正社員(選択している社員タイプ)、パートタイム労働者・有期雇用労働者とも支給するが、支給条件が異なる",null,null,"３：正社員(選択している社員タイプ)、パートタイム労働者・有期雇用労働者とも支給するが、支給条件が異なる",null,null,"３：正社員(選択している社員タイプ)、パートタイム労働者・有期雇用労働者とも支給するが、支給条件が異なる",null,null,"３：正社員(選択している社員タイプ)、パートタイム労働者・有期雇用労働者とも支給するが、支給条件が異なる",null,null,"３：正社員(選択している社員タイプ)、パートタイム労働者・有期雇用労働者とも支給するが、支給条件が異なる",null,null,"３：正社員(選択している社員タイプ)、パートタイム労働者・有期雇用労働者とも支給するが、支給条件が異なる"]
[null,"社員タイプ",{"$f":"C23","v":0},"→\n←",{"$f":"社員タイプの洗い出し!$E$15&\" \"&社員タイプの洗い出し!$E$16","v":" "},null,null,{"$f":"社員タイプの洗い出し!$F$15&\" \"&社員タイプの洗い出し!$F$16","v":" "},null,null,{"$f":"社員タイプの洗い出し!$G$15&\" \"&社員タイプの洗い出し!$G$16","v":" "},null,null,{"$f":"社員タイプの洗い出し!$H$15&\" \"&社員タイプの洗い出し!$H$16","v":" "},null,null,{"$f":"社員タイプの洗い出し!$I$15&\" \"&社員タイプの洗い出し!$I$16","v":" "},null,null,{"$f":"社員タイプの洗い出し!$J$15&\" \"&社員タイプの洗い出し!$J$16","v":" "},null,null,{"$f":"社員タイプの洗い出し!$K$15&\" \"&社員タイプの洗い出し!$K$16","v":" "},null,null,{"$f":"社員タイプの洗い出し!$L$15&\" \"&社員タイプの洗い出し!$L$16","v":" "},null,null,{"$f":"社員タイプの洗い出し!$M$15&\" \"&社員タイプの洗い出し!$M$16","v":" "},null,null,{"$f":"社員タイプの洗い出し!$N$15&\" \"&社員タイプの洗い出し!$N$16","v":" "}]
[null,"労働時間・雇用期間・人数",{"$f":"INDEX('【集団 対 集団】データベース'!C9:L10,2,MATCH('【集団 対 集団】比較・点検シート'!C31,'【集団 対 集団】データベース'!C9:L9,0))","v":{"$error":"#N/A"}},null,{"$f":"社員タイプの洗い出し!$E$17&\"・\"&社員タイプの洗い出し!$E$18&\"・\"&社員タイプの洗い出し!$E$19&\"人\"","v":"・・人"},null,null,{"$f":"社員タイプの洗い出し!$F$17&\"・\"&社員タイプの洗い出し!$F$18&\"・\"&社員タイプの洗い出し!$F$19&\"人\"","v":"・・人"},null,null,{"$f":"社員タイプの洗い出し!$G$17&\"・\"&社員タイプの洗い出し!$G$18&\"・\"&社員タイプの洗い出し!$G$19&\"人\"","v":"・・人"},null,null,{"$f":"社員タイプの洗い出し!$H$17&\"・\"&社員タイプの洗い出し!$H$18&\"・\"&社員タイプの洗い出し!$H$19&\"人\"","v":"・・人"},null,null,{"$f":"社員タイプの洗い出し!$I$17&\"・\"&社員タイプの洗い出し!$I$18&\"・\"&社員タイプの洗い出し!$I$19&\"人\"","v":"・・人"},null,null,{"$f":"社員タイプの洗い出し!$J$17&\"・\"&社員タイプの洗い出し!$J$18&\"・\"&社員タイプの洗い出し!$J$19&\"人\"","v":"・・人"},null,null,{"$f":"社員タイプの洗い出し!$K$17&\"・\"&社員タイプの洗い出し!$K$18&\"・\"&社員タイプの洗い出し!$K$19&\"人\"","v":"・・人"},null,null,{"$f":"社員タイプの洗い出し!$L$17&\"・\"&社員タイプの洗い出し!$L$18&\"・\"&社員タイプの洗い出し!$L$19&\"人\"","v":"・・人"},null,null,{"$f":"社員タイプの洗い出し!$M$17&\"・\"&社員タイプの洗い出し!$M$18&\"・\"&社員タイプの洗い出し!$M$19&\"人\"","v":"・・人"},null,null,{"$f":"社員タイプの洗い出し!$N$17&\"・\"&社員タイプの洗い出し!$N$18&\"・\"&社員タイプの洗い出し!$N$19&\"人\"","v":"・・人"}]
["職務の内容","職務の内容を棚卸する際に適当と考える社員"]
[null,"業務内容\n(職種)"]
[null,"中核的業務"]
[null,"責任の程度"]
["職務の内容・\n配置の変更の範囲","働く場所の\n変更の有無",{"$f":"INDEX('【集団 対 集団】データベース'!$C$16:$L$72,MATCH('【集団 対 集団】比較・点検シート'!$B37,'【集団 対 集団】データベース'!$B$16:$B$72,0),MATCH('【集団 対 集団】比較・点検シート'!$C$31,'【集団 対 集団】データベース'!$C$9:$L$9,0))","v":{"$error":"#N/A"}}]
[null,"働く場所の\n変更の詳細",{"$f":"INDEX('【集団 対 集団】データベース'!$C$16:$L$72,MATCH('【集団 対 集団】比較・点検シート'!$B38,'【集団 対 集団】データベース'!$B$16:$B$72,0),MATCH('【集団 対 集団】比較・点検シート'!$C$31,'【集団 対 集団】データベース'!$C$9:$L$9,0))","v":{"$error":"#N/A"}}]
[null,"従事する仕事の\n変更の有無",{"$f":"INDEX('【集団 対 集団】データベース'!$C$16:$L$72,MATCH('【集団 対 集団】比較・点検シート'!$B39,'【集団 対 集団】データベース'!$B$16:$B$72,0),MATCH('【集団 対 集団】比較・点検シート'!$C$31,'【集団 対 集団】データベース'!$C$9:$L$9,0))","v":{"$error":"#N/A"}}]
[null,"従事する仕事の\n変更の詳細",{"$f":"INDEX('【集団 対 集団】データベース'!$C$16:$L$72,MATCH('【集団 対 集団】比較・点検シート'!$B40,'【集団 対 集団】データベース'!$B$16:$B$72,0),MATCH('【集団 対 集団】比較・点検シート'!$C$31,'【集団 対 集団】データベース'!$C$9:$L$9,0))","v":{"$error":"#N/A"}}]
["index","index",null,null,null,"待遇差の理由","待遇差の対応策",null,"待遇差の理由","待遇差の対応策",null,"待遇差の理由","待遇差の対応策",null,"待遇差の理由","待遇差の対応策",null,"待遇差の理由","待遇差の対応策",null,"待遇差の理由","待遇差の対応策",null,"待遇差の理由","待遇差の対応策",null,"待遇差の理由","待遇差の対応策",null,"待遇差の理由","待遇差の対応策",null,"待遇差の理由","待遇差の対応策"]
["支給している基本給の比率","（正社員の基本給を100として記入）",100]
["基本給（決定要素）",{"$f":"'【集団 対 集団】データベース'!B22","v":"職務の遂行能力"},{"$f":"INDEX('【集団 対 集団】データベース'!$C$16:$L$72,MATCH('【集団 対 集団】比較・点検シート'!$B43,'【集団 対 集団】データベース'!$B$16:$B$72,0),MATCH('【集団 対 集団】比較・点検シート'!$C$31,'【集団 対 集団】データベース'!$C$9:$L$9,0))","v":{"$error":"#N/A"}},null,null,"基本給の決定要素や職務の内容、職務の内容・配置の変更の範囲を踏まえ、支給に差を設けている理由を入力してください","理由を記入できなかった場合や、理由を踏まえて待遇差が不合理と考える場合は、支給における差を改善するための対応策を入力してください",null,"基本給の決定要素や職務の内容、職務の内容・配置の変更の範囲を踏まえ、支給に差を設けている理由を入力してください","理由を記入できなかった場合や、理由を踏まえて待遇差が不合理と考える場合は、支給における差を改善するための対応策を入力してください",null,"基本給の決定要素や職務の内容、職務の内容・配置の変更の範囲を踏まえ、支給に差を設けている理由を入力してください","理由を記入できなかった場合や、理由を踏まえて待遇差が不合理と考える場合は、支給における差を改善するための対応策を入力してください",null,"基本給の決定要素や職務の内容、職務の内容・配置の変更の範囲を踏まえ、支給に差を設けている理由を入力してください","理由を記入できなかった場合や、理由を踏まえて待遇差が不合理と考える場合は、支給における差を改善するための対応策を入力してください",null,"基本給の決定要素や職務の内容、職務の内容・配置の変更の範囲を踏まえ、支給に差を設けている理由を入力してください","理由を記入できなかった場合や、理由を踏まえて待遇差が不合理と考える場合は、支給における差を改善するための対応策を入力してください",null,"基本給の決定要素や職務の内容、職務の内容・配置の変更の範囲を踏まえ、支給に差を設けている理由を入力してください","理由を記入できなかった場合や、理由を踏まえて待遇差が不合理と考える場合は、支給における差を改善するための対応策を入力してください",null,"基本給の決定要素や職務の内容、職務の内容・配置の変更の範囲を踏まえ、支給に差を設けている理由を入力してください","理由を記入できなかった場合や、理由を踏まえて待遇差が不合理と考える場合は、支給における差を改善するための対応策を入力してください",null,"基本給の決定要素や職務の内容、職務の内容・配置の変更の範囲を踏まえ、支給に差を設けている理由を入力してください","理由を記入できなかった場合や、理由を踏まえて待遇差が不合理と考える場合は、支給における差を改善するための対応策を入力してください",null,"基本給の決定要素や職務の内容、職務の内容・配置の変更の範囲を踏まえ、支給に差を設けている理由を入力してください","理由を記入できなかった場合や、理由を踏まえて待遇差が不合理と考える場合は、支給における差を改善するための対応策を入力してください",null,"基本給の決定要素や職務の内容、職務の内容・配置の変更の範囲を踏まえ、支給に差を設けている理由を入力してください","理由を記入できなかった場合や、理由を踏まえて待遇差が不合理と考える場合は、支給における差を改善するための対応策を入力してください"]
["基本給（決定要素）",{"$f":"'【集団 対 集団】データベース'!B23","v":"業務の内容や責任の重さ"},{"$f":"INDEX('【集団 対 集団】データベース'!$C$16:$L$72,MATCH('【集団 対 集団】比較・点検シート'!$B44,'【集団 対 集団】データベース'!$B$16:$B$72,0),MATCH('【集団 対 集団】比較・点検シート'!$C$31,'【集団 対 集団】データベース'!$C$9:$L$9,0))","v":{"$error":"#N/A"}}]
["基本給（決定要素）",{"$f":"'【集団 対 集団】データベース'!B24","v":"仕事の成果や業績"},{"$f":"INDEX('【集団 対 集団】データベース'!$C$16:$L$72,MATCH('【集団 対 集団】比較・点検シート'!$B45,'【集団 対 集団】データベース'!$B$16:$B$72,0),MATCH('【集団 対 集団】比較・点検シート'!$C$31,'【集団 対 集団】データベース'!$C$9:$L$9,0))","v":{"$error":"#N/A"}}]
["基本給（決定要素）",{"$f":"'【集団 対 集団】データベース'!B25","v":"年齢や勤続年数"},{"$f":"INDEX('【集団 対 集団】データベース'!$C$16:$L$72,MATCH('【集団 対 集団】比較・点検シート'!$B46,'【集団 対 集団】データベース'!$B$16:$B$72,0),MATCH('【集団 対 集団】比較・点検シート'!$C$31,'【集団 対 集団】データベース'!$C$9:$L$9,0))","v":{"$error":"#N/A"}}]
["基本給（決定要素）",{"$f":"'【集団 対 集団】データベース'!B26","v":"市場での賃金相場"},{"$f":"INDEX('【集団 対 集団】データベース'!$C$16:$L$72,MATCH('【集団 対 集団】比較・点検シート'!$B47,'【集団 対 集団】データベース'!$B$16:$B$72,0),MATCH('【集団 対 集団】比較・点検シート'!$C$31,'【集団 対 集団】データベース'!$C$9:$L$9,0))","v":{"$error":"#N/A"}}]
["基本給（決定要素）",{"$f":"'【集団 対 集団】データベース'!B27","v":""},{"$f":"INDEX('【集団 対 集団】データベース'!$C$16:$L$72,MATCH('【集団 対 集団】比較・点検シート'!$B48,'【集団 対 集団】データベース'!$B$16:$B$72,0),MATCH('【集団 対 集団】比較・点検シート'!$C$31,'【集団 対 集団】データベース'!$C$9:$L$9,0))","v":{"$error":"#N/A"}}]
["基本給（決定要素）",{"$f":"'【集団 対 集団】データベース'!B28","v":""},{"$f":"INDEX('【集団 対 集団】データベース'!$C$16:$L$72,MATCH('【集団 対 集団】比較・点検シート'!$B49,'【集団 対 集団】データベース'!$B$16:$B$72,0),MATCH('【集団 対 集団】比較・点検シート'!$C$31,'【集団 対 集団】データベース'!$C$9:$L$9,0))","v":{"$error":"#N/A"}}]
["基本給（決定要素）",{"$f":"'【集団 対 集団】データベース'!B29","v":""},{"$f":"INDEX('【集団 対 集団】データベース'!$C$16:$L$72,MATCH('【集団 対 集団】比較・点検シート'!$B50,'【集団 対 集団】データベース'!$B$16:$B$72,0),MATCH('【集団 対 集団】比較・点検シート'!$C$31,'【集団 対 集団】データベース'!$C$9:$L$9,0))","v":{"$error":"#N/A"}}]
["基本給（決定要素）",{"$f":"'【集団 対 集団】データベース'!B30","v":""},{"$f":"INDEX('【集団 対 集団】データベース'!$C$16:$L$72,MATCH('【集団 対 集団】比較・点検シート'!$B51,'【集団 対 集団】データベース'!$B$16:$B$72,0),MATCH('【集団 対 集団】比較・点検シート'!$C$31,'【集団 対 集団】データベース'!$C$9:$L$9,0))","v":{"$error":"#N/A"}}]
["基本給（決定要素）",{"$f":"'【集団 対 集団】データベース'!B31","v":""},{"$f":"INDEX('【集団 対 集団】データベース'!$C$16:$L$72,MATCH('【集団 対 集団】比較・点検シート'!$B52,'【集団 対 集団】データベース'!$B$16:$B$72,0),MATCH('【集団 対 集団】比較・点検シート'!$C$31,'【集団 対 集団】データベース'!$C$9:$L$9,0))","v":{"$error":"#N/A"}}]
["賞与","賞与",{"$f":"INDEX('【集団 対 集団】データベース'!$C$16:$L$72,MATCH('【集団 対 集団】比較・点検シート'!$A53,'【集団 対 集団】データベース'!$A$16:$A$72,0),MATCH('【集団 対 集団】比較・点検シート'!$C$31,'【集団 対 集団】データベース'!$C$9:$L$9,0))","v":{"$error":"#N/A"}}]
["手当",{"$f":"'【集団 対 集団】データベース'!B33","v":""},{"$f":"INDEX('【集団 対 集団】データベース'!$C$16:$L$72,MATCH('【集団 対 集団】比較・点検シート'!$B54,'【集団 対 集団】データベース'!$B$16:$B$72,0),MATCH('【集団 対 集団】比較・点検シート'!$C$31,'【集団 対 集団】データベース'!$C$9:$L$9,0))","v":{"$error":"#N/A"}}]
["手当",{"$f":"'【集団 対 集団】データベース'!B34","v":""},{"$f":"INDEX('【集団 対 集団】データベース'!$C$16:$L$72,MATCH('【集団 対 集団】比較・点検シート'!$B55,'【集団 対 集団】データベース'!$B$16:$B$72,0),MATCH('【集団 対 集団】比較・点検シート'!$C$31,'【集団 対 集団】データベース'!$C$9:$L$9,0))","v":{"$error":"#N/A"}}]
["手当",{"$f":"'【集団 対 集団】データベース'!B35","v":""},{"$f":"INDEX('【集団 対 集団】データベース'!$C$16:$L$72,MATCH('【集団 対 集団】比較・点検シート'!$B56,'【集団 対 集団】データベース'!$B$16:$B$72,0),MATCH('【集団 対 集団】比較・点検シート'!$C$31,'【集団 対 集団】データベース'!$C$9:$L$9,0))","v":{"$error":"#N/A"}}]
["手当",{"$f":"'【集団 対 集団】データベース'!B36","v":""},{"$f":"INDEX('【集団 対 集団】データベース'!$C$16:$L$72,MATCH('【集団 対 集団】比較・点検シート'!$B57,'【集団 対 集団】データベース'!$B$16:$B$72,0),MATCH('【集団 対 集団】比較・点検シート'!$C$31,'【集団 対 集団】データベース'!$C$9:$L$9,0))","v":{"$error":"#N/A"}}]
["手当",{"$f":"'【集団 対 集団】データベース'!B37","v":""},{"$f":"INDEX('【集団 対 集団】データベース'!$C$16:$L$72,MATCH('【集団 対 集団】比較・点検シート'!$B58,'【集団 対 集団】データベース'!$B$16:$B$72,0),MATCH('【集団 対 集団】比較・点検シート'!$C$31,'【集団 対 集団】データベース'!$C$9:$L$9,0))","v":{"$error":"#N/A"}}]
["手当",{"$f":"'【集団 対 集団】データベース'!B38","v":""},{"$f":"INDEX('【集団 対 集団】データベース'!$C$16:$L$72,MATCH('【集団 対 集団】比較・点検シート'!$B59,'【集団 対 集団】データベース'!$B$16:$B$72,0),MATCH('【集団 対 集団】比較・点検シート'!$C$31,'【集団 対 集団】データベース'!$C$9:$L$9,0))","v":{"$error":"#N/A"}}]
["手当",{"$f":"'【集団 対 集団】データベース'!B39","v":""},{"$f":"INDEX('【集団 対 集団】データベース'!$C$16:$L$72,MATCH('【集団 対 集団】比較・点検シート'!$B60,'【集団 対 集団】データベース'!$B$16:$B$72,0),MATCH('【集団 対 集団】比較・点検シート'!$C$31,'【集団 対 集団】データベース'!$C$9:$L$9,0))","v":{"$error":"#N/A"}}]
["手当",{"$f":"'【集団 対 集団】データベース'!B40","v":""},{"$f":"INDEX('【集団 対 集団】データベース'!$C$16:$L$72,MATCH('【集団 対 集団】比較・点検シート'!$B61,'【集団 対 集団】データベース'!$B$16:$B$72,0),MATCH('【集団 対 集団】比較・点検シート'!$C$31,'【集団 対 集団】データベース'!$C$9:$L$9,0))","v":{"$error":"#N/A"}}]
["手当",{"$f":"'【集団 対 集団】データベース'!B41","v":""},{"$f":"INDEX('【集団 対 集団】データベース'!$C$16:$L$72,MATCH('【集団 対 集団】比較・点検シート'!$B62,'【集団 対 集団】データベース'!$B$16:$B$72,0),MATCH('【集団 対 集団】比較・点検シート'!$C$31,'【集団 対 集団】データベース'!$C$9:$L$9,0))","v":{"$error":"#N/A"}}]
["手当",{"$f":"'【集団 対 集団】データベース'!B42","v":""},{"$f":"INDEX('【集団 対 集団】データベース'!$C$16:$L$72,MATCH('【集団 対 集団】比較・点検シート'!$B63,'【集団 対 集団】データベース'!$B$16:$B$72,0),MATCH('【集団 対 集団】比較・点検シート'!$C$31,'【集団 対 集団】データベース'!$C$9:$L$9,0))","v":{"$error":"#N/A"}}]
["手当",{"$f":"'【集団 対 集団】データベース'!B43","v":""},{"$f":"INDEX('【集団 対 集団】データベース'!$C$16:$L$72,MATCH('【集団 対 集団】比較・点検シート'!$B64,'【集団 対 集団】データベース'!$B$16:$B$72,0),MATCH('【集団 対 集団】比較・点検シート'!$C$31,'【集団 対 集団】データベース'!$C$9:$L$9,0))","v":{"$error":"#N/A"}}]
["手当",{"$f":"'【集団 対 集団】データベース'!B44","v":""},{"$f":"INDEX('【集団 対 集団】データベース'!$C$16:$L$72,MATCH('【集団 対 集団】比較・点検シート'!$B65,'【集団 対 集団】データベース'!$B$16:$B$72,0),MATCH('【集団 対 集団】比較・点検シート'!$C$31,'【集団 対 集団】データベース'!$C$9:$L$9,0))","v":{"$error":"#N/A"}}]
["手当",{"$f":"'【集団 対 集団】データベース'!B45","v":""},{"$f":"INDEX('【集団 対 集団】データベース'!$C$16:$L$72,MATCH('【集団 対 集団】比較・点検シート'!$B66,'【集団 対 集団】データベース'!$B$16:$B$72,0),MATCH('【集団 対 集団】比較・点検シート'!$C$31,'【集団 対 集団】データベース'!$C$9:$L$9,0))","v":{"$error":"#N/A"}}]
["手当",{"$f":"'【集団 対 集団】データベース'!B46","v":""},{"$f":"INDEX('【集団 対 集団】データベース'!$C$16:$L$72,MATCH('【集団 対 集団】比較・点検シート'!$B67,'【集団 対 集団】データベース'!$B$16:$B$72,0),MATCH('【集団 対 集団】比較・点検シート'!$C$31,'【集団 対 集団】データベース'!$C$9:$L$9,0))","v":{"$error":"#N/A"}}]
["手当",{"$f":"'【集団 対 集団】データベース'!B47","v":""},{"$f":"INDEX('【集団 対 集団】データベース'!$C$16:$L$72,MATCH('【集団 対 集団】比較・点検シート'!$B68,'【集団 対 集団】データベース'!$B$16:$B$72,0),MATCH('【集団 対 集団】比較・点検シート'!$C$31,'【集団 対 集団】データベース'!$C$9:$L$9,0))","v":{"$error":"#N/A"}}]
["福利厚生その他",{"$f":"'【集団 対 集団】データベース'!B48","v":"給食施設（食堂）"},{"$f":"INDEX('【集団 対 集団】データベース'!$C$16:$L$72,MATCH('【集団 対 集団】比較・点検シート'!$B69,'【集団 対 集団】データベース'!$B$16:$B$72,0),MATCH('【集団 対 集団】比較・点検シート'!$C$31,'【集団 対 集団】データベース'!$C$9:$L$9,0))","v":{"$error":"#N/A"}}]
["福利厚生その他",{"$f":"'【集団 対 集団】データベース'!B49","v":"休憩室"},{"$f":"INDEX('【集団 対 集団】データベース'!$C$16:$L$72,MATCH('【集団 対 集団】比較・点検シート'!$B70,'【集団 対 集団】データベース'!$B$16:$B$72,0),MATCH('【集団 対 集団】比較・点検シート'!$C$31,'【集団 対 集団】データベース'!$C$9:$L$9,0))","v":{"$error":"#N/A"}}]
["福利厚生その他",{"$f":"'【集団 対 集団】データベース'!B50","v":"更衣室"},{"$f":"INDEX('【集団 対 集団】データベース'!$C$16:$L$72,MATCH('【集団 対 集団】比較・点検シート'!$B71,'【集団 対 集団】データベース'!$B$16:$B$72,0),MATCH('【集団 対 集団】比較・点検シート'!$C$31,'【集団 対 集団】データベース'!$C$9:$L$9,0))","v":{"$error":"#N/A"}}]
["福利厚生その他",{"$f":"'【集団 対 集団】データベース'!B51","v":""},{"$f":"INDEX('【集団 対 集団】データベース'!$C$16:$L$72,MATCH('【集団 対 集団】比較・点検シート'!$B72,'【集団 対 集団】データベース'!$B$16:$B$72,0),MATCH('【集団 対 集団】比較・点検シート'!$C$31,'【集団 対 集団】データベース'!$C$9:$L$9,0))","v":{"$error":"#N/A"}}]
["福利厚生その他",{"$f":"'【集団 対 集団】データベース'!B52","v":""},{"$f":"INDEX('【集団 対 集団】データベース'!$C$16:$L$72,MATCH('【集団 対 集団】比較・点検シート'!$B73,'【集団 対 集団】データベース'!$B$16:$B$72,0),MATCH('【集団 対 集団】比較・点検シート'!$C$31,'【集団 対 集団】データベース'!$C$9:$L$9,0))","v":{"$error":"#N/A"}}]
["福利厚生その他",{"$f":"'【集団 対 集団】データベース'!B53","v":""},{"$f":"INDEX('【集団 対 集団】データベース'!$C$16:$L$72,MATCH('【集団 対 集団】比較・点検シート'!$B74,'【集団 対 集団】データベース'!$B$16:$B$72,0),MATCH('【集団 対 集団】比較・点検シート'!$C$31,'【集団 対 集団】データベース'!$C$9:$L$9,0))","v":{"$error":"#N/A"}}]
["福利厚生その他",{"$f":"'【集団 対 集団】データベース'!B54","v":""},{"$f":"INDEX('【集団 対 集団】データベース'!$C$16:$L$72,MATCH('【集団 対 集団】比較・点検シート'!$B75,'【集団 対 集団】データベース'!$B$16:$B$72,0),MATCH('【集団 対 集団】比較・点検シート'!$C$31,'【集団 対 集団】データベース'!$C$9:$L$9,0))","v":{"$error":"#N/A"}}]
["福利厚生その他",{"$f":"'【集団 対 集団】データベース'!B55","v":""},{"$f":"INDEX('【集団 対 集団】データベース'!$C$16:$L$72,MATCH('【集団 対 集団】比較・点検シート'!$B76,'【集団 対 集団】データベース'!$B$16:$B$72,0),MATCH('【集団 対 集団】比較・点検シート'!$C$31,'【集団 対 集団】データベース'!$C$9:$L$9,0))","v":{"$error":"#N/A"}}]
["福利厚生その他",{"$f":"'【集団 対 集団】データベース'!B56","v":""},{"$f":"INDEX('【集団 対 集団】データベース'!$C$16:$L$72,MATCH('【集団 対 集団】比較・点検シート'!$B77,'【集団 対 集団】データベース'!$B$16:$B$72,0),MATCH('【集団 対 集団】比較・点検シート'!$C$31,'【集団 対 集団】データベース'!$C$9:$L$9,0))","v":{"$error":"#N/A"}}]
["福利厚生その他",{"$f":"'【集団 対 集団】データベース'!B57","v":""},{"$f":"INDEX('【集団 対 集団】データベース'!$C$16:$L$72,MATCH('【集団 対 集団】比較・点検シート'!$B78,'【集団 対 集団】データベース'!$B$16:$B$72,0),MATCH('【集団 対 集団】比較・点検シート'!$C$31,'【集団 対 集団】データベース'!$C$9:$L$9,0))","v":{"$error":"#N/A"}}]
["福利厚生その他",{"$f":"'【集団 対 集団】データベース'!B58","v":""},{"$f":"INDEX('【集団 対 集団】データベース'!$C$16:$L$72,MATCH('【集団 対 集団】比較・点検シート'!$B79,'【集団 対 集団】データベース'!$B$16:$B$72,0),MATCH('【集団 対 集団】比較・点検シート'!$C$31,'【集団 対 集団】データベース'!$C$9:$L$9,0))","v":{"$error":"#N/A"}}]
["福利厚生その他",{"$f":"'【集団 対 集団】データベース'!B59","v":""},{"$f":"INDEX('【集団 対 集団】データベース'!$C$16:$L$72,MATCH('【集団 対 集団】比較・点検シート'!$B80,'【集団 対 集団】データベース'!$B$16:$B$72,0),MATCH('【集団 対 集団】比較・点検シート'!$C$31,'【集団 対 集団】データベース'!$C$9:$L$9,0))","v":{"$error":"#N/A"}}]
["福利厚生その他",{"$f":"'【集団 対 集団】データベース'!B60","v":""},{"$f":"INDEX('【集団 対 集団】データベース'!$C$16:$L$72,MATCH('【集団 対 集団】比較・点検シート'!$B81,'【集団 対 集団】データベース'!$B$16:$B$72,0),MATCH('【集団 対 集団】比較・点検シート'!$C$31,'【集団 対 集団】データベース'!$C$9:$L$9,0))","v":{"$error":"#N/A"}}]
["福利厚生その他",{"$f":"'【集団 対 集団】データベース'!B61","v":""},{"$f":"INDEX('【集団 対 集団】データベース'!$C$16:$L$72,MATCH('【集団 対 集団】比較・点検シート'!$B82,'【集団 対 集団】データベース'!$B$16:$B$72,0),MATCH('【集団 対 集団】比較・点検シート'!$C$31,'【集団 対 集団】データベース'!$C$9:$L$9,0))","v":{"$error":"#N/A"}}]
["福利厚生その他",{"$f":"'【集団 対 集団】データベース'!B62","v":""},{"$f":"INDEX('【集団 対 集団】データベース'!$C$16:$L$72,MATCH('【集団 対 集団】比較・点検シート'!$B83,'【集団 対 集団】データベース'!$B$16:$B$72,0),MATCH('【集団 対 集団】比較・点検シート'!$C$31,'【集団 対 集団】データベース'!$C$9:$L$9,0))","v":{"$error":"#N/A"}}]
["福利厚生その他",{"$f":"'【集団 対 集団】データベース'!B63","v":""},{"$f":"INDEX('【集団 対 集団】データベース'!$C$16:$L$72,MATCH('【集団 対 集団】比較・点検シート'!$B84,'【集団 対 集団】データベース'!$B$16:$B$72,0),MATCH('【集団 対 集団】比較・点検シート'!$C$31,'【集団 対 集団】データベース'!$C$9:$L$9,0))","v":{"$error":"#N/A"}}]
["福利厚生その他",{"$f":"'【集団 対 集団】データベース'!B64","v":""},{"$f":"INDEX('【集団 対 集団】データベース'!$C$16:$L$72,MATCH('【集団 対 集団】比較・点検シート'!$B85,'【集団 対 集団】データベース'!$B$16:$B$72,0),MATCH('【集団 対 集団】比較・点検シート'!$C$31,'【集団 対 集団】データベース'!$C$9:$L$9,0))","v":{"$error":"#N/A"}}]
["福利厚生その他",{"$f":"'【集団 対 集団】データベース'!B65","v":""},{"$f":"INDEX('【集団 対 集団】データベース'!$C$16:$L$72,MATCH('【集団 対 集団】比較・点検シート'!$B86,'【集団 対 集団】データベース'!$B$16:$B$72,0),MATCH('【集団 対 集団】比較・点検シート'!$C$31,'【集団 対 集団】データベース'!$C$9:$L$9,0))","v":{"$error":"#N/A"}}]
["福利厚生その他",{"$f":"'【集団 対 集団】データベース'!B66","v":""},{"$f":"INDEX('【集団 対 集団】データベース'!$C$16:$L$72,MATCH('【集団 対 集団】比較・点検シート'!$B87,'【集団 対 集団】データベース'!$B$16:$B$72,0),MATCH('【集団 対 集団】比較・点検シート'!$C$31,'【集団 対 集団】データベース'!$C$9:$L$9,0))","v":{"$error":"#N/A"}}]
["福利厚生その他",{"$f":"'【集団 対 集団】データベース'!B67","v":""},{"$f":"INDEX('【集団 対 集団】データベース'!$C$16:$L$72,MATCH('【集団 対 集団】比較・点検シート'!$B88,'【集団 対 集団】データベース'!$B$16:$B$72,0),MATCH('【集団 対 集団】比較・点検シート'!$C$31,'【集団 対 集団】データベース'!$C$9:$L$9,0))","v":{"$error":"#N/A"}}]
["福利厚生その他",{"$f":"'【集団 対 集団】データベース'!B68","v":""},{"$f":"INDEX('【集団 対 集団】データベース'!$C$16:$L$72,MATCH('【集団 対 集団】比較・点検シート'!$B89,'【集団 対 集団】データベース'!$B$16:$B$72,0),MATCH('【集団 対 集団】比較・点検シート'!$C$31,'【集団 対 集団】データベース'!$C$9:$L$9,0))","v":{"$error":"#N/A"}}]
["福利厚生その他",{"$f":"'【集団 対 集団】データベース'!B69","v":""},{"$f":"INDEX('【集団 対 集団】データベース'!$C$16:$L$72,MATCH('【集団 対 集団】比較・点検シート'!$B90,'【集団 対 集団】データベース'!$B$16:$B$72,0),MATCH('【集団 対 集団】比較・点検シート'!$C$31,'【集団 対 集団】データベース'!$C$9:$L$9,0))","v":{"$error":"#N/A"}}]
["福利厚生その他",{"$f":"'【集団 対 集団】データベース'!B70","v":""},{"$f":"INDEX('【集団 対 集団】データベース'!$C$16:$L$72,MATCH('【集団 対 集団】比較・点検シート'!$B91,'【集団 対 集団】データベース'!$B$16:$B$72,0),MATCH('【集団 対 集団】比較・点検シート'!$C$31,'【集団 対 集団】データベース'!$C$9:$L$9,0))","v":{"$error":"#N/A"}}]
["福利厚生その他",{"$f":"'【集団 対 集団】データベース'!B71","v":""},{"$f":"INDEX('【集団 対 集団】データベース'!$C$16:$L$72,MATCH('【集団 対 集団】比較・点検シート'!$B92,'【集団 対 集団】データベース'!$B$16:$B$72,0),MATCH('【集団 対 集団】比較・点検シート'!$C$31,'【集団 対 集団】データベース'!$C$9:$L$9,0))","v":{"$error":"#N/A"}}]
["福利厚生その他",{"$f":"'【集団 対 集団】データベース'!B72","v":""},{"$f":"INDEX('【集団 対 集団】データベース'!$C$16:$L$72,MATCH('【集団 対 集団】比較・点検シート'!$B93,'【集団 対 集団】データベース'!$B$16:$B$72,0),MATCH('【集団 対 集団】比較・点検シート'!$C$31,'【集団 対 集団】データベース'!$C$9:$L$9,0))","v":{"$error":"#N/A"}}]

{"sheet":"【集団 対 集団】データベース","index":6,"n_rows":72,"n_cols":315,"rows_kept":72,"cut":false,"hidden":false,"merged":[[29,285,29,287],[30,285,30,287],[29,288,29,290],[30,288,30,290],[29,291,29,293],[30,291,30,293],[29,294,29,296],[30,294,30,296],[29,297,29,299],[30,297,30,299],[29,300,29,302],[30,300,30,302],[25,285,25,287],[26,285,26,287],[25,288,25,290],[26,288,26,290],[25,291,25,293],[26,291,26,293],[25,294,25,296],[26,294,26,296],[25,297,25,299],[26,297,26,299],[25,300,25,302],[26,300,26,302],[27,285,27,287],[28,285,28,287],[27,288,27,290],[28,288,28,290],[27,291,27,293],[28,291,28,293],[27,294,27,296],[28,294,28,296],[27,297,27,299],[28,297,28,299],[27,300,27,302],[28,300,28,302],[22,288,22,290],[21,291,21,293],[22,291,22,293],[21,294,21,296],[22,294,22,296],[21,297,21,299],[22,297,22,299],[21,300,21,302],[22,300,22,302],[23,285,23,287],[24,285,24,287],[23,288,23,290],[24,288,24,290],[23,291,23,293],[24,291,24,293],[23,294,23,296],[24,294,24,296],[23,297,23,299],[24,297,24,299],[23,300,23,302],[24,300,24,302],[12,312,12,314],[13,285,13,287],[14,285,14,287],[13,288,13,290],[14,288,14,290],[13,291,13,293],[14,291,14,293],[13,294,13,296],[14,294,14,296],[13,297,13,299],[14,297,14,299],[13,300,13,302],[14,300,14,302],[15,285,15,287],[16,285,16,287],[15,288,15,290],[16,288,16,290],[15,291,15,293],[16,291,16,293],[15,294,15,296],[16,294,16,296],[15,297,15,299],[16,297,16,299],[15,300,15,302],[16,300,16,302],[13,303,13,305],[14,303,14,305],[15,303,15,305],[16,303,16,305],[12,309,12,311],[13,309,13,311],[14,309,14,311],[27,255,27,257],[28,255,28,257],[27,261,27,263],[28,261,28,263],[27,267,27,269],[28,267,28,269],[27,273,27,275],[28,273,28,275],[27,279,27,281],[28,279,28,281],[12,285,12,287],[12,288,12,290],[12,291,12,293],[12,294,12,296],[12,297,12,299],[12,300,12,302],[12,303,12,305],[17,285,17,287],[18,285,18,287],[17,288,17,290],[18,288,18,290],[17,291,17,293],[18,291,18,293],[17,294,17,296],[18,294,18,296],[17,297,17,299],[18,297,18,299],[17,300,17,302],[18,300,18,302],[21,285,21,287],[22,285,22,287],[21,288,21,290],[27,195,27,197],[28,195,28,197],[27,201,27,203],[28,201,28,203],[27,207,27,209],[28,207,28,209],[27,213,27,215],[28,213,28,215],[27,219,27,221],[28,219,28,221],[12,225,12,227],[12,231,12,233],[12,237,12,239],[12,243,12,245],[12,249,12,251],[13,225,13,227],[14,225,14,227],[13,231,13,233],[14,231,14,233],[13,237,13,239],[14,237,14,239],[13,243,13,245],[14,243,14,245],[13,249,13,251],[14,249,14,251],[15,225,15,227],[16,225,16,227],[15,231,15,233],[16,231,16,233],[15,237,15,239],[16,237,16,239],[15,243,15,245],[27,135,27,137],[28,135,28,137],[27,141,27,143],[28,141,28,143],[27,147,27,149],[28,147,28,149],[27,153,27,155],[28,153,28,155],[27,159,27,161],[28,159,28,161],[12,165,12,167],[12,171,12,173],[12,177,12,179],[12,183,12,185],[12,189,12,191],[13,165,13,167],[14,165,14,167],[13,171,13,173],[14,171,14,173],[13,177,13,179],[14,177,14,179],[13,183,13,185],[14,183,14,185],[13,189,13,191],[14,189,14,191],[15,165,15,167],[16,165,16,167],[15,171,15,173],[16,171,16,173],[15,177,15,179],[16,177,16,179],[15,183,15,185],[27,99,27,101],[28,99,28,101],[12,105,12,107],[12,111,12,113],[12,117,12,119],[12,123,12,125],[12,129,12,131],[13,105,13,107],[14,105,14,107],[13,111,13,113],[14,111,14,113],[13,117,13,119],[14,117,14,119],[13,123,13,125],[14,123,14,125],[13,129,13,131],[14,129,14,131],[15,105,15,107],[16,105,16,107],[15,111,15,113],[16,111,16,113],[15,117,15,119],[16,117,16,119],[15,123,15,125],[15,63,15,65],[16,63,16,65],[15,69,15,71],[16,69,16,71],[17,45,17,47],[18,45,18,47],[17,51,17,53],[27,81,27,83],[28,81,28,83],[27,87,27,89],[28,87,28,89],[27,93,27,95],[28,93,28,95],[20,84,20,86],[20,87,20,89],[20,90,20,92],[20,93,20,95],[20,75,20,77],[20,78,20,80],[20,81,20,83],[18,51,18,53],[21,51,21,53],[22,51,22,53],[23,51,23,53],[24,51,24,53],[25,51,25,53],[26,51,26,53],[27,51,27,53],[28,51,28,53],[24,57,24,59],[15,13,18,13],[15,0,18,0],[7,15,7,17],[8,15,8,17],[12,15,12,17],[13,15,13,17],[14,15,14,17],[15,15,15,17],[16,15,16,17],[17,15,17,17],[18,15,18,17],[7,18,7,20],[12,21,12,23],[13,21,13,23],[14,21,14,23],[15,21,15,23],[16,21,16,23],[17,21,17,23],[8,18,8,20],[7,21,7,23],[8,21,8,23],[9,15,9,17],[9,18,9,20],[11,0,14,0],[11,13,14,13],[10,15,10,17],[11,15,11,17],[10,21,10,23],[7,24,7,26],[8,24,8,26],[7,27,7,29],[8,27,8,29],[7,30,7,32],[8,30,8,32],[7,33,7,35],[8,33,8,35],[7,36,7,38],[8,36,8,38],[7,39,7,41],[8,39,8,41],[7,42,7,44],[8,42,8,44],[7,45,7,47],[8,45,8,47],[7,48,7,50],[8,48,8,50],[7,51,7,53],[8,51,8,53],[7,54,7,56],[8,54,8,56],[7,57,7,59],[8,57,8,59],[7,60,7,62],[8,60,8,62],[7,63,7,65],[8,63,8,65],[7,66,7,68],[8,66,8,68],[7,69,7,71],[8,69,8,71],[7,72,7,74],[8,72,8,74],[7,75,7,77],[8,75,8,77],[7,78,7,80],[8,78,8,80],[7,81,7,83],[8,81,8,83],[7,84,7,86],[8,84,8,86],[7,87,7,89],[8,87,8,89],[7,90,7,92],[8,90,8,92],[7,93,7,95],[8,93,8,95],[7,96,7,98],[8,96,8,98],[7,99,7,101],[8,99,8,101],[7,102,7,104],[8,102,8,104],[7,105,7,107],[8,105,8,107],[7,108,7,110],[8,108,8,110],[7,111,7,113],[8,111,8,113],[7,114,7,116],[8,114,8,116],[7,117,7,119],[8,117,8,119],[7,120,7,122],[8,120,8,122],[7,123,7,125],[8,123,8,125],[7,126,7,128],[8,126,8,128],[7,129,7,131],[8,129,8,131],[7,132,7,134],[8,132,8,134],[7,135,7,137],[8,135,8,137],[7,138,7,140],[8,138,8,140],[7,141,7,143],[8,141,8,143],[7,144,7,146],[8,144,8,146],[7,147,7,149],[8,147,8,149],[7,150,7,152],[8,150,8,152],[7,153,7,155],[8,153,8,155],[7,156,7,158],[8,156,8,158],[7,159,7,161],[8,159,8,161],[7,162,7,164],[8,162,8,164],[7,165,7,167],[8,165,8,167],[7,168,7,170],[8,168,8,170],[7,171,7,173],[8,171,8,173],[7,174,7,176],[8,174,8,176],[7,177,7,179],[8,177,8,179],[7,180,7,182],[8,180,8,182],[7,183,7,185],[8,183,8,185],[7,186,7,188],[8,186,8,188],[7,189,7,191],[8,189,8,191],[7,192,7,194],[8,192,8,194],[7,195,7,197],[8,195,8,197],[7,198,7,200],[8,198,8,200],[7,201,7,203],[8,201,8,203],[7,204,7,206],[8,204,8,206],[7,207,7,209],[8,207,8,209],[7,210,7,212],[8,210,8,212],[7,213,7,215],[8,213,8,215],[7,216,7,218],[8,216,8,218],[7,219,7,221],[8,219,8,221],[7,222,7,224],[8,222,8,224],[7,225,7,227],[8,225,8,227],[7,228,7,230],[8,228,8,230],[7,231,7,233],[8,231,8,233],[7,234,7,236],[8,234,8,236],[7,237,7,239],[8,237,8,239],[8,276,8,278],[7,279,7,281],[8,279,8,281],[7,282,7,284],[8,282,8,284],[7,285,7,287],[8,285,8,287],[7,288,7,290],[8,288,8,290],[7,291,7,293],[8,291,8,293],[7,240,7,242],[8,240,8,242],[7,243,7,245],[8,243,8,245],[7,246,7,248],[8,246,8,248],[7,249,7,251],[8,249,8,251],[7,252,7,254],[8,252,8,254],[7,255,7,257],[8,255,8,257],[7,258,7,260],[8,258,8,260],[7,261,7,263],[8,261,8,263],[7,264,7,266],[8,264,8,266],[7,294,7,296],[8,294,8,296],[7,297,7,299],[8,297,8,299],[8,300,8,302],[7,300,7,302],[7,303,7,305],[8,303,8,305],[7,306,7,308],[8,306,8,308],[7,309,7,311],[8,309,8,311],[7,312,7,314],[8,312,8,314],[18,21,18,23],[13,27,13,29],[14,27,14,29],[15,27,15,29],[16,27,16,29],[17,27,17,29],[18,27,18,29],[14,33,14,35],[15,33,15,35],[7,267,7,269],[8,267,8,269],[7,270,7,272],[8,270,8,272],[7,273,7,275],[8,273,8,275],[7,276,7,278],[16,33,16,35],[17,33,17,35],[20,21,20,23],[20,24,20,26],[21,22,30,22],[21,23,30,23],[12,18,12,20],[13,18,13,20],[14,18,14,20],[15,18,15,20],[16,18,16,20],[17,18,17,20],[18,18,18,20],[20,18,20,20],[20,15,20,17],[21,16,30,16],[21,17,30,17],[21,19,30,19],[21,20,30,20],[12,24,12,26],[13,24,13,26],[14,24,14,26],[15,24,15,26],[16,24,16,26],[17,24,17,26],[18,24,18,26],[21,24,21,26],[22,24,22,26],[23,24,23,26],[24,24,24,26],[25,24,25,26],[26,24,26,26],[27,24,27,26],[28,24,28,26],[29,24,29,26],[30,24,30,26],[24,27,24,29],[25,27,25,29],[26,27,26,29],[27,27,27,29],[28,27,28,29],[29,27,29,29],[30,27,30,29],[12,30,12,32],[13,30,13,32],[14,30,14,32],[15,30,15,32],[16,30,16,32],[17,30,17,32],[18,30,18,32],[21,30,21,32],[22,30,22,32],[23,30,23,32],[24,30,24,32],[25,30,25,32],[26,30,26,32],[27,30,27,32],[28,30,28,32],[29,30,29,32],[12,27,12,29],[30,30,30,32],[20,27,20,29],[20,30,20,32],[21,27,21,29],[22,27,22,29],[23,27,23,29],[18,33,18,35],[21,33,21,35],[22,33,22,35],[23,33,23,35],[24,33,24,35],[25,33,25,35],[26,33,26,35],[27,33,27,35],[28,33,28,35],[29,33,29,35],[30,33,30,35],[12,36,12,38],[13,36,13,38],[14,36,14,38],[15,36,15,38],[16,36,16,38],[17,36,17,38],[18,36,18,38],[21,36,21,38],[22,36,22,38],[23,36,23,38],[24,36,24,38],[25,36,25,38],[26,36,26,38],[27,36,27,38],[28,36,28,38],[29,36,29,38],[30,36,30,38],[12,33,12,35],[13,33,13,35],[12,39,12,41],[13,39,13,41],[14,39,14,41],[15,39,15,41],[16,39,16,41],[17,39,17,41],[18,39,18,41],[21,39,21,41],[22,39,22,41],[23,39,23,41],[24,39,24,41],[25,39,25,41],[26,39,26,41],[27,39,27,41],[28,39,28,41],[29,39,29,41],[30,39,30,41],[12,42,12,44],[13,42,13,44],[14,42,14,44],[15,42,15,44],[16,42,16,44],[17,42,17,44],[18,42,18,44],[21,42,21,44],[22,42,22,44],[23,42,23,44],[24,42,24,44],[25,42,25,44],[26,42,26,44],[27,42,27,44],[28,42,28,44],[29,42,29,44],[30,42,30,44],[12,48,12,50],[13,48,13,50],[14,48,14,50],[15,48,15,50],[16,48,16,50],[17,48,17,50],[18,48,18,50],[16,51,16,53],[17,57,17,59],[18,57,18,59],[21,57,21,59],[22,57,22,59],[23,57,23,59],[12,45,12,47],[13,45,13,47],[14,45,14,47],[15,45,15,47],[16,45,16,47],[15,57,15,59],[16,57,16,59],[25,57,25,59],[26,57,26,59],[27,57,27,59],[28,57,28,59],[12,57,12,59],[13,57,13,59],[14,57,14,59],[29,51,29,53],[30,51,30,53],[12,54,12,56],[13,54,13,56],[14,54,14,56],[15,54,15,56],[16,54,16,56],[17,54,17,56],[18,54,18,56],[21,54,21,56],[22,54,22,56],[23,54,23,56],[24,54,24,56],[25,54,25,56],[26,54,26,56],[27,54,27,56],[28,54,28,56],[29,54,29,56],[30,54,30,56],[12,51,12,53],[13,51,13,53],[14,51,14,53],[15,51,15,53],[17,63,17,65],[18,63,18,65],[21,63,21,65],[22,63,22,65],[23,63,23,65],[24,63,24,65],[25,63,25,65],[26,63,26,65],[27,63,27,65],[28,63,28,65],[12,63,12,65],[13,63,13,65],[14,63,14,65],[29,57,29,59],[30,57,30,59],[12,60,12,62],[13,60,13,62],[14,60,14,62],[15,60,15,62],[16,60,16,62],[17,60,17,62],[18,60,18,62],[21,60,21,62],[22,60,22,62],[23,60,23,62],[24,60,24,62],[25,60,25,62],[26,60,26,62],[27,60,27,62],[28,60,28,62],[29,60,29,62],[30,60,30,62],[17,69,17,71],[18,69,18,71],[21,69,21,71],[22,69,22,71],[23,69,23,71],[24,69,24,71],[25,69,25,71],[26,69,26,71],[27,69,27,71],[28,69,28,71],[12,69,12,71],[13,69,13,71],[14,69,14,71],[29,63,29,65],[30,63,30,65],[12,66,12,68],[13,66,13,68],[14,66,14,68],[15,66,15,68],[16,66,16,68],[17,66,17,68],[18,66,18,68],[21,66,21,68],[22,66,22,68],[23,66,23,68],[24,66,24,68],[25,66,25,68],[26,66,26,68],[27,66,27,68],[28,66,28,68],[29,66,29,68],[30,66,30,68],[13,78,13,80],[14,78,14,80],[15,78,15,80],[16,78,16,80],[17,78,17,80],[18,78,18,80],[12,75,12,77],[13,75,13,77],[14,75,14,77],[15,75,15,77],[16,75,16,77],[17,75,17,77],[18,75,18,77],[29,69,29,71],[30,69,30,71],[12,72,12,74],[13,72,13,74],[14,72,14,74],[15,72,15,74],[16,72,16,74],[17,72,17,74],[18,72,18,74],[21,72,21,74],[22,72,22,74],[23,72,23,74],[24,72,24,74],[25,72,25,74],[26,72,26,74],[27,72,27,74],[28,72,28,74],[29,72,29,74],[30,72,30,74],[29,81,29,83],[30,81,30,83],[12,84,12,86],[13,84,13,86],[14,84,14,86],[15,84,15,86],[16,84,16,86],[17,84,17,86],[18,84,18,86],[21,84,21,86],[22,84,22,86],[23,84,23,86],[24,84,24,86],[25,84,25,86],[26,84,26,86],[27,84,27,86],[28,84,28,86],[29,84,29,86],[30,84,30,86],[12,81,12,83],[13,81,13,83],[14,81,14,83],[15,81,15,83],[16,81,16,83],[17,81,17,83],[18,81,18,83],[21,81,21,83],[22,81,22,83],[23,81,23,83],[24,81,24,83],[25,81,25,83],[26,81,26,83],[29,87,29,89],[30,87,30,89],[12,90,12,92],[13,90,13,92],[14,90,14,92],[15,90,15,92],[16,90,16,92],[17,90,17,92],[18,90,18,92],[21,90,21,92],[22,90,22,92],[23,90,23,92],[24,90,24,92],[25,90,25,92],[26,90,26,92],[27,90,27,92],[28,90,28,92],[29,90,29,92],[30,90,30,92],[12,87,12,89],[13,87,13,89],[14,87,14,89],[15,87,15,89],[16,87,16,89],[17,87,17,89],[18,87,18,89],[21,87,21,89],[22,87,22,89],[23,87,23,89],[24,87,24,89],[25,87,25,89],[26,87,26,89],[29,93,29,95],[30,93,30,95],[12,96,12,98],[13,96,13,98],[14,96,14,98],[15,96,15,98],[16,96,16,98],[17,96,17,98],[18,96,18,98],[21,96,21,98],[22,96,22,98],[23,96,23,98],[24,96,24,98],[25,96,25,98],[26,96,26,98],[27,96,27,98],[28,96,28,98],[29,96,29,98],[30,96,30,98],[12,93,12,95],[13,93,13,95],[14,93,14,95],[15,93,15,95],[16,93,16,95],[17,93,17,95],[18,93,18,95],[21,93,21,95],[22,93,22,95],[23,93,23,95],[24,93,24,95],[25,93,25,95],[26,93,26,95],[29,99,29,101],[30,99,30,101],[12,102,12,104],[13,102,13,104],[14,102,14,104],[15,102,15,104],[16,102,16,104],[17,102,17,104],[18,102,18,104],[21,102,21,104],[22,102,22,104],[23,102,23,104],[24,102,24,104],[25,102,25,104],[26,102,26,104],[27,102,27,104],[28,102,28,104],[29,102,29,104],[30,102,30,104],[12,99,12,101],[13,99,13,101],[14,99,14,101],[15,99,15,101],[16,99,16,101],[17,99,17,101],[18,99,18,101],[21,99,21,101],[22,99,22,101],[23,99,23,101],[24,99,24,101],[25,99,25,101],[26,99,26,101],[29,105,29,107],[30,105,30,107],[12,108,12,110],[13,108,13,110],[14,108,14,110],[15,108,15,110],[16,108,16,110],[17,108,17,110],[18,108,18,110],[21,108,21,110],[22,108,22,110],[23,108,23,110],[24,108,24,110],[25,108,25,110],[26,108,26,110],[27,108,27,110],[28,108,28,110],[29,108,29,110],[30,108,30,110],[17,105,17,107],[18,105,18,107],[21,105,21,107],[22,105,22,107],[23,105,23,107],[24,105,24,107],[25,105,25,107],[26,105,26,107],[27,105,27,107],[28,105,28,107],[29,111,29,113],[30,111,30,113],[12,114,12,116],[13,114,13,116],[14,114,14,116],[15,114,15,116],[16,114,16,116],[17,114,17,116],[18,114,18,116],[21,114,21,116],[22,114,22,116],[23,114,23,116],[24,114,24,116],[25,114,25,116],[26,114,26,116],[27,114,27,116],[28,114,28,116],[29,114,29,116],[30,114,30,116],[17,111,17,113],[18,111,18,113],[21,111,21,113],[22,111,22,113],[23,111,23,113],[24,111,24,113],[25,111,25,113],[26,111,26,113],[27,111,27,113],[28,111,28,113],[29,117,29,119],[30,117,30,119],[12,120,12,122],[13,120,13,122],[14,120,14,122],[15,120,15,122],[16,120,16,122],[17,120,17,122],[18,120,18,122],[21,120,21,122],[22,120,22,122],[23,120,23,122],[24,120,24,122],[25,120,25,122],[26,120,26,122],[27,120,27,122],[28,120,28,122],[29,120,29,122],[30,120,30,122],[17,117,17,119],[18,117,18,119],[21,117,21,119],[22,117,22,119],[23,117,23,119],[24,117,24,119],[25,117,25,119],[26,117,26,119],[27,117,27,119],[28,117,28,119],[29,123,29,125],[30,123,30,125],[12,126,12,128],[13,126,13,128],[14,126,14,128],[15,126,15,128],[16,126,16,128],[17,126,17,128],[18,126,18,128],[21,126,21,128],[22,126,22,128],[23,126,23,128],[24,126,24,128],[25,126,25,128],[26,126,26,128],[27,126,27,128],[28,126,28,128],[29,126,29,128],[30,126,30,128],[16,123,16,125],[17,123,17,125],[18,123,18,125],[21,123,21,125],[22,123,22,125],[23,123,23,125],[24,123,24,125],[25,123,25,125],[26,123,26,125],[27,123,27,125],[28,123,28,125],[29,129,29,131],[30,129,30,131],[12,132,12,134],[13,132,13,134],[14,132,14,134],[15,132,15,134],[16,132,16,134],[17,132,17,134],[18,132,18,134]],"merged_total":2056,"flags":["merged_cut"]}
["手順６-②","全社員タイプの待遇について一覧で確認してみましょう"]
[null,"・【集団 対 集団】比較・点検シートで整理した内容を一覧にまとめています。点検結果の振り返りに使用してください。"]
[]
[]
[]
[]
[]
["【正社員】","パートタイム労働者・\n有期雇用労働者","ー","ー","ー","ー","ー","ー","ー","ー","ー","ー",null,"【パートタイム労働者・有期雇用労働者】","パートタイム労働者・\n有期雇用労働者",{"$f":"社員タイプの洗い出し!$E$15&\" \"&社員タイプの洗い出し!$E$16","v":" "},null,null,{"$f":"社員タイプの洗い出し!$E$15&\" \"&社員タイプの洗い出し!$E$16","v":" "},null,null,{"$f":"社員タイプの洗い出し!$E$15&\" \"&社員タイプの洗い出し!$E$16","v":" "},null,null,{"$f":"社員タイプの洗い出し!$E$15&\" \"&社員タイプの洗い出し!$E$16","v":" "},null,null,{"$f":"社員タイプの洗い出し!$E$15&\" \"&社員タイプの洗い出し!$E$16","v":" "},null,null,{"$f":"社員タイプの洗い出し!$E$15&\" \"&社員タイプの洗い出し!$E$16","v":" "},null,null,{"$f":"社員タイプの洗い出し!$E$15&\" \"&社員タイプの洗い出し!$E$16","v":" "},null,null,{"$f":"社員タイプの洗い出し!$E$15&\" \"&社員タイプの洗い出し!$E$16","v":" "},null,null,{"$f":"社員タイプの洗い出し!$E$15&\" \"&社員タイプの洗い出し!$E$16","v":" "},null,null,{"$f":"社員タイプの洗い出し!$E$15&\" \"&社員タイプの洗い出し!$E$16","v":" "},null,null,{"$f":"社員タイプの洗い出し!$F$15&\" \"&社員タイプの洗い出し!$F$16","v":" "},null,null,{"$f":"社員タイプの洗い出し!$F$15&\" \"&社員タイプの洗い出し!$F$16","v":" "},null,null,{"$f":"社員タイプの洗い出し!$F$15&\" \"&社員タイプの洗い出し!$F$16","v":" "},null,null,{"$f":"社員タイプの洗い出し!$F$15&\" \"&社員タイプの洗い出し!$F$16","v":" "},null,null,{"$f":"社員タイプの洗い出し!$F$15&\" \"&社員タイプの洗い出し!$F$16","v":" "},null,null,{"$f":"社員タイプの洗い出し!$F$15&\" \"&社員タイプの洗い出し!$F$16","v":" "},null,null,{"$f":"社員タイプの洗い出し!$F$15&\" \"&社員タイプの洗い出し!$F$16","v":" "},null,null,{"$f":"社員タイプの洗い出し!$F$15&\" \"&社員タイプの洗い出し!$F$16","v":" "},null,null,{"$f":"社員タイプの洗い出し!$F$15&\" \"&社員タイプの洗い出し!$F$16","v":" "},null,null,{"$f":"社員タイプの洗い出し!$F$15&\" \"&社員タイプの洗い出し!$F$16","v":" "},null,null,{"$f":"社員タイプの洗い出し!$G$15&\" \"&社員タイプの洗い出し!$G$16","v":" "},null,null,{"$f":"社員タイプの洗い出し!$G$15&\" \"&社員タイプの洗い出し!$G$16","v":" "},null,null,{"$f":"社員タイプの洗い出し!$G$15&\" \"&社員タイプの洗い出し!$G$16","v":" "},null,null,{"$f":"社員タイプの洗い出し!$G$15&\" \"&社員タイプの洗い出し!$G$16","v":" "},null,null,{"$f":"社員タイプの洗い出し!$G$15&\" \"&社員タイプの洗い出し!$G$16","v":" "},null,null,{"$f":"社員タイプの洗い出し!$G$15&\" \"&社員タイプの洗い出し!$G$16","v":" "},null,null,{"$f":"社員タイプの洗い出し!$G$15&\" \"&社員タイプの洗い出し!$G$16","v":" "},null,null,{"$f":"社員タイプの洗い出し!$G$15&\" \"&社員タイプの洗い出し!$G$16","v":" "},null,null,{"$f":"社員タイプの洗い出し!$G$15&\" \"&社員タイプの洗い出し!$G$16","v":" "},null,null,{"$f":"社員タイプの洗い出し!$G$15&\" \"&社員タイプの洗い出し!$G$16","v":" "},null,null,{"$f":"社員タイプの洗い出し!$H$15&\" \"&社員タイプの洗い出し!$H$16","v":" "},null,null,{"$f":"社員タイプの洗い出し!$H$15&\" \"&社員タイプの洗い出し!$H$16","v":" "},null,null,{"$f":"社員タイプの洗い出し!$H$15&\" \"&社員タイプの洗い出し!$H$16","v":" "},null,null,{"$f":"社員タイプの洗い出し!$H$15&\" \"&社員タイプの洗い出し!$H$16","v":" "},null,null,{"$f":"社員タイプの洗い出し!$H$15&\" \"&社員タイプの洗い出し!$H$16","v":" "},null,null,{"$f":"社員タイプの洗い出し!$H$15&\" \"&社員タイプの洗い出し!$H$16","v":" "},null,null,{"$f":"社員タイプの洗い出し!$H$15&\" \"&社員タイプの洗い出し!$H$16","v":" "},null,null,{"$f":"社員タイプの洗い出し!$H$15&\" \"&社員タイプの洗い出し!$H$16","v":" "},null,null,{"$f":"社員タイプの洗い出し!$H$15&\" \"&社員タイプの洗い出し!$H$16","v":" "},null,null,{"$f":"社員タイプの洗い出し!$H$15&\" \"&社員タイプの洗い出し!$H$16","v":" "},null,null,{"$f":"社員タイプの洗い出し!$I$15&\" \"&社員タイプの洗い出し!$I$16","v":" "},null,null,{"$f":"社員タイプの洗い出し!$I$15&\" \"&社員タイプの洗い出し!$I$16","v":" "},null,null,{"$f":"社員タイプの洗い出し!$I$15&\" \"&社員タイプの洗い出し!$I$16","v":" "},null,null,{"$f":"社員タイプの洗い出し!$I$15&\" \"&社員タイプの洗い出し!$I$16","v":" "},null,null,{"$f":"社員タイプの洗い出し!$I$15&\" \"&社員タイプの洗い出し!$I$16","v":" "},null,null,{"$f":"社員タイプの洗い出し!$I$15&\" \"&社員タイプの洗い出し!$I$16","v":" "},null,null,{"$f":"社員タイプの洗い出し!$I$15&\" \"&社員タイプの洗い出し!$I$16","v":" "},null,null,{"$f":"社員タイプの洗い出し!$I$15&\" \"&社員タイプの洗い出し!$I$16","v":" "},null,null,{"$f":"社員タイプの洗い出し!$I$15&\" \"&社員タイプの洗い出し!$I$16","v":" "},null,null,{"$f":"社員タイプの洗い出し!$I$15&\" \"&社員タイプの洗い出し!$I$16","v":" "},null,null,{"$f":"社員タイプの洗い出し!$J$15&\" \"&社員タイプの洗い出し!$J$16","v":" "},null,null,{"$f":"社員タイプの洗い出し!$J$15&\" \"&社員タイプの洗い出し!$J$16","v":" "},null,null,{"$f":"社員タイプの洗い出し!$J$15&\" \"&社員タイプの洗い出し!$J$16","v":" "},null,null,{"$f":"社員タイプの洗い出し!$J$15&\" \"&社員タイプの洗い出し!$J$16","v":" "},null,null,{"$f":"社員タイプの洗い出し!$J$15&\" \"&社員タイプの洗い出し!$J$16","v":" "},null,null,{"$f":"社員タイプの洗い出し!$J$15&\" \"&社員タイプの洗い出し!$J$16","v":" "},null,null,{"$f":"社員タイプの洗い出し!$J$15&\" \"&社員タイプの洗い出し!$J$16","v":" "},null,null,{"$f":"社員タイプの洗い出し!$J$15&\" \"&社員タイプの洗い出し!$J$16","v":" "},null,null,{"$f":"社員タイプの洗い出し!$J$15&\" \"&社員タイプの洗い出し!$J$16","v":" "},null,null,{"$f":"社員タイプの洗い出し!$J$15&\" \"&社員タイプの洗い出し!$J$16","v":" "},null,null,{"$f":"社員タイプの洗い出し!$K$15&\" \"&社員タイプの洗い出し!$K$16","v":" "},null,null,{"$f":"社員タイプの洗い出し!$K$15&\" \"&社員タイプの洗い出し!$K$16","v":" "},null,null,{"$f":"社員タイプの洗い出し!$K$15&\" \"&社員タイプの洗い出し!$K$16","v":" "},null,null,{"$f":"社員タイプの洗い出し!$K$15&\" \"&社員タイプの洗い出し!$K$16","v":" "},null,null,{"$f":"社員タイプの洗い出し!$K$15&\" \"&社員タイプの洗い出し!$K$16","v":" "},null,null,{"$f":"社員タイプの洗い出し!$K$15&\" \"&社員タイプの洗い出し!$K$16","v":" "},null,null,{"$f":"社員タイプの洗い出し!$K$15&\" \"&社員タイプの洗い出し!$K$16","v":" "},null,null,{"$f":"社員タイプの洗い出し!$K$15&\" \"&社員タイプの洗い出し!$K$16","v":" "},null,null,{"$f":"社員タイプの洗い出し!$K$15&\" \"&社員タイプの洗い出し!$K$16","v":" "},null,null,{"$f":"社員タイプの洗い出し!$K$15&\" \"&社員タイプの洗い出し!$K$16","v":" "},null,null,{"$f":"社員タイプの洗い出し!$L$15&\" \"&社員タイプの洗い出し!$L$16","v":" "},null,null,{"$f":"社員タイプの洗い出し!$L$15&\" \"&社員タイプの洗い出し!$L$16","v":" "},null,null,{"$f":"社員タイプの洗い出し!$L$15&\" \"&社員タイプの洗い出し!$L$16","v":" "},null,null,{"$f":"社員タイプの洗い出し!$L$15&\" \"&社員タイプの洗い出し!$L$16","v":" "},null,null,{"$f":"社員タイプの洗い出し!$L$15&\" \"&社員タイプの洗い出し!$L$16","v":" "},null,null,{"$f":"社員タイプの洗い出し!$L$15&\" \"&社員タイプの洗い出し!$L$16","v":" "},null,null,{"$f":"社員タイプの洗い出し!$L$15&\" \"&社員タイプの洗い出し!$L$16","v":" "},null,null,{"$f":"社員タイプの洗い出し!$L$15&\" \"&社員タイプの洗い出し!$L$16","v":" "},null,null,{"$f":"社員タイプの洗い出し!$L$15&\" \"&社員タイプの洗い出し!$L$16","v":" "},null,null,{"$f":"社員タイプの洗い出し!$L$15&\" \"&社員タイプの洗い出し!$L$16","v":" "},null,null,{"$f":"社員タイプの洗い出し!$M$15&\" \"&社員タイプの洗い出し!$M$16","v":" "},null,null,{"$f":"社員タイプの洗い出し!$M$15&\" \"&社員タイプの洗い出し!$M$16","v":" "},null,null,{"$f":"社員タイプの洗い出し!$M$15&\" \"&社員タイプの洗い出し!$M$16","v":" "},null,null,{"$f":"社員タイプの洗い出し!$M$15&\" \"&社員タイプの洗い出し!$M$16","v":" "},null,null,{"$f":"社員タイプの洗い出し!$M$15&\" \"&社員タイプの洗い出し!$M$16","v":" "},null,null,{"$f":"社員タイプの洗い出し!$M$15&\" \"&社員タイプの洗い出し!$M$16","v":" "},null,null,{"$f":"社員タイプの洗い出し!$M$15&\" \"&社員タイプの洗い出し!$M$16","v":" "},null,null,{"$f":"社員タイプの洗い出し!$M$15&\" \"&社員タイプの洗い出し!$M$16","v":" "},null,null,{"$f":"社員タイプの洗い出し!$M$15&\" \"&社員タイプの洗い出し!$M$16","v":" "},null,null,{"$f":"社員タイプの洗い出し!$M$15&\" \"&社員タイプの洗い出し!$M$16","v":" "},null,null,{"$f":"社員タイプの洗い出し!$N$15&\" \"&社員タイプの洗い出し!$N$16","v":" "},null,null,{"$f":"社員タイプの洗い出し!$N$15&\" \"&社員タイプの洗い出し!$N$16","v":" "},null,null,{"$f":"社員タイプの洗い出し!$N$15&\" \"&社員タイプの洗い出し!$N$16","v":" "},null,null,{"$f":"社員タイプの洗い出し!$N$15&\" \"&社員タイプの洗い出し!$N$16","v":" "},null,null,{"$f":"社員タイプの洗い出し!$N$15&\" \"&社員タイプの洗い出し!$N$16","v":" "},null,null,{"$f":"社員タイプの洗い出し!$N$15&\" \"&社員タイプの洗い出し!$N$16","v":" "},null,null,{"$f":"社員タイプの洗い出し!$N$15&\" \"&社員タイプの洗い出し!$N$16","v":" "},null,null,{"$f":"社員タイプの洗い出し!$N$15&\" \"&社員タイプの洗い出し!$N$16","v":" "},null,null,{"$f":"社員タイプの洗い出し!$N$15&\" \"&社員タイプの洗い出し!$N$16","v":" "},null,null,{"$f":"社員タイプの洗い出し!$N$15&\" \"&社員タイプの洗い出し!$N$16","v":" "}]
[null,"正社員",{"$f":"IF('職務の内容・配置の変更の範囲の整理(正社員)'!E$13<>\"\",'職務の内容・配置の変更の範囲の整理(正社員)'!E$13,\"\")","v":" "},{"$f":"IF('職務の内容・配置の変更の範囲の整理(正社員)'!F$13<>\"\",'職務の内容・配置の変更の範囲の整理(正社員)'!F$13,\"\")","v":" "},{"$f":"IF('職務の内容・配置の変更の範囲の整理(正社員)'!G$13<>\"\",'職務の内容・配置の変更の範囲の整理(正社員)'!G$13,\"\")","v":" "},{"$f":"IF('職務の内容・配置の変更の範囲の整理(正社員)'!H$13<>\"\",'職務の内容・配置の変更の範囲の整理(正社員)'!H$13,\"\")","v":" "},{"$f":"IF('職務の内容・配置の変更の範囲の整理(正社員)'!I$13<>\"\",'職務の内容・配置の変更の範囲の整理(正社員)'!I$13,\"\")","v":" "},{"$f":"IF('職務の内容・配置の変更の範囲の整理(正社員)'!J$13<>\"\",'職務の内容・配置の変更の範囲の整理(正社員)'!J$13,\"\")","v":" "},{"$f":"IF('職務の内容・配置の変更の範囲の整理(正社員)'!K$13<>\"\",'職務の内容・配置の変更の範囲の整理(正社員)'!K$13,\"\")","v":" "},{"$f":"IF('職務の内容・配置の変更の範囲の整理(正社員)'!L$13<>\"\",'職務の内容・配置の変更の範囲の整理(正社員)'!L$13,\"\")","v":" "},{"$f":"IF('職務の内容・配置の変更の範囲の整理(正社員)'!M$13<>\"\",'職務の内容・配置の変更の範囲の整理(正社員)'!M$13,\"\")","v":" "},{"$f":"IF('職務の内容・配置の変更の範囲の整理(正社員)'!N$13<>\"\",'職務の内容・配置の変更の範囲の整理(正社員)'!N$13,\"\")","v":" "},null,null,"正社員",{"$f":"IF('職務の内容・配置の変更の範囲の整理(正社員)'!$E$13<>\"\",'職務の内容・配置の変更の範囲の整理(正社員)'!$E$13,\"\")","v":" "},null,null,{"$f":"IF('職務の内容・配置の変更の範囲の整理(正社員)'!$F$13<>\"\",'職務の内容・配置の変更の範囲の整理(正社員)'!$F$13,\"\")","v":" "},null,null,{"$f":"IF('職務の内容・配置の変更の範囲の整理(正社員)'!$G$13<>\"\",'職務の内容・配置の変更の範囲の整理(正社員)'!$G$13,\"\")","v":" "},null,null,{"$f":"IF('職務の内容・配置の変更の範囲の整理(正社員)'!$H$13<>\"\",'職務の内容・配置の変更の範囲の整理(正社員)'!$H$13,\"\")","v":" "},null,null,{"$f":"IF('職務の内容・配置の変更の範囲の整理(正社員)'!$I$13<>\"\",'職務の内容・配置の変更の範囲の整理(正社員)'!$I$13,\"\")","v":" "},null,null,{"$f":"IF('職務の内容・配置の変更の範囲の整理(正社員)'!$J$13<>\"\",'職務の内容・配置の変更の範囲の整理(正社員)'!$J$13,\"\")","v":" "},null,null,{"$f":"IF('職務の内容・配置の変更の範囲の整理(正社員)'!$K$13<>\"\",'職務の内容・配置の変更の範囲の整理(正社員)'!$K$13,\"\")","v":" "},null,null,{"$f":"IF('職務の内容・配置の変更の範囲の整理(正社員)'!$L$13<>\"\",'職務の内容・配置の変更の範囲の整理(正社員)'!$L$13,\"\")","v":" "},null,null,{"$f":"IF('職務の内容・配置の変更の範囲の整理(正社員)'!$M$13<>\"\",'職務の内容・配置の変更の範囲の整理(正社員)'!$M$13,\"\")","v":" "},null,null,{"$f":"IF('職務の内容・配置の変更の範囲の整理(正社員)'!$N$13<>\"\",'職務の内容・配置の変更の範囲の整理(正社員)'!$N$13,\"\")","v":" "},null,null,{"$f":"IF('職務の内容・配置の変更の範囲の整理(正社員)'!$E$13<>\"\",'職務の内容・配置の変更の範囲の整理(正社員)'!$E$13,\"\")","v":" "},null,null,{"$f":"IF('職務の内容・配置の変更の範囲の整理(正社員)'!$F$13<>\"\",'職務の内容・配置の変更の範囲の整理(正社員)'!$F$13,\"\")","v":" "},null,null,{"$f":"IF('職務の内容・配置の変更の範囲の整理(正社員)'!$G$13<>\"\",'職務の内容・配置の変更の範囲の整理(正社員)'!$G$13,\"\")","v":" "},null,null,{"$f":"IF('職務の内容・配置の変更の範囲の整理(正社員)'!$H$13<>\"\",'職務の内容・配置の変更の範囲の整理(正社員)'!$H$13,\"\")","v":" "},null,null,{"$f":"IF('職務の内容・配置の変更の範囲の整理(正社員)'!$I$13<>\"\",'職務の内容・配置の変更の範囲の整理(正社員)'!$I$13,\"\")","v":" "},null,null,{"$f":"IF('職務の内容・配置の変更の範囲の整理(正社員)'!$J$13<>\"\",'職務の内容・配置の変更の範囲の整理(正社員)'!$J$13,\"\")","v":" "},null,null,{"$f":"IF('職務の内容・配置の変更の範囲の整理(正社員)'!$K$13<>\"\",'職務の内容・配置の変更の範囲の整理(正社員)'!$K$13,\"\")","v":" "},null,null,{"$f":"IF('職務の内容・配置の変更の範囲の整理(正社員)'!$L$13<>\"\",'職務の内容・配置の変更の範囲の整理(正社員)'!$L$13,\"\")","v":" "},null,null,{"$f":"IF('職務の内容・配置の変更の範囲の整理(正社員)'!$M$13<>\"\",'職務の内容・配置の変更の範囲の整理(正社員)'!$M$13,\"\")","v":" "},null,null,{"$f":"IF('職務の内容・配置の変更の範囲の整理(正社員)'!$N$13<>\"\",'職務の内容・配置の変更の範囲の整理(正社員)'!$N$13,\"\")","v":" "},null,null,{"$f":"IF('職務の内容・配置の変更の範囲の整理(正社員)'!$E$13<>\"\",'職務の内容・配置の変更の範囲の整理(正社員)'!$E$13,\"\")","v":" "},null,null,{"$f":"IF('職務の内容・配置の変更の範囲の整理(正社員)'!$F$13<>\"\",'職務の内容・配置の変更の範囲の整理(正社員)'!$F$13,\"\")","v":" "},null,null,{"$f":"IF('職務の内容・配置の変更の範囲の整理(正社員)'!$G$13<>\"\",'職務の内容・配置の変更の範囲の整理(正社員)'!$G$13,\"\")","v":" "},null,null,{"$f":"IF('職務の内容・配置の変更の範囲の整理(正社員)'!$H$13<>\"\",'職務の内容・配置の変更の範囲の整理(正社員)'!$H$13,\"\")","v":" "},null,null,{"$f":"IF('職務の内容・配置の変更の範囲の整理(正社員)'!$I$13<>\"\",'職務の内容・配置の変更の範囲の整理(正社員)'!$I$13,\"\")","v":" "},null,null,{"$f":"IF('職務の内容・配置の変更の範囲の整理(正社員)'!$J$13<>\"\",'職務の内容・配置の変更の範囲の整理(正社員)'!$J$13,\"\")","v":" "},null,null,{"$f":"IF('職務の内容・配置の変更の範囲の整理(正社員)'!$K$13<>\"\",'職務の内容・配置の変更の範囲の整理(正社員)'!$K$13,\"\")","v":" "},null,null,{"$f":"IF('職務の内容・配置の変更の範囲の整理(正社員)'!$L$13<>\"\",'職務の内容・配置の変更の範囲の整理(正社員)'!$L$13,\"\")","v":" "},null,null,{"$f":"IF('職務の内容・配置の変更の範囲の整理(正社員)'!$M$13<>\"\",'職務の内容・配置の変更の範囲の整理(正社員)'!$M$13,\"\")","v":" "},null,null,{"$f":"IF('職務の内容・配置の変更の範囲の整理(正社員)'!$N$13<>\"\",'職務の内容・配置の変更の範囲の整理(正社員)'!$N$13,\"\")","v":" "},null,null,{"$f":"IF('職務の内容・配置の変更の範囲の整理(正社員)'!$E$13<>\"\",'職務の内容・配置の変更の範囲の整理(正社員)'!$E$13,\"\")","v":" "},null,null,{"$f":"IF('職務の内容・配置の変更の範囲の整理(正社員)'!$F$13<>\"\",'職務の内容・配置の変更の範囲の整理(正社員)'!$F$13,\"\")","v":" "},null,null,{"$f":"IF('職務の内容・配置の変更の範囲の整理(正社員)'!$G$13<>\"\",'職務の内容・配置の変更の範囲の整理(正社員)'!$G$13,\"\")","v":" "},null,null,{"$f":"IF('職務の内容・配置の変更の範囲の整理(正社員)'!$H$13<>\"\",'職務の内容・配置の変更の範囲の整理(正社員)'!$H$13,\"\")","v":" "},null,null,{"$f":"IF('職務の内容・配置の変更の範囲の整理(正社員)'!$I$13<>\"\",'職務の内容・配置の変更の範囲の整理(正社員)'!$I$13,\"\")","v":" "},null,null,{"$f":"IF('職務の内容・配置の変更の範囲の整理(正社員)'!$J$13<>\"\",'職務の内容・配置の変更の範囲の整理(正社員)'!$J$13,\"\")","v":" "},null,null,{"$f":"IF('職務の内容・配置の変更の範囲の整理(正社員)'!$K$13<>\"\",'職務の内容・配置の変更の範囲の整理(正社員)'!$K$13,\"\")","v":" "},null,null,{"$f":"IF('職務の内容・配置の変更の範囲の整理(正社員)'!$L$13<>\"\",'職務の内容・配置の変更の範囲の整理(正社員)'!$L$13,\"\")","v":" "},null,null,{"$f":"IF('職務の内容・配置の変更の範囲の整理(正社員)'!$M$13<>\"\",'職務の内容・配置の変更の範囲の整理(正社員)'!$M$13,\"\")","v":" "},null,null,{"$f":"IF('職務の内容・配置の変更の範囲の整理(正社員)'!$N$13<>\"\",'職務の内容・配置の変更の範囲の整理(正社員)'!$N$13,\"\")","v":" "},null,null,{"$f":"IF('職務の内容・配置の変更の範囲の整理(正社員)'!$E$13<>\"\",'職務の内容・配置の変更の範囲の整理(正社員)'!$E$13,\"\")","v":" "},null,null,{"$f":"IF('職務の内容・配置の変更の範囲の整理(正社員)'!$F$13<>\"\",'職務の内容・配置の変更の範囲の整理(正社員)'!$F$13,\"\")","v":" "},null,null,{"$f":"IF('職務の内容・配置の変更の範囲の整理(正社員)'!$G$13<>\"\",'職務の内容・配置の変更の範囲の整理(正社員)'!$G$13,\"\")","v":" "},null,null,{"$f":"IF('職務の内容・配置の変更の範囲の整理(正社員)'!$H$13<>\"\",'職務の内容・配置の変更の範囲の整理(正社員)'!$H$13,\"\")","v":" "},null,null,{"$f":"IF('職務の内容・配置の変更の範囲の整理(正社員)'!$I$13<>\"\",'職務の内容・配置の変更の範囲の整理(正社員)'!$I$13,\"\")","v":" "},null,null,{"$f":"IF('職務の内容・配置の変更の範囲の整理(正社員)'!$J$13<>\"\",'職務の内容・配置の変更の範囲の整理(正社員)'!$J$13,\"\")","v":" "},null,null,{"$f":"IF('職務の内容・配置の変更の範囲の整理(正社員)'!$K$13<>\"\",'職務の内容・配置の変更の範囲の整理(正社員)'!$K$13,\"\")","v":" "},null,null,{"$f":"IF('職務の内容・配置の変更の範囲の整理(正社員)'!$L$13<>\"\",'職務の内容・配置の変更の範囲の整理(正社員)'!$L$13,\"\")","v":" "},null,null,{"$f":"IF('職務の内容・配置の変更の範囲の整理(正社員)'!$M$13<>\"\",'職務の内容・配置の変更の範囲の整理(正社員)'!$M$13,\"\")","v":" "},null,null,{"$f":"IF('職務の内容・配置の変更の範囲の整理(正社員)'!$N$13<>\"\",'職務の内容・配置の変更の範囲の整理(正社員)'!$N$13,\"\")","v":" "},null,null,{"$f":"IF('職務の内容・配置の変更の範囲の整理(正社員)'!$E$13<>\"\",'職務の内容・配置の変更の範囲の整理(正社員)'!$E$13,\"\")","v":" "},null,null,{"$f":"IF('職務の内容・配置の変更の範囲の整理(正社員)'!$F$13<>\"\",'職務の内容・配置の変更の範囲の整理(正社員)'!$F$13,\"\")","v":" "},null,null,{"$f":"IF('職務の内容・配置の変更の範囲の整理(正社員)'!$G$13<>\"\",'職務の内容・配置の変更の範囲の整理(正社員)'!$G$13,\"\")","v":" "},null,null,{"$f":"IF('職務の内容・配置の変更の範囲の整理(正社員)'!$H$13<>\"\",'職務の内容・配置の変更の範囲の整理(正社員)'!$H$13,\"\")","v":" "},null,null,{"$f":"IF('職務の内容・配置の変更の範囲の整理(正社員)'!$I$13<>\"\",'職務の内容・配置の変更の範囲の整理(正社員)'!$I$13,\"\")","v":" "},null,null,{"$f":"IF('職務の内容・配置の変更の範囲の整理(正社員)'!$J$13<>\"\",'職務の内容・配置の変更の範囲の整理(正社員)'!$J$13,\"\")","v":" "},null,null,{"$f":"IF('職務の内容・配置の変更の範囲の整理(正社員)'!$K$13<>\"\",'職務の内容・配置の変更の範囲の整理(正社員)'!$K$13,\"\")","v":" "},null,null,{"$f":"IF('職務の内容・配置の変更の範囲の整理(正社員)'!$L$13<>\"\",'職務の内容・配置の変更の範囲の整理(正社員)'!$L$13,\"\")","v":" "},null,null,{"$f":"IF('職務の内容・配置の変更の範囲の整理(正社員)'!$M$13<>\"\",'職務の内容・配置の変更の範囲の整理(正社員)'!$M$13,\"\")","v":" "},null,null,{"$f":"IF('職務の内容・配置の変更の範囲の整理(正社員)'!$N$13<>\"\",'職務の内容・配置の変更の範囲の整理(正社員)'!$N$13,\"\")","v":" "},null,null,{"$f":"IF('職務の内容・配置の変更の範囲の整理(正社員)'!$E$13<>\"\",'職務の内容・配置の変更の範囲の整理(正社員)'!$E$13,\"\")","v":" "},null,null,{"$f":"IF('職務の内容・配置の変更の範囲の整理(正社員)'!$F$13<>\"\",'職務の内容・配置の変更の範囲の整理(正社員)'!$F$13,\"\")","v":" "},null,null,{"$f":"IF('職務の内容・配置の変更の範囲の整理(正社員)'!$G$13<>\"\",'職務の内容・配置の変更の範囲の整理(正社員)'!$G$13,\"\")","v":" "},null,null,{"$f":"IF('職務の内容・配置の変更の範囲の整理(正社員)'!$H$13<>\"\",'職務の内容・配置の変更の範囲の整理(正社員)'!$H$13,\"\")","v":" "},null,null,{"$f":"IF('職務の内容・配置の変更の範囲の整理(正社員)'!$I$13<>\"\",'職務の内容・配置の変更の範囲の整理(正社員)'!$I$13,\"\")","v":" "},null,null,{"$f":"IF('職務の内容・配置の変更の範囲の整理(正社員)'!$J$13<>\"\",'職務の内容・配置の変更の範囲の整理(正社員)'!$J$13,\"\")","v":" "},null,null,{"$f":"IF('職務の内容・配置の変更の範囲の整理(正社員)'!$K$13<>\"\",'職務の内容・配置の変更の範囲の整理(正社員)'!$K$13,\"\")","v":" "},null,null,{"$f":"IF('職務の内容・配置の変更の範囲の整理(正社員)'!$L$13<>\"\",'職務の内容・配置の変更の範囲の整理(正社員)'!$L$13,\"\")","v":" "},null,null,{"$f":"IF('職務の内容・配置の変更の範囲の整理(正社員)'!$M$13<>\"\",'職務の内容・配置の変更の範囲の整理(正社員)'!$M$13,\"\")","v":" "},null,null,{"$f":"IF('職務の内容・配置の変更の範囲の整理(正社員)'!$N$13<>\"\",'職務の内容・配置の変更の範囲の整理(正社員)'!$N$13,\"\")","v":" "},null,null,{"$f":"IF('職務の内容・配置の変更の範囲の整理(正社員)'!$E$13<>\"\",'職務の内容・配置の変更の範囲の整理(正社員)'!$E$13,\"\")","v":" "},null,null,{"$f":"IF('職務の内容・配置の変更の範囲の整理(正社員)'!$F$13<>\"\",'職務の内容・配置の変更の範囲の整理(正社員)'!$F$13,\"\")","v":" "},null,null,{"$f":"IF('職務の内容・配置の変更の範囲の整理(正社員)'!$G$13<>\"\",'職務の内容・配置の変更の範囲の整理(正社員)'!$G$13,\"\")","v":" "},null,null,{"$f":"IF('職務の内容・配置の変更の範囲の整理(正社員)'!$H$13<>\"\",'職務の内容・配置の変更の範囲の整理(正社員)'!$H$13,\"\")","v":" "},null,null,{"$f":"IF('職務の内容・配置の変更の範囲の整理(正社員)'!$I$13<>\"\",'職務の内容・配置の変更の範囲の整理(正社員)'!$I$13,\"\")","v":" "},null,null,{"$f":"IF('職務の内容・配置の変更の範囲の整理(正社員)'!$J$13<>\"\",'職務の内容・配置の変更の範囲の整理(正社員)'!$J$13,\"\")","v":" "},null,null,{"$f":"IF('職務の内容・配置の変更の範囲の整理(正社員)'!$K$13<>\"\",'職務の内容・配置の変更の範囲の整理(正社員)'!$K$13,\"\")","v":" "},null,null,{"$f":"IF('職務の内容・配置の変更の範囲の整理(正社員)'!$L$13<>\"\",'職務の内容・配置の変更の範囲の整理(正社員)'!$L$13,\"\")","v":" "},null,null,{"$f":"IF('職務の内容・配置の変更の範囲の整理(正社員)'!$M$13<>\"\",'職務の内容・配置の変更の範囲の整理(正社員)'!$M$13,\"\")","v":" "},null,null,{"$f":"IF('職務の内容・配置の変更の範囲の整理(正社員)'!$N$13<>\"\",'職務の内容・配置の変更の範囲の整理(正社員)'!$N$13,\"\")","v":" "},null,null,{"$f":"IF('職務の内容・配置の変更の範囲の整理(正社員)'!$E$13<>\"\",'職務の内容・配置の変更の範囲の整理(正社員)'!$E$13,\"\")","v":" "},null,null,{"$f":"IF('職務の内容・配置の変更の範囲の整理(正社員)'!$F$13<>\"\",'職務の内容・配置の変更の範囲の整理(正社員)'!$F$13,\"\")","v":" "},null,null,{"$f":"IF('職務の内容・配置の変更の範囲の整理(正社員)'!$G$13<>\"\",'職務の内容・配置の変更の範囲の整理(正社員)'!$G$13,\"\")","v":" "},null,null,{"$f":"IF('職務の内容・配置の変更の範囲の整理(正社員)'!$H$13<>\"\",'職務の内容・配置の変更の範囲の整理(正社員)'!$H$13,\"\")","v":" "},null,null,{"$f":"IF('職務の内容・配置の変更の範囲の整理(正社員)'!$I$13<>\"\",'職務の内容・配置の変更の範囲の整理(正社員)'!$I$13,\"\")","v":" "},null,null,{"$f":"IF('職務の内容・配置の変更の範囲の整理(正社員)'!$J$13<>\"\",'職務の内容・配置の変更の範囲の整理(正社員)'!$J$13,\"\")","v":" "},null,null,{"$f":"IF('職務の内容・配置の変更の範囲の整理(正社員)'!$K$13<>\"\",'職務の内容・配置の変更の範囲の整理(正社員)'!$K$13,\"\")","v":" "},null,null,{"$f":"IF('職務の内容・配置の変更の範囲の整理(正社員)'!$L$13<>\"\",'職務の内容・配置の変更の範囲の整理(正社員)'!$L$13,\"\")","v":" "},null,null,{"$f":"IF('職務の内容・配置の変更の範囲の整理(正社員)'!$M$13<>\"\",'職務の内容・配置の変更の範囲の整理(正社員)'!$M$13,\"\")","v":" "},null,null,{"$f":"IF('職務の内容・配置の変更の範囲の整理(正社員)'!$N$13<>\"\",'職務の内容・配置の変更の範囲の整理(正社員)'!$N$13,\"\")","v":" "},null,null,{"$f":"IF('職務の内容・配置の変更の範囲の整理(正社員)'!$E$13<>\"\",'職務の内容・配置の変更の範囲の整理(正社員)'!$E$13,\"\")","v":" "},null,null,{"$f":"IF('職務の内容・配置の変更の範囲の整理(正社員)'!$F$13<>\"\",'職務の内容・配置の変更の範囲の整理(正社員)'!$F$13,\"\")","v":" "},null,null,{"$f":"IF('職務の内容・配置の変更の範囲の整理(正社員)'!$G$13<>\"\",'職務の内容・配置の変更の範囲の整理(正社員)'!$G$13,\"\")","v":" "},null,null,{"$f":"IF('職務の内容・配置の変更の範囲の整理(正社員)'!$H$13<>\"\",'職務の内容・配置の変更の範囲の整理(正社員)'!$H$13,\"\")","v":" "},null,null,{"$f":"IF('職務の内容・配置の変更の範囲の整理(正社員)'!$I$13<>\"\",'職務の内容・配置の変更の範囲の整理(正社員)'!$I$13,\"\")","v":" "},null,null,{"$f":"IF('職務の内容・配置の変更の範囲の整理(正社員)'!$J$13<>\"\",'職務の内容・配置の変更の範囲の整理(正社員)'!$J$13,\"\")","v":" "},null,null,{"$f":"IF('職務の内容・配置の変更の範囲の整理(正社員)'!$K$13<>\"\",'職務の内容・配置の変更の範囲の整理(正社員)'!$K$13,\"\")","v":" "},null,null,{"$f":"IF('職務の内容・配置の変更の範囲の整理(正社員)'!$L$13<>\"\",'職務の内容・配置の変更の範囲の整理(正社員)'!$L$13,\"\")","v":" "},null,null,{"$f":"IF('職務の内容・配置の変更の範囲の整理(正社員)'!$M$13<>\"\",'職務の内容・配置の変更の範囲の整理(正社員)'!$M$13,\"\")","v":" "},null,null,{"$f":"IF('職務の内容・配置の変更の範囲の整理(正社員)'!$N$13<>\"\",'職務の内容・配置の変更の範囲の整理(正社員)'!$N$13,\"\")","v":" "}]
[null,null,{"$f":"IF(LEN(C9)<>1,社員タイプの洗い出し!E$12&\"人\",)","v":0},{"$f":"IF(LEN(D9)<>1,社員タイプの洗い出し!F$12&\"人\",)","v":0},{"$f":"IF(LEN(E9)<>1,社員タイプの洗い出し!G$12&\"人\",)","v":0},{"$f":"IF(LEN(F9)<>1,社員タイプの洗い出し!H$12&\"人\",)","v":0},{"$f":"IF(LEN(G9)<>1,社員タイプの洗い出し!I$12&\"人\",)","v":0},{"$f":"IF(LEN(H9)<>1,社員タイプの洗い出し!J$12&\"人\",)","v":0},{"$f":"IF(LEN(I9)<>1,社員タイプの洗い出し!K$12&\"人\",)","v":0},{"$f":"IF(LEN(J9)<>1,社員タイプの洗い出し!L$12&\"人\",)","v":0},{"$f":"IF(LEN(K9)<>1,社員タイプの洗い出し!M$12&\"人\",)","v":0},{"$f":"IF(LEN(L9)<>1,社員タイプの洗い出し!N$12&\"人\",)","v":0}]
[null,"労働時間・雇用期間・人数",{"$f":"C10","v":0},{"$f":"D10","v":0},0,0,0,0,0,0,0,0,null,null,"労働時間・雇用期間・人数",{"$f":"社員タイプの洗い出し!$E$17&\"・\"&社員タイプの洗い出し!$E$18&\"・\"&社員タイプの洗い出し!$E$19&\"人\"","v":"・・人"},null,null,{"$f":"社員タイプの洗い出し!$E$17&\"・\"&社員タイプの洗い出し!$E$18&\"・\"&社員タイプの洗い出し!$E$19&\"人\"","v":"・・人"},null,null,{"$f":"社員タイプの洗い出し!$E$17&\"・\"&社員タイプの洗い出し!$E$18&\"・\"&社員タイプの洗い出し!$E$19&\"人\"","v":"・・人"},null,null,{"$f":"社員タイプの洗い出し!$E$17&\"・\"&社員タイプの洗い出し!$E$18&\"・\"&社員タイプの洗い出し!$E$19&\"人\"","v":"・・人"},null,null,{"$f":"社員タイプの洗い出し!$E$17&\"・\"&社員タイプの洗い出し!$E$18&\"・\"&社員タイプの洗い出し!$E$19&\"人\"","v":"・・人"},null,null,{"$f":"社員タイプの洗い出し!$E$17&\"・\"&社員タイプの洗い出し!$E$18&\"・\"&社員タイプの洗い出し!$E$19&\"人\"","v":"・・人"},null,null,{"$f":"社員タイプの洗い出し!$E$17&\"・\"&社員タイプの洗い出し!$E$18&\"・\"&社員タイプの洗い出し!$E$19&\"人\"","v":"・・人"},null,null,{"$f":"社員タイプの洗い出し!$E$17&\"・\"&社員タイプの洗い出し!$E$18&\"・\"&社員タイプの洗い出し!$E$19&\"人\"","v":"・・人"},null,null,{"$f":"社員タイプの洗い出し!$E$17&\"・\"&社員タイプの洗い出し!$E$18&\"・\"&社員タイプの洗い出し!$E$19&\"人\"","v":"・・人"},null,null,{"$f":"社員タイプの洗い出し!$E$17&\"・\"&社員タイプの洗い出し!$E$18&\"・\"&社員タイプの洗い出し!$E$19&\"人\"","v":"・・人"},null,null,{"$f":"社員タイプの洗い出し!$E$17&\"・\"&社員タイプの洗い出し!$E$18&\"・\"&社員タイプの洗い出し!$E$19&\"人\"","v":"・・人"},null,null,{"$f":"社員タイプの洗い出し!$F$17&\"・\"&社員タイプの洗い出し!$F$18&\"・\"&社員タイプの洗い出し!$F$19&\"人\"","v":"・・人"},null,null,{"$f":"社員タイプの洗い出し!$F$17&\"・\"&社員タイプの洗い出し!$F$18&\"・\"&社員タイプの洗い出し!$F$19&\"人\"","v":"・・人"},null,null,{"$f":"社員タイプの洗い出し!$F$17&\"・\"&社員タイプの洗い出し!$F$18&\"・\"&社員タイプの洗い出し!$F$19&\"人\"","v":"・・人"},null,null,{"$f":"社員タイプの洗い出し!$F$17&\"・\"&社員タイプの洗い出し!$F$18&\"・\"&社員タイプの洗い出し!$F$19&\"人\"","v":"・・人"},null,null,{"$f":"社員タイプの洗い出し!$F$17&\"・\"&社員タイプの洗い出し!$F$18&\"・\"&社員タイプの洗い出し!$F$19&\"人\"","v":"・・人"},null,null,{"$f":"社員タイプの洗い出し!$F$17&\"・\"&社員タイプの洗い出し!$F$18&\"・\"&社員タイプの洗い出し!$F$19&\"人\"","v":"・・人"},null,null,{"$f":"社員タイプの洗い出し!$F$17&\"・\"&社員タイプの洗い出し!$F$18&\"・\"&社員タイプの洗い出し!$F$19&\"人\"","v":"・・人"},null,null,{"$f":"社員タイプの洗い出し!$F$17&\"・\"&社員タイプの洗い出し!$F$18&\"・\"&社員タイプの洗い出し!$F$19&\"人\"","v":"・・人"},null,null,{"$f":"社員タイプの洗い出し!$F$17&\"・\"&社員タイプの洗い出し!$F$18&\"・\"&社員タイプの洗い出し!$F$19&\"人\"","v":"・・人"},null,null,{"$f":"社員タイプの洗い出し!$G$17&\"・\"&社員タイプの洗い出し!$G$18&\"・\"&社員タイプの洗い出し!$G$19&\"人\"","v":"・・人"},null,null,{"$f":"社員タイプの洗い出し!$G$17&\"・\"&社員タイプの洗い出し!$G$18&\"・\"&社員タイプの洗い出し!$G$19&\"人\"","v":"・・人"},null,null,{"$f":"社員タイプの洗い出し!$G$17&\"・\"&社員タイプの洗い出し!$G$18&\"・\"&社員タイプの洗い出し!$G$19&\"人\"","v":"・・人"},null,null,{"$f":"社員タイプの洗い出し!$G$17&\"・\"&社員タイプの洗い出し!$G$18&\"・\"&社員タイプの洗い出し!$G$19&\"人\"","v":"・・人"},null,null,{"$f":"社員タイプの洗い出し!$G$17&\"・\"&社員タイプの洗い出し!$G$18&\"・\"&社員タイプの洗い出し!$G$19&\"人\"","v":"・・人"},null,null,{"$f":"社員タイプの洗い出し!$G$17&\"・\"&社員タイプの洗い出し!$G$18&\"・\"&社員タイプの洗い出し!$G$19&\"人\"","v":"・・人"},null,null,{"$f":"社員タイプの洗い出し!$G$17&\"・\"&社員タイプの洗い出し!$G$18&\"・\"&社員タイプの洗い出し!$G$19&\"人\"","v":"・・人"},null,null,{"$f":"社員タイプの洗い出し!$G$17&\"・\"&社員タイプの洗い出し!$G$18&\"・\"&社員タイプの洗い出し!$G$19&\"人\"","v":"・・人"},null,null,{"$f":"社員タイプの洗い出し!$G$17&\"・\"&社員タイプの洗い出し!$G$18&\"・\"&社員タイプの洗い出し!$G$19&\"人\"","v":"・・人"},null,null,{"$f":"社員タイプの洗い出し!$G$17&\"・\"&社員タイプの洗い出し!$G$18&\"・\"&社員タイプの洗い出し!$G$19&\"人\"","v":"・・人"},null,null,{"$f":"社員タイプの洗い出し!$H$17&\"・\"&社員タイプの洗い出し!$H$18&\"・\"&社員タイプの洗い出し!$H$19&\"人\"","v":"・・人"},null,null,{"$f":"社員タイプの洗い出し!$H$17&\"・\"&社員タイプの洗い出し!$H$18&\"・\"&社員タイプの洗い出し!$H$19&\"人\"","v":"・・人"},null,null,{"$f":"社員タイプの洗い出し!$H$17&\"・\"&社員タイプの洗い出し!$H$18&\"・\"&社員タイプの洗い出し!$H$19&\"人\"","v":"・・人"},null,null,{"$f":"社員タイプの洗い出し!$H$17&\"・\"&社員タイプの洗い出し!$H$18&\"・\"&社員タイプの洗い出し!$H$19&\"人\"","v":"・・人"},null,null,{"$f":"社員タイプの洗い出し!$H$17&\"・\"&社員タイプの洗い出し!$H$18&\"・\"&社員タイプの洗い出し!$H$19&\"人\"","v":"・・人"},null,null,{"$f":"社員タイプの洗い出し!$H$17&\"・\"&社員タイプの洗い出し!$H$18&\"・\"&社員タイプの洗い出し!$H$19&\"人\"","v":"・・人"},null,null,{"$f":"社員タイプの洗い出し!$H$17&\"・\"&社員タイプの洗い出し!$H$18&\"・\"&社員タイプの洗い出し!$H$19&\"人\"","v":"・・人"},null,null,{"$f":"社員タイプの洗い出し!$H$17&\"・\"&社員タイプの洗い出し!$H$18&\"・\"&社員タイプの洗い出し!$H$19&\"人\"","v":"・・人"},null,null,{"$f":"社員タイプの洗い出し!$H$17&\"・\"&社員タイプの洗い出し!$H$18&\"・\"&社員タイプの洗い出し!$H$19&\"人\"","v":"・・人"},null,null,{"$f":"社員タイプの洗い出し!$H$17&\"・\"&社員タイプの洗い出し!$H$18&\"・\"&社員タイプの洗い出し!$H$19&\"人\"","v":"・・人"},null,null,{"$f":"社員タイプの洗い出し!$I$17&\"・\"&社員タイプの洗い出し!$I$18&\"・\"&社員タイプの洗い出し!$I$19&\"人\"","v":"・・人"},null,null,{"$f":"社員タイプの洗い出し!$I$17&\"・\"&社員タイプの洗い出し!$I$18&\"・\"&社員タイプの洗い出し!$I$19&\"人\"","v":"・・人"},null,null,{"$f":"社員タイプの洗い出し!$I$17&\"・\"&社員タイプの洗い出し!$I$18&\"・\"&社員タイプの洗い出し!$I$19&\"人\"","v":"・・人"},null,null,{"$f":"社員タイプの洗い出し!$I$17&\"・\"&社員タイプの洗い出し!$I$18&\"・\"&社員タイプの洗い出し!$I$19&\"人\"","v":"・・人"},null,null,{"$f":"社員タイプの洗い出し!$I$17&\"・\"&社員タイプの洗い出し!$I$18&\"・\"&社員タイプの洗い出し!$I$19&\"人\"","v":"・・人"},null,null,{"$f":"社員タイプの洗い出し!$I$17&\"・\"&社員タイプの洗い出し!$I$18&\"・\"&社員タイプの洗い出し!$I$19&\"人\"","v":"・・人"},null,null,{"$f":"社員タイプの洗い出し!$I$17&\"・\"&社員タイプの洗い出し!$I$18&\"・\"&社員タイプの洗い出し!$I$19&\"人\"","v":"・・人"},null,null,{"$f":"社員タイプの洗い出し!$I$17&\"・\"&社員タイプの洗い出し!$I$18&\"・\"&社員タイプの洗い出し!$I$19&\"人\"","v":"・・人"},null,null,{"$f":"社員タイプの洗い出し!$I$17&\"・\"&社員タイプの洗い出し!$I$18&\"・\"&社員タイプの洗い出し!$I$19&\"人\"","v":"・・人"},null,null,{"$f":"社員タイプの洗い出し!$I$17&\"・\"&社員タイプの洗い出し!$I$18&\"・\"&社員タイプの洗い出し!$I$19&\"人\"","v":"・・人"},null,null,{"$f":"社員タイプの洗い出し!$J$17&\"・\"&社員タイプの洗い出し!$J$18&\"・\"&社員タイプの洗い出し!$J$19&\"人\"","v":"・・人"},null,null,{"$f":"社員タイプの洗い出し!$J$17&\"・\"&社員タイプの洗い出し!$J$18&\"・\"&社員タイプの洗い出し!$J$19&\"人\"","v":"・・人"},null,null,{"$f":"社員タイプの洗い出し!$J$17&\"・\"&社員タイプの洗い出し!$J$18&\"・\"&社員タイプの洗い出し!$J$19&\"人\"","v":"・・人"},null,null,{"$f":"社員タイプの洗い出し!$J$17&\"・\"&社員タイプの洗い出し!$J$18&\"・\"&社員タイプの洗い出し!$J$19&\"人\"","v":"・・人"},null,null,{"$f":"社員タイプの洗い出し!$J$17&\"・\"&社員タイプの洗い出し!$J$18&\"・\"&社員タイプの洗い出し!$J$19&\"人\"","v":"・・人"},null,null,{"$f":"社員タイプの洗い出し!$J$17&\"・\"&社員タイプの洗い出し!$J$18&\"・\"&社員タイプの洗い出し!$J$19&\"人\"","v":"・・人"},null,null,{"$f":"社員タイプの洗い出し!$J$17&\"・\"&社員タイプの洗い出し!$J$18&\"・\"&社員タイプの洗い出し!$J$19&\"人\"","v":"・・人"},null,null,{"$f":"社員タイプの洗い出し!$J$17&\"・\"&社員タイプの洗い出し!$J$18&\"・\"&社員タイプの洗い出し!$J$19&\"人\"","v":"・・人"},null,null,{"$f":"社員タイプの洗い出し!$J$17&\"・\"&社員タイプの洗い出し!$J$18&\"・\"&社員タイプの洗い出し!$J$19&\"人\"","v":"・・人"},null,null,{"$f":"社員タイプの洗い出し!$J$17&\"・\"&社員タイプの洗い出し!$J$18&\"・\"&社員タイプの洗い出し!$J$19&\"人\"","v":"・・人"},null,null,{"$f":"社員タイプの洗い出し!$K$17&\"・\"&社員タイプの洗い出し!$K$18&\"・\"&社員タイプの洗い出し!$K$19&\"人\"","v":"・・人"},null,null,{"$f":"社員タイプの洗い出し!$K$17&\"・\"&社員タイプの洗い出し!$K$18&\"・\"&社員タイプの洗い出し!$K$19&\"人\"","v":"・・人"},null,null,{"$f":"社員タイプの洗い出し!$K$17&\"・\"&社員タイプの洗い出し!$K$18&\"・\"&社員タイプの洗い出し!$K$19&\"人\"","v":"・・人"},null,null,{"$f":"社員タイプの洗い出し!$K$17&\"・\"&社員タイプの洗い出し!$K$18&\"・\"&社員タイプの洗い出し!$K$19&\"人\"","v":"・・人"},null,null,{"$f":"社員タイプの洗い出し!$K$17&\"・\"&社員タイプの洗い出し!$K$18&\"・\"&社員タイプの洗い出し!$K$19&\"人\"","v":"・・人"},null,null,{"$f":"社員タイプの洗い出し!$K$17&\"・\"&社員タイプの洗い出し!$K$18&\"・\"&社員タイプの洗い出し!$K$19&\"人\"","v":"・・人"},null,null,{"$f":"社員タイプの洗い出し!$K$17&\"・\"&社員タイプの洗い出し!$K$18&\"・\"&社員タイプの洗い出し!$K$19&\"人\"","v":"・・人"},null,null,{"$f":"社員タイプの洗い出し!$K$17&\"・\"&社員タイプの洗い出し!$K$18&\"・\"&社員タイプの洗い出し!$K$19&\"人\"","v":"・・人"},null,null,{"$f":"社員タイプの洗い出し!$K$17&\"・\"&社員タイプの洗い出し!$K$18&\"・\"&社員タイプの洗い出し!$K$19&\"人\"","v":"・・人"},null,null,{"$f":"社員タイプの洗い出し!$K$17&\"・\"&社員タイプの洗い出し!$K$18&\"・\"&社員タイプの洗い出し!$K$19&\"人\"","v":"・・人"},null,null,{"$f":"社員タイプの洗い出し!$L$17&\"・\"&社員タイプの洗い出し!$L$18&\"・\"&社員タイプの洗い出し!$L$19&\"人\"","v":"・・人"},null,null,{"$f":"社員タイプの洗い出し!$L$17&\"・\"&社員タイプの洗い出し!$L$18&\"・\"&社員タイプの洗い出し!$L$19&\"人\"","v":"・・人"},null,null,{"$f":"社員タイプの洗い出し!$L$17&\"・\"&社員タイプの洗い出し!$L$18&\"・\"&社員タイプの洗い出し!$L$19&\"人\"","v":"・・人"},null,null,{"$f":"社員タイプの洗い出し!$L$17&\"・\"&社員タイプの洗い出し!$L$18&\"・\"&社員タイプの洗い出し!$L$19&\"人\"","v":"・・人"},null,null,{"$f":"社員タイプの洗い出し!$L$17&\"・\"&社員タイプの洗い出し!$L$18&\"・\"&社員タイプの洗い出し!$L$19&\"人\"","v":"・・人"},null,null,{"$f":"社員タイプの洗い出し!$L$17&\"・\"&社員タイプの洗い出し!$L$18&\"・\"&社員タイプの洗い出し!$L$19&\"人\"","v":"・・人"},null,null,{"$f":"社員タイプの洗い出し!$L$17&\"・\"&社員タイプの洗い出し!$L$18&\"・\"&社員タイプの洗い出し!$L$19&\"人\"","v":"・・人"},null,null,{"$f":"社員タイプの洗い出し!$L$17&\"・\"&社員タイプの洗い出し!$L$18&\"・\"&社員タイプの洗い出し!$L$19&\"人\"","v":"・・人"},null,null,{"$f":"社員タイプの洗い出し!$L$17&\"・\"&社員タイプの洗い出し!$L$18&\"・\"&社員タイプの洗い出し!$L$19&\"人\"","v":"・・人"},null,null,{"$f":"社員タイプの洗い出し!$L$17&\"・\"&社員タイプの洗い出し!$L$18&\"・\"&社員タイプの洗い出し!$L$19&\"人\"","v":"・・人"},null,null,{"$f":"社員タイプの洗い出し!$M$17&\"・\"&社員タイプの洗い出し!$M$18&\"・\"&社員タイプの洗い出し!$M$19&\"人\"","v":"・・人"},null,null,{"$f":"社員タイプの洗い出し!$M$17&\"・\"&社員タイプの洗い出し!$M$18&\"・\"&社員タイプの洗い出し!$M$19&\"人\"","v":"・・人"},null,null,{"$f":"社員タイプの洗い出し!$M$17&\"・\"&社員タイプの洗い出し!$M$18&\"・\"&社員タイプの洗い出し!$M$19&\"人\"","v":"・・人"},null,null,{"$f":"社員タイプの洗い出し!$M$17&\"・\"&社員タイプの洗い出し!$M$18&\"・\"&社員タイプの洗い出し!$M$19&\"人\"","v":"・・人"},null,null,{"$f":"社員タイプの洗い出し!$M$17&\"・\"&社員タイプの洗い出し!$M$18&\"・\"&社員タイプの洗い出し!$M$19&\"人\"","v":"・・人"},null,null,{"$f":"社員タイプの洗い出し!$M$17&\"・\"&社員タイプの洗い出し!$M$18&\"・\"&社員タイプの洗い出し!$M$19&\"人\"","v":"・・人"},null,null,{"$f":"社員タイプの洗い出し!$M$17&\"・\"&社員タイプの洗い出し!$M$18&\"・\"&社員タイプの洗い出し!$M$19&\"人\"","v":"・・人"},null,null,{"$f":"社員タイプの洗い出し!$M$17&\"・\"&社員タイプの洗い出し!$M$18&\"・\"&社員タイプの洗い出し!$M$19&\"人\"","v":"・・人"},null,null,{"$f":"社員タイプの洗い出し!$M$17&\"・\"&社員タイプの洗い出し!$M$18&\"・\"&社員タイプの洗い出し!$M$19&\"人\"","v":"・・人"},null,null,{"$f":"社員タイプの洗い出し!$M$17&\"・\"&社員タイプの洗い出し!$M$18&\"・\"&社員タイプの洗い出し!$M$19&\"人\"","v":"・・人"},null,null,{"$f":"社員タイプの洗い出し!$N$17&\"・\"&社員タイプの洗い出し!$N$18&\"・\"&社員タイプの洗い出し!$N$19&\"人\"","v":"・・人"},null,null,{"$f":"社員タイプの洗い出し!$N$17&\"・\"&社員タイプの洗い出し!$N$18&\"・\"&社員タイプの洗い出し!$N$19&\"人\"","v":"・・人"},null,null,{"$f":"社員タイプの洗い出し!$N$17&\"・\"&社員タイプの洗い出し!$N$18&\"・\"&社員タイプの洗い出し!$N$19&\"人\"","v":"・・人"},null,null,{"$f":"社員タイプの洗い出し!$N$17&\"・\"&社員タイプの洗い出し!$N$18&\"・\"&社員タイプの洗い出し!$N$19&\"人\"","v":"・・人"},null,null,{"$f":"社員タイプの洗い出し!$N$17&\"・\"&社員タイプの洗い出し!$N$18&\"・\"&社員タイプの洗い出し!$N$19&\"人\"","v":"・・人"},null,null,{"$f":"社員タイプの洗い出し!$N$17&\"・\"&社員タイプの洗い出し!$N$18&\"・\"&社員タイプの洗い出し!$N$19&\"人\"","v":"・・人"},null,null,{"$f":"社員タイプの洗い出し!$N$17&\"・\"&社員タイプの洗い出し!$N$18&\"・\"&社員タイプの洗い出し!$N$19&\"人\"","v":"・・人"},null,null,{"$f":"社員タイプの洗い出し!$N$17&\"・\"&社員タイプの洗い出し!$N$18&\"・\"&社員タイプの洗い出し!$N$19&\"人\"","v":"・・人"},null,null,{"$f":"社員タイプの洗い出し!$N$17&\"・\"&社員タイプの洗い出し!$N$18&\"・\"&社員タイプの洗い出し!$N$19&\"人\"","v":"・・人"},null,null,{"$f":"社員タイプの洗い出し!$N$17&\"・\"&社員タイプの洗い出し!$N$18&\"・\"&社員タイプの洗い出し!$N$19&\"人\"","v":"・・人"}]
["職務の内容","職務の内容を棚卸する際に適当と考える社員",null,null,null,null,null,null,null,null,null,null,null,"職務の内容","職務の内容を棚卸する際に適当と考える社員"]
[null,"業務内容\n(職種)",null,null,null,null,null,null,null,null,null,null,null,null,"業務内容\n(職種)"]
[null,"中核的業務",null,null,null,null,null,null,null,null,null,null,null,null,"中核的業務"]
[null,"責任の程度",null,null,null,null,null,null,null,null,null,null,null,null,"責任の程度"]
["職務の内容・\n配置の変更の範囲","働く場所の\n変更の有無",{"$f":"IF('職務の内容・配置の変更の範囲の整理(正社員)'!E$14<>\"\",'職務の内容・配置の変更の範囲の整理(正社員)'!E$14,\"\")","v":""},{"$f":"IF('職務の内容・配置の変更の範囲の整理(正社員)'!F$14<>\"\",'職務の内容・配置の変更の範囲の整理(正社員)'!F$14,\"\")","v":""},{"$f":"IF('職務の内容・配置の変更の範囲の整理(正社員)'!G$14<>\"\",'職務の内容・配置の変更の範囲の整理(正社員)'!G$14,\"\")","v":""},{"$f":"IF('職務の内容・配置の変更の範囲の整理(正社員)'!H$14<>\"\",'職務の内容・配置の変更の範囲の整理(正社員)'!H$14,\"\")","v":""},{"$f":"IF('職務の内容・配置の変更の範囲の整理(正社員)'!I$14<>\"\",'職務の内容・配置の変更の範囲の整理(正社員)'!I$14,\"\")","v":""},{"$f":"IF('職務の内容・配置の変更の範囲の整理(正社員)'!J$14<>\"\",'職務の内容・配置の変更の範囲の整理(正社員)'!J$14,\"\")","v":""},{"$f":"IF('職務の内容・配置の変更の範囲の整理(正社員)'!K$14<>\"\",'職務の内容・配置の変更の範囲の整理(正社員)'!K$14,\"\")","v":""},{"$f":"IF('職務の内容・配置の変更の範囲の整理(正社員)'!L$14<>\"\",'職務の内容・配置の変更の範囲の整理(正社員)'!L$14,\"\")","v":""},{"$f":"IF('職務の内容・配置の変更の範囲の整理(正社員)'!M$14<>\"\",'職務の内容・配置の変更の範囲の整理(正社員)'!M$14,\"\")","v":""},{"$f":"IF('職務の内容・配置の変更の範囲の整理(正社員)'!N$14<>\"\",'職務の内容・配置の変更の範囲の整理(正社員)'!N$14,\"\")","v":""},null,"職務の内容・\n配置の変更の範囲","働く場所の\n変更の有無"]
[null,"働く場所の\n変更の詳細",{"$f":"IF('職務の内容・配置の変更の範囲の整理(正社員)'!E$15<>\"\",'職務の内容・配置の変更の範囲の整理(正社員)'!E$15,\"\")","v":""},{"$f":"IF('職務の内容・配置の変更の範囲の整理(正社員)'!F$15<>\"\",'職務の内容・配置の変更の範囲の整理(正社員)'!F$15,\"\")","v":""},{"$f":"IF('職務の内容・配置の変更の範囲の整理(正社員)'!G$15<>\"\",'職務の内容・配置の変更の範囲の整理(正社員)'!G$15,\"\")","v":""},{"$f":"IF('職務の内容・配置の変更の範囲の整理(正社員)'!H$15<>\"\",'職務の内容・配置の変更の範囲の整理(正社員)'!H$15,\"\")","v":""},{"$f":"IF('職務の内容・配置の変更の範囲の整理(正社員)'!I$15<>\"\",'職務の内容・配置の変更の範囲の整理(正社員)'!I$15,\"\")","v":""},{"$f":"IF('職務の内容・配置の変更の範囲の整理(正社員)'!J$15<>\"\",'職務の内容・配置の変更の範囲の整理(正社員)'!J$15,\"\")","v":""},{"$f":"IF('職務の内容・配置の変更の範囲の整理(正社員)'!K$15<>\"\",'職務の内容・配置の変更の範囲の整理(正社員)'!K$15,\"\")","v":""},{"$f":"IF('職務の内容・配置の変更の範囲の整理(正社員)'!L$15<>\"\",'職務の内容・配置の変更の範囲の整理(正社員)'!L$15,\"\")","v":""},{"$f":"IF('職務の内容・配置の変更の範囲の整理(正社員)'!M$15<>\"\",'職務の内容・配置の変更の範囲の整理(正社員)'!M$15,\"\")","v":""},{"$f":"IF('職務の内容・配置の変更の範囲の整理(正社員)'!N$15<>\"\",'職務の内容・配置の変更の範囲の整理(正社員)'!N$15,\"\")","v":""},null,null,"働く場所の\n変更の詳細"]
[null,"従事する仕事の\n変更の有無",{"$f":"IF('職務の内容・配置の変更の範囲の整理(正社員)'!E$16<>\"\",'職務の内容・配置の変更の範囲の整理(正社員)'!E$16,\"\")","v":""},{"$f":"IF('職務の内容・配置の変更の範囲の整理(正社員)'!F$16<>\"\",'職務の内容・配置の変更の範囲の整理(正社員)'!F$16,\"\")","v":""},{"$f":"IF('職務の内容・配置の変更の範囲の整理(正社員)'!G$16<>\"\",'職務の内容・配置の変更の範囲の整理(正社員)'!G$16,\"\")","v":""},{"$f":"IF('職務の内容・配置の変更の範囲の整理(正社員)'!H$16<>\"\",'職務の内容・配置の変更の範囲の整理(正社員)'!H$16,\"\")","v":""},{"$f":"IF('職務の内容・配置の変更の範囲の整理(正社員)'!I$16<>\"\",'職務の内容・配置の変更の範囲の整理(正社員)'!I$16,\"\")","v":""},{"$f":"IF('職務の内容・配置の変更の範囲の整理(正社員)'!J$16<>\"\",'職務の内容・配置の変更の範囲の整理(正社員)'!J$16,\"\")","v":""},{"$f":"IF('職務の内容・配置の変更の範囲の整理(正社員)'!K$16<>\"\",'職務の内容・配置の変更の範囲の整理(正社員)'!K$16,\"\")","v":""},{"$f":"IF('職務の内容・配置の変更の範囲の整理(正社員)'!L$16<>\"\",'職務の内容・配置の変更の範囲の整理(正社員)'!L$16,\"\")","v":""},{"$f":"IF('職務の内容・配置の変更の範囲の整理(正社員)'!M$16<>\"\",'職務の内容・配置の変更の範囲の整理(正社員)'!M$16,\"\")","v":""},{"$f":"IF('職務の内容・配置の変更の範囲の整理(正社員)'!N$16<>\"\",'職務の内容・配置の変更の範囲の整理(正社員)'!N$16,\"\")","v":""},null,null,"従事する仕事の\n変更の有無"]
[null,"従事する仕事の\n変更の詳細",{"$f":"IF('職務の内容・配置の変更の範囲の整理(正社員)'!E$17<>\"\",'職務の内容・配置の変更の範囲の整理(正社員)'!E$17,\"\")","v":""},{"$f":"IF('職務の内容・配置の変更の範囲の整理(正社員)'!F$17<>\"\",'職務の内容・配置の変更の範囲の整理(正社員)'!F$17,\"\")","v":""},{"$f":"IF('職務の内容・配置の変更の範囲の整理(正社員)'!G$17<>\"\",'職務の内容・配置の変更の範囲の整理(正社員)'!G$17,\"\")","v":""},{"$f":"IF('職務の内容・配置の変更の範囲の整理(正社員)'!H$17<>\"\",'職務の内容・配置の変更の範囲の整理(正社員)'!H$17,\"\")","v":""},{"$f":"IF('職務の内容・配置の変更の範囲の整理(正社員)'!I$17<>\"\",'職務の内容・配置の変更の範囲の整理(正社員)'!I$17,\"\")","v":""},{"$f":"IF('職務の内容・配置の変更の範囲の整理(正社員)'!J$17<>\"\",'職務の内容・配置の変更の範囲の整理(正社員)'!J$17,\"\")","v":""},{"$f":"IF('職務の内容・配置の変更の範囲の整理(正社員)'!K$17<>\"\",'職務の内容・配置の変更の範囲の整理(正社員)'!K$17,\"\")","v":""},{"$f":"IF('職務の内容・配置の変更の範囲の整理(正社員)'!L$17<>\"\",'職務の内容・配置の変更の範囲の整理(正社員)'!L$17,\"\")","v":""},{"$f":"IF('職務の内容・配置の変更の範囲の整理(正社員)'!M$17<>\"\",'職務の内容・配置の変更の範囲の整理(正社員)'!M$17,\"\")","v":""},{"$f":"IF('職務の内容・配置の変更の範囲の整理(正社員)'!N$17<>\"\",'職務の内容・配置の変更の範囲の整理(正社員)'!N$17,\"\")","v":""},null,null,"従事する仕事の\n変更の詳細"]
["index","index",null,null,null,null,null,null,null,null,null,null,null,null,null,null,"待遇差の理由","待遇差の対応策",null,"待遇差の理由","待遇差の対応策",null,"待遇差の理由","待遇差の改善策",null,"待遇差の理由","待遇差の改善策",null,"待遇差の理由","待遇差の改善策",null,"待遇差の理由","待遇差の改善策",null,"待遇差の理由","待遇差の改善策",null,"待遇差の理由","待遇差の改善策",null,"待遇差の理由","待遇差の改善策",null,"待遇差の理由","待遇差の改善策",null,"待遇差の理由","待遇差の対応策",null,"待遇差の理由","待遇差の対応策",null,"待遇差の理由","待遇差の改善策",null,"待遇差の理由","待遇差の改善策",null,"待遇差の理由","待遇差の改善策",null,"待遇差の理由","待遇差の改善策",null,"待遇差の理由","待遇差の改善策",null,"待遇差の理由","待遇差の改善策",null,"待遇差の理由","待遇差の改善策",null,"待遇差の理由","待遇差の改善策",null,"待遇差の理由","待遇差の対応策",null,"待遇差の理由","待遇差の対応策",null,"待遇差の理由","待遇差の改善策",null,"待遇差の理由","待遇差の改善策",null,"待遇差の理由","待遇差の改善策",null,"待遇差の理由","待遇差の改善策",null,"待遇差の理由","待遇差の改善策",null,"待遇差の理由","待遇差の改善策",null,"待遇差の理由","待遇差の改善策",null,"待遇差の理由","待遇差の改善策",null,"待遇差の理由","待遇差の改善策",null,"待遇差の理由","待遇差の改善策",null,"待遇差の理由","待遇差の改善策",null,"待遇差の理由","待遇差の改善策",null,"待遇差の理由","待遇差の改善策",null,"待遇差の理由","待遇差の改善策",null,"待遇差の理由","待遇差の改善策",null,"待遇差の理由","待遇差の改善策",null,"待遇差の理由","待遇差の改善策",null,"待遇差の理由","待遇差の改善策",null,"待遇差の理由","待遇差の改善策",null,"待遇差の理由","待遇差の改善策",null,"待遇差の理由","待遇差の改善策",null,"待遇差の理由","待遇差の改善策",null,"待遇差の理由","待遇差の改善策",null,"待遇差の理由","待遇差の改善策",null,"待遇差の理由","待遇差の改善策",null,"待遇差の理由","待遇差の改善策",null,"待遇差の理由","待遇差の改善策",null,"待遇差の理由","待遇差の改善策",null,"待遇差の理由","待遇差の改善策",null,"待遇差の理由","待遇差の改善策",null,"待遇差の理由","待遇差の改善策",null,"待遇差の理由","待遇差の改善策",null,"待遇差の理由","待遇差の改善策",null,"待遇差の理由","待遇差の改善策",null,"待遇差の理由","待遇差の改善策",null,"待遇差の理由","待遇差の改善策",null,"待遇差の理由","待遇差の改善策",null,"待遇差の理由","待遇差の改善策",null,"待遇差の理由","待遇差の改善策",null,"待遇差の理由","待遇差の改善策",null,"待遇差の理由","待遇差の改善策",null,"待遇差の理由","待遇差の改善策",null,"待遇差の理由","待遇差の改善策",null,"待遇差の理由","待遇差の改善策",null,"待遇差の理由","待遇差の改善策",null,"待遇差の理由","待遇差の改善策",null,"待遇差の理由","待遇差の改善策",null,"待遇差の理由","待遇差の改善策",null,"待遇差の理由","待遇差の改善策",null,"待遇差の理由","待遇差の改善策",null,"待遇差の理由","待遇差の改善策",null,"待遇差の理由","待遇差の改善策",null,"待遇差の理由","待遇差の改善策",null,"待遇差の理由","待遇差の改善策",null,"待遇差の理由","待遇差の改善策",null,"待遇差の理由","待遇差の改善策",null,"待遇差の理由","待遇差の改善策",null,"待遇差の理由","待遇差の改善策",null,"待遇差の理由","待遇差の改善策",null,"待遇差の理由","待遇差の改善策",null,"待遇差の理由","待遇差の改善策",null,"待遇差の理由","待遇差の改善策",null,"待遇差の理由","待遇差の改善策",null,"待遇差の理由","待遇差の改善策",null,"待遇差の理由","待遇差の改善策",null,"待遇差の理由","待遇差の改善策",null,"待遇差の理由","待遇差の改善策",null,"待遇差の理由","待遇差の改善策",null,"待遇差の理由","待遇差の改善策",null,"待遇差の理由","待遇差の改善策",null,"待遇差の理由","待遇差の改善策",null,"待遇差の理由","待遇差の改善策",null,"待遇差の理由","待遇差の改善策",null,"待遇差の理由","待遇差の改善策",null,"待遇差の理由","待遇差の改善策",null,"待遇差の理由","待遇差の改善策",null,"待遇差の理由","待遇差の改善策",null,"待遇差の理由","待遇差の改善策"]
["支給している基本給の比率","（正社員の基本給を100として記入）",100,100,100,100,100,100,100,100,100,100,null,"支給している基本給の比率","（正社員の基本給を100として記入）",null,null,null,null,null,null,null,null,null,null,null,null,null,null,null,null,null,null,null,null,null,null,null,null,null,null,null,null,null,null,80]
["基本給（決定要素）",{"$f":"IF('待遇の洗い出し(正社員)'!B9<>0,'待遇の洗い出し(正社員)'!B9,\"\")","v":"職務の遂行能力"},{"$f":"IF('待遇の整理(正社員)'!D13<>\"\",'待遇の整理(正社員)'!D13,\"\")","v":""},{"$f":"IF('待遇の整理(正社員)'!E13<>\"\",'待遇の整理(正社員)'!E13,\"\")","v":""},{"$f":"IF('待遇の整理(正社員)'!F13<>\"\",'待遇の整理(正社員)'!F13,\"\")","v":""},{"$f":"IF('待遇の整理(正社員)'!G13<>\"\",'待遇の整理(正社員)'!G13,\"\")","v":""},{"$f":"IF('待遇の整理(正社員)'!H13<>\"\",'待遇の整理(正社員)'!H13,\"\")","v":""},{"$f":"IF('待遇の整理(正社員)'!I13<>\"\",'待遇の整理(正社員)'!I13,\"\")","v":""},{"$f":"IF('待遇の整理(正社員)'!J13<>\"\",'待遇の整理(正社員)'!J13,\"\")","v":""},{"$f":"IF('待遇の整理(正社員)'!K13<>\"\",'待遇の整理(正社員)'!K13,\"\")","v":""},{"$f":"IF('待遇の整理(正社員)'!L13<>\"\",'待遇の整理(正社員)'!L13,\"\")","v":""},{"$f":"IF('待遇の整理(正社員)'!M13<>\"\",'待遇の整理(正社員)'!M13,\"\")","v":""},null,"基本給（決定要素）",{"$f":"IF('待遇の洗い出し(正社員)'!$B9<>0,'待遇の洗い出し(正社員)'!$B9,\"\")","v":"職務の遂行能力"}]
["基本給（決定要素）",{"$f":"IF('待遇の洗い出し(正社員)'!B10<>0,'待遇の洗い出し(正社員)'!B10,\"\")","v":"業務の内容や責任の重さ"},{"$f":"IF('待遇の整理(正社員)'!D14<>\"\",'待遇の整理(正社員)'!D14,\"\")","v":""},{"$f":"IF('待遇の整理(正社員)'!E14<>\"\",'待遇の整理(正社員)'!E14,\"\")","v":""},{"$f":"IF('待遇の整理(正社員)'!F14<>\"\",'待遇の整理(正社員)'!F14,\"\")","v":""},{"$f":"IF('待遇の整理(正社員)'!G14<>\"\",'待遇の整理(正社員)'!G14,\"\")","v":""},{"$f":"IF('待遇の整理(正社員)'!H14<>\"\",'待遇の整理(正社員)'!H14,\"\")","v":""},{"$f":"IF('待遇の整理(正社員)'!I14<>\"\",'待遇の整理(正社員)'!I14,\"\")","v":""},{"$f":"IF('待遇の整理(正社員)'!J14<>\"\",'待遇の整理(正社員)'!J14,\"\")","v":""},{"$f":"IF('待遇の整理(正社員)'!K14<>\"\",'待遇の整理(正社員)'!K14,\"\")","v":""},{"$f":"IF('待遇の整理(正社員)'!L14<>\"\",'待遇の整理(正社員)'!L14,\"\")","v":""},{"$f":"IF('待遇の整理(正社員)'!M14<>\"\",'待遇の整理(正社員)'!M14,\"\")","v":""},null,"基本給（決定要素）",{"$f":"IF('待遇の洗い出し(正社員)'!$B10<>0,'待遇の洗い出し(正社員)'!$B10,\"\")","v":"業務の内容や責任の重さ"}]
["基本給（決定要素）",{"$f":"IF('待遇の洗い出し(正社員)'!B11<>0,'待遇の洗い出し(正社員)'!B11,\"\")","v":"仕事の成果や業績"},{"$f":"IF('待遇の整理(正社員)'!D15<>\"\",'待遇の整理(正社員)'!D15,\"\")","v":""},{"$f":"IF('待遇の整理(正社員)'!E15<>\"\",'待遇の整理(正社員)'!E15,\"\")","v":""},{"$f":"IF('待遇の整理(正社員)'!F15<>\"\",'待遇の整理(正社員)'!F15,\"\")","v":""},{"$f":"IF('待遇の整理(正社員)'!G15<>\"\",'待遇の整理(正社員)'!G15,\"\")","v":""},{"$f":"IF('待遇の整理(正社員)'!H15<>\"\",'待遇の整理(正社員)'!H15,\"\")","v":""},{"$f":"IF('待遇の整理(正社員)'!I15<>\"\",'待遇の整理(正社員)'!I15,\"\")","v":""},{"$f":"IF('待遇の整理(正社員)'!J15<>\"\",'待遇の整理(正社員)'!J15,\"\")","v":""},{"$f":"IF('待遇の整理(正社員)'!K15<>\"\",'待遇の整理(正社員)'!K15,\"\")","v":""},{"$f":"IF('待遇の整理(正社員)'!L15<>\"\",'待遇の整理(正社員)'!L15,\"\")","v":""},{"$f":"IF('待遇の整理(正社員)'!M15<>\"\",'待遇の整理(正社員)'!M15,\"\")","v":""},null,"基本給（決定要素）",{"$f":"IF('待遇の洗い出し(正社員)'!$B11<>0,'待遇の洗い出し(正社員)'!$B11,\"\")","v":"仕事の成果や業績"}]
["基本給（決定要素）",{"$f":"IF('待遇の洗い出し(正社員)'!B12<>0,'待遇の洗い出し(正社員)'!B12,\"\")","v":"年齢や勤続年数"},{"$f":"IF('待遇の整理(正社員)'!D16<>\"\",'待遇の整理(正社員)'!D16,\"\")","v":""},{"$f":"IF('待遇の整理(正社員)'!E16<>\"\",'待遇の整理(正社員)'!E16,\"\")","v":""},{"$f":"IF('待遇の整理(正社員)'!F16<>\"\",'待遇の整理(正社員)'!F16,\"\")","v":""},{"$f":"IF('待遇の整理(正社員)'!G16<>\"\",'待遇の整理(正社員)'!G16,\"\")","v":""},{"$f":"IF('待遇の整理(正社員)'!H16<>\"\",'待遇の整理(正社員)'!H16,\"\")","v":""},{"$f":"IF('待遇の整理(正社員)'!I16<>\"\",'待遇の整理(正社員)'!I16,\"\")","v":""},{"$f":"IF('待遇の整理(正社員)'!J16<>\"\",'待遇の整理(正社員)'!J16,\"\")","v":""},{"$f":"IF('待遇の整理(正社員)'!K16<>\"\",'待遇の整理(正社員)'!K16,\"\")","v":""},{"$f":"IF('待遇の整理(正社員)'!L16<>\"\",'待遇の整理(正社員)'!L16,\"\")","v":""},{"$f":"IF('待遇の整理(正社員)'!M16<>\"\",'待遇の整理(正社員)'!M16,\"\")","v":""},null,"基本給（決定要素）",{"$f":"IF('待遇の洗い出し(正社員)'!$B12<>0,'待遇の洗い出し(正社員)'!$B12,\"\")","v":"年齢や勤続年数"}]
["基本給（決定要素）",{"$f":"IF('待遇の洗い出し(正社員)'!B13<>0,'待遇の洗い出し(正社員)'!B13,\"\")","v":"市場での賃金相場"},{"$f":"IF('待遇の整理(正社員)'!D17<>\"\",'待遇の整理(正社員)'!D17,\"\")","v":""},{"$f":"IF('待遇の整理(正社員)'!E17<>\"\",'待遇の整理(正社員)'!E17,\"\")","v":""},{"$f":"IF('待遇の整理(正社員)'!F17<>\"\",'待遇の整理(正社員)'!F17,\"\")","v":""},{"$f":"IF('待遇の整理(正社員)'!G17<>\"\",'待遇の整理(正社員)'!G17,\"\")","v":""},{"$f":"IF('待遇の整理(正社員)'!H17<>\"\",'待遇の整理(正社員)'!H17,\"\")","v":""},{"$f":"IF('待遇の整理(正社員)'!I17<>\"\",'待遇の整理(正社員)'!I17,\"\")","v":""},{"$f":"IF('待遇の整理(正社員)'!J17<>\"\",'待遇の整理(正社員)'!J17,\"\")","v":""},{"$f":"IF('待遇の整理(正社員)'!K17<>\"\",'待遇の整理(正社員)'!K17,\"\")","v":""},{"$f":"IF('待遇の整理(正社員)'!L17<>\"\",'待遇の整理(正社員)'!L17,\"\")","v":""},{"$f":"IF('待遇の整理(正社員)'!M17<>\"\",'待遇の整理(正社員)'!M17,\"\")","v":""},null,"基本給（決定要素）",{"$f":"IF('待遇の洗い出し(正社員)'!$B13<>0,'待遇の洗い出し(正社員)'!$B13,\"\")","v":"市場での賃金相場"}]
["基本給（決定要素）",{"$f":"IF('待遇の洗い出し(正社員)'!B14<>0,'待遇の洗い出し(正社員)'!B14,\"\")","v":""},{"$f":"IF('待遇の整理(正社員)'!D18<>\"\",'待遇の整理(正社員)'!D18,\"\")","v":""},{"$f":"IF('待遇の整理(正社員)'!E18<>\"\",'待遇の整理(正社員)'!E18,\"\")","v":""},{"$f":"IF('待遇の整理(正社員)'!F18<>\"\",'待遇の整理(正社員)'!F18,\"\")","v":""},{"$f":"IF('待遇の整理(正社員)'!G18<>\"\",'待遇の整理(正社員)'!G18,\"\")","v":""},{"$f":"IF('待遇の整理(正社員)'!H18<>\"\",'待遇の整理(正社員)'!H18,\"\")","v":""},{"$f":"IF('待遇の整理(正社員)'!I18<>\"\",'待遇の整理(正社員)'!I18,\"\")","v":""},{"$f":"IF('待遇の整理(正社員)'!J18<>\"\",'待遇の整理(正社員)'!J18,\"\")","v":""},{"$f":"IF('待遇の整理(正社員)'!K18<>\"\",'待遇の整理(正社員)'!K18,\"\")","v":""},{"$f":"IF('待遇の整理(正社員)'!L18<>\"\",'待遇の整理(正社員)'!L18,\"\")","v":""},{"$f":"IF('待遇の整理(正社員)'!M18<>\"\",'待遇の整理(正社員)'!M18,\"\")","v":""},null,"基本給（決定要素）",{"$f":"IF('待遇の洗い出し(正社員)'!$B14<>0,'待遇の洗い出し(正社員)'!$B14,\"\")","v":""}]
["基本給（決定要素）",{"$f":"IF('待遇の洗い出し(正社員)'!B15<>0,'待遇の洗い出し(正社員)'!B15,\"\")","v":""},{"$f":"IF('待遇の整理(正社員)'!D19<>\"\",'待遇の整理(正社員)'!D19,\"\")","v":""},{"$f":"IF('待遇の整理(正社員)'!E19<>\"\",'待遇の整理(正社員)'!E19,\"\")","v":""},{"$f":"IF('待遇の整理(正社員)'!F19<>\"\",'待遇の整理(正社員)'!F19,\"\")","v":""},{"$f":"IF('待遇の整理(正社員)'!G19<>\"\",'待遇の整理(正社員)'!G19,\"\")","v":""},{"$f":"IF('待遇の整理(正社員)'!H19<>\"\",'待遇の整理(正社員)'!H19,\"\")","v":""},{"$f":"IF('待遇の整理(正社員)'!I19<>\"\",'待遇の整理(正社員)'!I19,\"\")","v":""},{"$f":"IF('待遇の整理(正社員)'!J19<>\"\",'待遇の整理(正社員)'!J19,\"\")","v":""},{"$f":"IF('待遇の整理(正社員)'!K19<>\"\",'待遇の整理(正社員)'!K19,\"\")","v":""},{"$f":"IF('待遇の整理(正社員)'!L19<>\"\",'待遇の整理(正社員)'!L19,\"\")","v":""},{"$f":"IF('待遇の整理(正社員)'!M19<>\"\",'待遇の整理(正社員)'!M19,\"\")","v":""},null,"基本給（決定要素）",{"$f":"IF('待遇の洗い出し(正社員)'!$B15<>0,'待遇の洗い出し(正社員)'!$B15,\"\")","v":""}]
["基本給（決定要素）",{"$f":"IF('待遇の洗い出し(正社員)'!B16<>0,'待遇の洗い出し(正社員)'!B16,\"\")","v":""},{"$f":"IF('待遇の整理(正社員)'!D20<>\"\",'待遇の整理(正社員)'!D20,\"\")","v":""},{"$f":"IF('待遇の整理(正社員)'!E20<>\"\",'待遇の整理(正社員)'!E20,\"\")","v":""},{"$f":"IF('待遇の整理(正社員)'!F20<>\"\",'待遇の整理(正社員)'!F20,\"\")","v":""},{"$f":"IF('待遇の整理(正社員)'!G20<>\"\",'待遇の整理(正社員)'!G20,\"\")","v":""},{"$f":"IF('待遇の整理(正社員)'!H20<>\"\",'待遇の整理(正社員)'!H20,\"\")","v":""},{"$f":"IF('待遇の整理(正社員)'!I20<>\"\",'待遇の整理(正社員)'!I20,\"\")","v":""},{"$f":"IF('待遇の整理(正社員)'!J20<>\"\",'待遇の整理(正社員)'!J20,\"\")","v":""},{"$f":"IF('待遇の整理(正社員)'!K20<>\"\",'待遇の整理(正社員)'!K20,\"\")","v":""},{"$f":"IF('待遇の整理(正社員)'!L20<>\"\",'待遇の整理(正社員)'!L20,\"\")","v":""},{"$f":"IF('待遇の整理(正社員)'!M20<>\"\",'待遇の整理(正社員)'!M20,\"\")","v":""},null,"基本給（決定要素）",{"$f":"IF('待遇の洗い出し(正社員)'!$B16<>0,'待遇の洗い出し(正社員)'!$B16,\"\")","v":""}]
["基本給（決定要素）",{"$f":"IF('待遇の洗い出し(正社員)'!B17<>0,'待遇の洗い出し(正社員)'!B17,\"\")","v":""},{"$f":"IF('待遇の整理(正社員)'!D21<>\"\",'待遇の整理(正社員)'!D21,\"\")","v":""},{"$f":"IF('待遇の整理(正社員)'!E21<>\"\",'待遇の整理(正社員)'!E21,\"\")","v":""},{"$f":"IF('待遇の整理(正社員)'!F21<>\"\",'待遇の整理(正社員)'!F21,\"\")","v":""},{"$f":"IF('待遇の整理(正社員)'!G21<>\"\",'待遇の整理(正社員)'!G21,\"\")","v":""},{"$f":"IF('待遇の整理(正社員)'!H21<>\"\",'待遇の整理(正社員)'!H21,\"\")","v":""},{"$f":"IF('待遇の整理(正社員)'!I21<>\"\",'待遇の整理(正社員)'!I21,\"\")","v":""},{"$f":"IF('待遇の整理(正社員)'!J21<>\"\",'待遇の整理(正社員)'!J21,\"\")","v":""},{"$f":"IF('待遇の整理(正社員)'!K21<>\"\",'待遇の整理(正社員)'!K21,\"\")","v":""},{"$f":"IF('待遇の整理(正社員)'!L21<>\"\",'待遇の整理(正社員)'!L21,\"\")","v":""},{"$f":"IF('待遇の整理(正社員)'!M21<>\"\",'待遇の整理(正社員)'!M21,\"\")","v":""},null,"基本給（決定要素）",{"$f":"IF('待遇の洗い出し(正社員)'!$B17<>0,'待遇の洗い出し(正社員)'!$B17,\"\")","v":""}]
["基本給（決定要素）",{"$f":"IF('待遇の洗い出し(正社員)'!B18<>0,'待遇の洗い出し(正社員)'!B18,\"\")","v":""},{"$f":"IF('待遇の整理(正社員)'!D22<>\"\",'待遇の整理(正社員)'!D22,\"\")","v":""},{"$f":"IF('待遇の整理(正社員)'!E22<>\"\",'待遇の整理(正社員)'!E22,\"\")","v":""},{"$f":"IF('待遇の整理(正社員)'!F22<>\"\",'待遇の整理(正社員)'!F22,\"\")","v":""},{"$f":"IF('待遇の整理(正社員)'!G22<>\"\",'待遇の整理(正社員)'!G22,\"\")","v":""},{"$f":"IF('待遇の整理(正社員)'!H22<>\"\",'待遇の整理(正社員)'!H22,\"\")","v":""},{"$f":"IF('待遇の整理(正社員)'!I22<>\"\",'待遇の整理(正社員)'!I22,\"\")","v":""},{"$f":"IF('待遇の整理(正社員)'!J22<>\"\",'待遇の整理(正社員)'!J22,\"\")","v":""},{"$f":"IF('待遇の整理(正社員)'!K22<>\"\",'待遇の整理(正社員)'!K22,\"\")","v":""},{"$f":"IF('待遇の整理(正社員)'!L22<>\"\",'待遇の整理(正社員)'!L22,\"\")","v":""},{"$f":"IF('待遇の整理(正社員)'!M22<>\"\",'待遇の整理(正社員)'!M22,\"\")","v":""},null,"基本給（決定要素）",{"$f":"IF('待遇の洗い出し(正社員)'!$B18<>0,'待遇の洗い出し(正社員)'!$B18,\"\")","v":""}]
["賞与","賞与",{"$f":"IF('待遇の整理(正社員)'!D23<>\"\",'待遇の整理(正社員)'!D23,\"\")","v":"適用"},{"$f":"IF('待遇の整理(正社員)'!E23<>\"\",'待遇の整理(正社員)'!E23,\"\")","v":"適用"},{"$f":"IF('待遇の整理(正社員)'!F23<>\"\",'待遇の整理(正社員)'!F23,\"\")","v":"適用"},{"$f":"IF('待遇の整理(正社員)'!G23<>\"\",'待遇の整理(正社員)'!G23,\"\")","v":"適用"},{"$f":"IF('待遇の整理(正社員)'!H23<>\"\",'待遇の整理(正社員)'!H23,\"\")","v":"適用"},{"$f":"IF('待遇の整理(正社員)'!I23<>\"\",'待遇の整理(正社員)'!I23,\"\")","v":"適用"},{"$f":"IF('待遇の整理(正社員)'!J23<>\"\",'待遇の整理(正社員)'!J23,\"\")","v":"適用"},{"$f":"IF('待遇の整理(正社員)'!K23<>\"\",'待遇の整理(正社員)'!K23,\"\")","v":"適用"},{"$f":"IF('待遇の整理(正社員)'!L23<>\"\",'待遇の整理(正社員)'!L23,\"\")","v":"適用"},{"$f":"IF('待遇の整理(正社員)'!M23<>\"\",'待遇の整理(正社員)'!M23,\"\")","v":"適用"},null,"賞与"]
["手当",{"$f":"IF('待遇の洗い出し(正社員)'!$B20<>0,'待遇の洗い出し(正社員)'!$B20,\"\")","v":""},{"$f":"IF('待遇の整理(正社員)'!D24<>\"\",'待遇の整理(正社員)'!D24,\"\")","v":"適用"},{"$f":"IF('待遇の整理(正社員)'!E24<>\"\",'待遇の整理(正社員)'!E24,\"\")","v":"適用"},{"$f":"IF('待遇の整理(正社員)'!F24<>\"\",'待遇の整理(正社員)'!F24,\"\")","v":"適用"},{"$f":"IF('待遇の整理(正社員)'!G24<>\"\",'待遇の整理(正社員)'!G24,\"\")","v":"適用"},{"$f":"IF('待遇の整理(正社員)'!H24<>\"\",'待遇の整理(正社員)'!H24,\"\")","v":"適用"},{"$f":"IF('待遇の整理(正社員)'!I24<>\"\",'待遇の整理(正社員)'!I24,\"\")","v":"適用"},{"$f":"IF('待遇の整理(正社員)'!J24<>\"\",'待遇の整理(正社員)'!J24,\"\")","v":"適用"},{"$f":"IF('待遇の整理(正社員)'!K24<>\"\",'待遇の整理(正社員)'!K24,\"\")","v":"適用"},{"$f":"IF('待遇の整理(正社員)'!L24<>\"\",'待遇の整理(正社員)'!L24,\"\")","v":"適用"},{"$f":"IF('待遇の整理(正社員)'!M24<>\"\",'待遇の整理(正社員)'!M24,\"\")","v":"適用"},null,"手当",{"$f":"IF('待遇の洗い出し(正社員)'!$B20<>0,'待遇の洗い出し(正社員)'!$B20,\"\")","v":""}]
["手当",{"$f":"IF('待遇の洗い出し(正社員)'!$B21<>0,'待遇の洗い出し(正社員)'!$B21,\"\")","v":""},{"$f":"IF('待遇の整理(正社員)'!D25<>\"\",'待遇の整理(正社員)'!D25,\"\")","v":"適用"},{"$f":"IF('待遇の整理(正社員)'!E25<>\"\",'待遇の整理(正社員)'!E25,\"\")","v":"適用"},{"$f":"IF('待遇の整理(正社員)'!F25<>\"\",'待遇の整理(正社員)'!F25,\"\")","v":"適用"},{"$f":"IF('待遇の整理(正社員)'!G25<>\"\",'待遇の整理(正社員)'!G25,\"\")","v":"適用"},{"$f":"IF('待遇の整理(正社員)'!H25<>\"\",'待遇の整理(正社員)'!H25,\"\")","v":"適用"},{"$f":"IF('待遇の整理(正社員)'!I25<>\"\",'待遇の整理(正社員)'!I25,\"\")","v":"適用"},{"$f":"IF('待遇の整理(正社員)'!J25<>\"\",'待遇の整理(正社員)'!J25,\"\")","v":"適用"},{"$f":"IF('待遇の整理(正社員)'!K25<>\"\",'待遇の整理(正社員)'!K25,\"\")","v":"適用"},{"$f":"IF('待遇の整理(正社員)'!L25<>\"\",'待遇の整理(正社員)'!L25,\"\")","v":"適用"},{"$f":"IF('待遇の整理(正社員)'!M25<>\"\",'待遇の整理(正社員)'!M25,\"\")","v":"適用"},null,"手当",{"$f":"IF('待遇の洗い出し(正社員)'!$B21<>0,'待遇の洗い出し(正社員)'!$B21,\"\")","v":""}]
["手当",{"$f":"IF('待遇の洗い出し(正社員)'!$B22<>0,'待遇の洗い出し(正社員)'!$B22,\"\")","v":""},{"$f":"IF('待遇の整理(正社員)'!D26<>\"\",'待遇の整理(正社員)'!D26,\"\")","v":"適用"},{"$f":"IF('待遇の整理(正社員)'!E26<>\"\",'待遇の整理(正社員)'!E26,\"\")","v":"適用"},{"$f":"IF('待遇の整理(正社員)'!F26<>\"\",'待遇の整理(正社員)'!F26,\"\")","v":"適用"},{"$f":"IF('待遇の整理(正社員)'!G26<>\"\",'待遇の整理(正社員)'!G26,\"\")","v":"適用"},{"$f":"IF('待遇の整理(正社員)'!H26<>\"\",'待遇の整理(正社員)'!H26,\"\")","v":"適用"},{"$f":"IF('待遇の整理(正社員)'!I26<>\"\",'待遇の整理(正社員)'!I26,\"\")","v":"適用"},{"$f":"IF('待遇の整理(正社員)'!J26<>\"\",'待遇の整理(正社員)'!J26,\"\")","v":"適用"},{"$f":"IF('待遇の整理(正社員)'!K26<>\"\",'待遇の整理(正社員)'!K26,\"\")","v":"適用"},{"$f":"IF('待遇の整理(正社員)'!L26<>\"\",'待遇の整理(正社員)'!L26,\"\")","v":"適用"},{"$f":"IF('待遇の整理(正社員)'!M26<>\"\",'待遇の整理(正社員)'!M26,\"\")","v":"適用"},null,"手当",{"$f":"IF('待遇の洗い出し(正社員)'!$B22<>0,'待遇の洗い出し(正社員)'!$B22,\"\")","v":""}]
["手当",{"$f":"IF('待遇の洗い出し(正社員)'!$B23<>0,'待遇の洗い出し(正社員)'!$B23,\"\")","v":""},{"$f":"IF('待遇の整理(正社員)'!D27<>\"\",'待遇の整理(正社員)'!D27,\"\")","v":"適用"},{"$f":"IF('待遇の整理(正社員)'!E27<>\"\",'待遇の整理(正社員)'!E27,\"\")","v":"適用"},{"$f":"IF('待遇の整理(正社員)'!F27<>\"\",'待遇の整理(正社員)'!F27,\"\")","v":"適用"},{"$f":"IF('待遇の整理(正社員)'!G27<>\"\",'待遇の整理(正社員)'!G27,\"\")","v":"適用"},{"$f":"IF('待遇の整理(正社員)'!H27<>\"\",'待遇の整理(正社員)'!H27,\"\")","v":"適用"},{"$f":"IF('待遇の整理(正社員)'!I27<>\"\",'待遇の整理(正社員)'!I27,\"\")","v":"適用"},{"$f":"IF('待遇の整理(正社員)'!J27<>\"\",'待遇の整理(正社員)'!J27,\"\")","v":"適用"},{"$f":"IF('待遇の整理(正社員)'!K27<>\"\",'待遇の整理(正社員)'!K27,\"\")","v":"適用"},{"$f":"IF('待遇の整理(正社員)'!L27<>\"\",'待遇の整理(正社員)'!L27,\"\")","v":"適用"},{"$f":"IF('待遇の整理(正社員)'!M27<>\"\",'待遇の整理(正社員)'!M27,\"\")","v":"適用"},null,"手当",{"$f":"IF('待遇の洗い出し(正社員)'!$B23<>0,'待遇の洗い出し(正社員)'!$B23,\"\")","v":""}]
["手当",{"$f":"IF('待遇の洗い出し(正社員)'!$B24<>0,'待遇の洗い出し(正社員)'!$B24,\"\")","v":""},{"$f":"IF('待遇の整理(正社員)'!D28<>\"\",'待遇の整理(正社員)'!D28,\"\")","v":"適用"},{"$f":"IF('待遇の整理(正社員)'!E28<>\"\",'待遇の整理(正社員)'!E28,\"\")","v":"適用"},{"$f":"IF('待遇の整理(正社員)'!F28<>\"\",'待遇の整理(正社員)'!F28,\"\")","v":"適用"},{"$f":"IF('待遇の整理(正社員)'!G28<>\"\",'待遇の整理(正社員)'!G28,\"\")","v":"適用"},{"$f":"IF('待遇の整理(正社員)'!H28<>\"\",'待遇の整理(正社員)'!H28,\"\")","v":"適用"},{"$f":"IF('待遇の整理(正社員)'!I28<>\"\",'待遇の整理(正社員)'!I28,\"\")","v":"適用"},{"$f":"IF('待遇の整理(正社員)'!J28<>\"\",'待遇の整理(正社員)'!J28,\"\")","v":"適用"},{"$f":"IF('待遇の整理(正社員)'!K28<>\"\",'待遇の整理(正社員)'!K28,\"\")","v":"適用"},{"$f":"IF('待遇の整理(正社員)'!L28<>\"\",'待遇の整理(正社員)'!L28,\"\")","v":"適用"},{"$f":"IF('待遇の整理(正社員)'!M28<>\"\",'待遇の整理(正社員)'!M28,\"\")","v":"適用"},null,"手当",{"$f":"IF('待遇の洗い出し(正社員)'!$B24<>0,'待遇の洗い出し(正社員)'!$B24,\"\")","v":""}]
["手当",{"$f":"IF('待遇の洗い出し(正社員)'!$B25<>0,'待遇の洗い出し(正社員)'!$B25,\"\")","v":""},{"$f":"IF('待遇の整理(正社員)'!D29<>\"\",'待遇の整理(正社員)'!D29,\"\")","v":"適用"},{"$f":"IF('待遇の整理(正社員)'!E29<>\"\",'待遇の整理(正社員)'!E29,\"\")","v":"適用"},{"$f":"IF('待遇の整理(正社員)'!F29<>\"\",'待遇の整理(正社員)'!F29,\"\")","v":"適用"},{"$f":"IF('待遇の整理(正社員)'!G29<>\"\",'待遇の整理(正社員)'!G29,\"\")","v":"適用"},{"$f":"IF('待遇の整理(正社員)'!H29<>\"\",'待遇の整理(正社員)'!H29,\"\")","v":"適用"},{"$f":"IF('待遇の整理(正社員)'!I29<>\"\",'待遇の整理(正社員)'!I29,\"\")","v":"適用"},{"$f":"IF('待遇の整理(正社員)'!J29<>\"\",'待遇の整理(正社員)'!J29,\"\")","v":"適用"},{"$f":"IF('待遇の整理(正社員)'!K29<>\"\",'待遇の整理(正社員)'!K29,\"\")","v":"適用"},{"$f":"IF('待遇の整理(正社員)'!L29<>\"\",'待遇の整理(正社員)'!L29,\"\")","v":"適用"},{"$f":"IF('待遇の整理(正社員)'!M29<>\"\",'待遇の整理(正社員)'!M29,\"\")","v":"適用"},null,"手当",{"$f":"IF('待遇の洗い出し(正社員)'!$B25<>0,'待遇の洗い出し(正社員)'!$B25,\"\")","v":""}]
["手当",{"$f":"IF('待遇の洗い出し(正社員)'!$B26<>0,'待遇の洗い出し(正社員)'!$B26,\"\")","v":""},{"$f":"IF('待遇の整理(正社員)'!D30<>\"\",'待遇の整理(正社員)'!D30,\"\")","v":"適用"},{"$f":"IF('待遇の整理(正社員)'!E30<>\"\",'待遇の整理(正社員)'!E30,\"\")","v":"適用"},{"$f":"IF('待遇の整理(正社員)'!F30<>\"\",'待遇の整理(正社員)'!F30,\"\")","v":"適用"},{"$f":"IF('待遇の整理(正社員)'!G30<>\"\",'待遇の整理(正社員)'!G30,\"\")","v":"適用"},{"$f":"IF('待遇の整理(正社員)'!H30<>\"\",'待遇の整理(正社員)'!H30,\"\")","v":"適用"},{"$f":"IF('待遇の整理(正社員)'!I30<>\"\",'待遇の整理(正社員)'!I30,\"\")","v":"適用"},{"$f":"IF('待遇の整理(正社員)'!J30<>\"\",'待遇の整理(正社員)'!J30,\"\")","v":"適用"},{"$f":"IF('待遇の整理(正社員)'!K30<>\"\",'待遇の整理(正社員)'!K30,\"\")","v":"適用"},{"$f":"IF('待遇の整理(正社員)'!L30<>\"\",'待遇の整理(正社員)'!L30,\"\")","v":"適用"},{"$f":"IF('待遇の整理(正社員)'!M30<>\"\",'待遇の整理(正社員)'!M30,\"\")","v":"適用"},null,"手当",{"$f":"IF('待遇の洗い出し(正社員)'!$B26<>0,'待遇の洗い出し(正社員)'!$B26,\"\")","v":""}]
["手当",{"$f":"IF('待遇の洗い出し(正社員)'!$B27<>0,'待遇の洗い出し(正社員)'!$B27,\"\")","v":""},{"$f":"IF('待遇の整理(正社員)'!D31<>\"\",'待遇の整理(正社員)'!D31,\"\")","v":"適用"},{"$f":"IF('待遇の整理(正社員)'!E31<>\"\",'待遇の整理(正社員)'!E31,\"\")","v":"適用"},{"$f":"IF('待遇の整理(正社員)'!F31<>\"\",'待遇の整理(正社員)'!F31,\"\")","v":"適用"},{"$f":"IF('待遇の整理(正社員)'!G31<>\"\",'待遇の整理(正社員)'!G31,\"\")","v":"適用"},{"$f":"IF('待遇の整理(正社員)'!H31<>\"\",'待遇の整理(正社員)'!H31,\"\")","v":"適用"},{"$f":"IF('待遇の整理(正社員)'!I31<>\"\",'待遇の整理(正社員)'!I31,\"\")","v":"適用"},{"$f":"IF('待遇の整理(正社員)'!J31<>\"\",'待遇の整理(正社員)'!J31,\"\")","v":"適用"},{"$f":"IF('待遇の整理(正社員)'!K31<>\"\",'待遇の整理(正社員)'!K31,\"\")","v":"適用"},{"$f":"IF('待遇の整理(正社員)'!L31<>\"\",'待遇の整理(正社員)'!L31,\"\")","v":"適用"},{"$f":"IF('待遇の整理(正社員)'!M31<>\"\",'待遇の整理(正社員)'!M31,\"\")","v":"適用"},null,"手当",{"$f":"IF('待遇の洗い出し(正社員)'!$B27<>0,'待遇の洗い出し(正社員)'!$B27,\"\")","v":""}]
["手当",{"$f":"IF('待遇の洗い出し(正社員)'!$B28<>0,'待遇の洗い出し(正社員)'!$B28,\"\")","v":""},{"$f":"IF('待遇の整理(正社員)'!D32<>\"\",'待遇の整理(正社員)'!D32,\"\")","v":"適用"},{"$f":"IF('待遇の整理(正社員)'!E32<>\"\",'待遇の整理(正社員)'!E32,\"\")","v":"適用"},{"$f":"IF('待遇の整理(正社員)'!F32<>\"\",'待遇の整理(正社員)'!F32,\"\")","v":"適用"},{"$f":"IF('待遇の整理(正社員)'!G32<>\"\",'待遇の整理(正社員)'!G32,\"\")","v":"適用"},{"$f":"IF('待遇の整理(正社員)'!H32<>\"\",'待遇の整理(正社員)'!H32,\"\")","v":"適用"},{"$f":"IF('待遇の整理(正社員)'!I32<>\"\",'待遇の整理(正社員)'!I32,\"\")","v":"適用"},{"$f":"IF('待遇の整理(正社員)'!J32<>\"\",'待遇の整理(正社員)'!J32,\"\")","v":"適用"},{"$f":"IF('待遇の整理(正社員)'!K32<>\"\",'待遇の整理(正社員)'!K32,\"\")","v":"適用"},{"$f":"IF('待遇の整理(正社員)'!L32<>\"\",'待遇の整理(正社員)'!L32,\"\")","v":"適用"},{"$f":"IF('待遇の整理(正社員)'!M32<>\"\",'待遇の整理(正社員)'!M32,\"\")","v":"適用"},null,"手当",{"$f":"IF('待遇の洗い出し(正社員)'!$B28<>0,'待遇の洗い出し(正社員)'!$B28,\"\")","v":""}]
["手当",{"$f":"IF('待遇の洗い出し(正社員)'!$B29<>0,'待遇の洗い出し(正社員)'!$B29,\"\")","v":""},{"$f":"IF('待遇の整理(正社員)'!D33<>\"\",'待遇の整理(正社員)'!D33,\"\")","v":"適用"},{"$f":"IF('待遇の整理(正社員)'!E33<>\"\",'待遇の整理(正社員)'!E33,\"\")","v":"適用"},{"$f":"IF('待遇の整理(正社員)'!F33<>\"\",'待遇の整理(正社員)'!F33,\"\")","v":"適用"},{"$f":"IF('待遇の整理(正社員)'!G33<>\"\",'待遇の整理(正社員)'!G33,\"\")","v":"適用"},{"$f":"IF('待遇の整理(正社員)'!H33<>\"\",'待遇の整理(正社員)'!H33,\"\")","v":"適用"},{"$f":"IF('待遇の整理(正社員)'!I33<>\"\",'待遇の整理(正社員)'!I33,\"\")","v":"適用"},{"$f":"IF('待遇の整理(正社員)'!J33<>\"\",'待遇の整理(正社員)'!J33,\"\")","v":"適用"},{"$f":"IF('待遇の整理(正社員)'!K33<>\"\",'待遇の整理(正社員)'!K33,\"\")","v":"適用"},{"$f":"IF('待遇の整理(正社員)'!L33<>\"\",'待遇の整理(正社員)'!L33,\"\")","v":"適用"},{"$f":"IF('待遇の整理(正社員)'!M33<>\"\",'待遇の整理(正社員)'!M33,\"\")","v":"適用"},null,"手当",{"$f":"IF('待遇の洗い出し(正社員)'!$B29<>0,'待遇の洗い出し(正社員)'!$B29,\"\")","v":""}]
["手当",{"$f":"IF('待遇の洗い出し(正社員)'!$B30<>0,'待遇の洗い出し(正社員)'!$B30,\"\")","v":""},{"$f":"IF('待遇の整理(正社員)'!D34<>\"\",'待遇の整理(正社員)'!D34,\"\")","v":"適用"},{"$f":"IF('待遇の整理(正社員)'!E34<>\"\",'待遇の整理(正社員)'!E34,\"\")","v":"適用"},{"$f":"IF('待遇の整理(正社員)'!F34<>\"\",'待遇の整理(正社員)'!F34,\"\")","v":"適用"},{"$f":"IF('待遇の整理(正社員)'!G34<>\"\",'待遇の整理(正社員)'!G34,\"\")","v":"適用"},{"$f":"IF('待遇の整理(正社員)'!H34<>\"\",'待遇の整理(正社員)'!H34,\"\")","v":"適用"},{"$f":"IF('待遇の整理(正社員)'!I34<>\"\",'待遇の整理(正社員)'!I34,\"\")","v":"適用"},{"$f":"IF('待遇の整理(正社員)'!J34<>\"\",'待遇の整理(正社員)'!J34,\"\")","v":"適用"},{"$f":"IF('待遇の整理(正社員)'!K34<>\"\",'待遇の整理(正社員)'!K34,\"\")","v":"適用"},{"$f":"IF('待遇の整理(正社員)'!L34<>\"\",'待遇の整理(正社員)'!L34,\"\")","v":"適用"},{"$f":"IF('待遇の整理(正社員)'!M34<>\"\",'待遇の整理(正社員)'!M34,\"\")","v":"適用"},null,"手当",{"$f":"IF('待遇の洗い出し(正社員)'!$B30<>0,'待遇の洗い出し(正社員)'!$B30,\"\")","v":""}]
["手当",{"$f":"IF('待遇の洗い出し(正社員)'!$B31<>0,'待遇の洗い出し(正社員)'!$B31,\"\")","v":""},{"$f":"IF('待遇の整理(正社員)'!D35<>\"\",'待遇の整理(正社員)'!D35,\"\")","v":"適用"},{"$f":"IF('待遇の整理(正社員)'!E35<>\"\",'待遇の整理(正社員)'!E35,\"\")","v":"適用"},{"$f":"IF('待遇の整理(正社員)'!F35<>\"\",'待遇の整理(正社員)'!F35,\"\")","v":"適用"},{"$f":"IF('待遇の整理(正社員)'!G35<>\"\",'待遇の整理(正社員)'!G35,\"\")","v":"適用"},{"$f":"IF('待遇の整理(正社員)'!H35<>\"\",'待遇の整理(正社員)'!H35,\"\")","v":"適用"},{"$f":"IF('待遇の整理(正社員)'!I35<>\"\",'待遇の整理(正社員)'!I35,\"\")","v":"適用"},{"$f":"IF('待遇の整理(正社員)'!J35<>\"\",'待遇の整理(正社員)'!J35,\"\")","v":"適用"},{"$f":"IF('待遇の整理(正社員)'!K35<>\"\",'待遇の整理(正社員)'!K35,\"\")","v":"適用"},{"$f":"IF('待遇の整理(正社員)'!L35<>\"\",'待遇の整理(正社員)'!L35,\"\")","v":"適用"},{"$f":"IF('待遇の整理(正社員)'!M35<>\"\",'待遇の整理(正社員)'!M35,\"\")","v":"適用"},null,"手当",{"$f":"IF('待遇の洗い出し(正社員)'!$B31<>0,'待遇の洗い出し(正社員)'!$B31,\"\")","v":""}]
["手当",{"$f":"IF('待遇の洗い出し(正社員)'!$B32<>0,'待遇の洗い出し(正社員)'!$B32,\"\")","v":""},{"$f":"IF('待遇の整理(正社員)'!D36<>\"\",'待遇の整理(正社員)'!D36,\"\")","v":"適用"},{"$f":"IF('待遇の整理(正社員)'!E36<>\"\",'待遇の整理(正社員)'!E36,\"\")","v":"適用"},{"$f":"IF('待遇の整理(正社員)'!F36<>\"\",'待遇の整理(正社員)'!F36,\"\")","v":"適用"},{"$f":"IF('待遇の整理(正社員)'!G36<>\"\",'待遇の整理(正社員)'!G36,\"\")","v":"適用"},{"$f":"IF('待遇の整理(正社員)'!H36<>\"\",'待遇の整理(正社員)'!H36,\"\")","v":"適用"},{"$f":"IF('待遇の整理(正社員)'!I36<>\"\",'待遇の整理(正社員)'!I36,\"\")","v":"適用"},{"$f":"IF('待遇の整理(正社員)'!J36<>\"\",'待遇の整理(正社員)'!J36,\"\")","v":"適用"},{"$f":"IF('待遇の整理(正社員)'!K36<>\"\",'待遇の整理(正社員)'!K36,\"\")","v":"適用"},{"$f":"IF('待遇の整理(正社員)'!L36<>\"\",'待遇の整理(正社員)'!L36,\"\")","v":"適用"},{"$f":"IF('待遇の整理(正社員)'!M36<>\"\",'待遇の整理(正社員)'!M36,\"\")","v":"適用"},null,"手当",{"$f":"IF('待遇の洗い出し(正社員)'!$B32<>0,'待遇の洗い出し(正社員)'!$B32,\"\")","v":""}]
["手当",{"$f":"IF('待遇の洗い出し(正社員)'!$B33<>0,'待遇の洗い出し(正社員)'!$B33,\"\")","v":""},{"$f":"IF('待遇の整理(正社員)'!D37<>\"\",'待遇の整理(正社員)'!D37,\"\")","v":"適用"},{"$f":"IF('待遇の整理(正社員)'!E37<>\"\",'待遇の整理(正社員)'!E37,\"\")","v":"適用"},{"$f":"IF('待遇の整理(正社員)'!F37<>\"\",'待遇の整理(正社員)'!F37,\"\")","v":"適用"},{"$f":"IF('待遇の整理(正社員)'!G37<>\"\",'待遇の整理(正社員)'!G37,\"\")","v":"適用"},{"$f":"IF('待遇の整理(正社員)'!H37<>\"\",'待遇の整理(正社員)'!H37,\"\")","v":"適用"},{"$f":"IF('待遇の整理(正社員)'!I37<>\"\",'待遇の整理(正社員)'!I37,\"\")","v":"適用"},{"$f":"IF('待遇の整理(正社員)'!J37<>\"\",'待遇の整理(正社員)'!J37,\"\")","v":"適用"},{"$f":"IF('待遇の整理(正社員)'!K37<>\"\",'待遇の整理(正社員)'!K37,\"\")","v":"適用"},{"$f":"IF('待遇の整理(正社員)'!L37<>\"\",'待遇の整理(正社員)'!L37,\"\")","v":"適用"},{"$f":"IF('待遇の整理(正社員)'!M37<>\"\",'待遇の整理(正社員)'!M37,\"\")","v":"適用"},null,"手当",{"$f":"IF('待遇の洗い出し(正社員)'!$B33<>0,'待遇の洗い出し(正社員)'!$B33,\"\")","v":""}]
["手当",{"$f":"IF('待遇の洗い出し(正社員)'!$B34<>0,'待遇の洗い出し(正社員)'!$B34,\"\")","v":""},{"$f":"IF('待遇の整理(正社員)'!D38<>\"\",'待遇の整理(正社員)'!D38,\"\")","v":"適用"},{"$f":"IF('待遇の整理(正社員)'!E38<>\"\",'待遇の整理(正社員)'!E38,\"\")","v":"適用"},{"$f":"IF('待遇の整理(正社員)'!F38<>\"\",'待遇の整理(正社員)'!F38,\"\")","v":"適用"},{"$f":"IF('待遇の整理(正社員)'!G38<>\"\",'待遇の整理(正社員)'!G38,\"\")","v":"適用"},{"$f":"IF('待遇の整理(正社員)'!H38<>\"\",'待遇の整理(正社員)'!H38,\"\")","v":"適用"},{"$f":"IF('待遇の整理(正社員)'!I38<>\"\",'待遇の整理(正社員)'!I38,\"\")","v":"適用"},{"$f":"IF('待遇の整理(正社員)'!J38<>\"\",'待遇の整理(正社員)'!J38,\"\")","v":"適用"},{"$f":"IF('待遇の整理(正社員)'!K38<>\"\",'待遇の整理(正社員)'!K38,\"\")","v":"適用"},{"$f":"IF('待遇の整理(正社員)'!L38<>\"\",'待遇の整理(正社員)'!L38,\"\")","v":"適用"},{"$f":"IF('待遇の整理(正社員)'!M38<>\"\",'待遇の整理(正社員)'!M38,\"\")","v":"適用"},null,"手当",{"$f":"IF('待遇の洗い出し(正社員)'!$B34<>0,'待遇の洗い出し(正社員)'!$B34,\"\")","v":""}]
["福利厚生その他","給食施設（食堂）",{"$f":"IF('待遇の整理(正社員)'!D39<>\"\",'待遇の整理(正社員)'!D39,\"\")","v":"適用"},{"$f":"IF('待遇の整理(正社員)'!E39<>\"\",'待遇の整理(正社員)'!E39,\"\")","v":"適用"},{"$f":"IF('待遇の整理(正社員)'!F39<>\"\",'待遇の整理(正社員)'!F39,\"\")","v":"適用"},{"$f":"IF('待遇の整理(正社員)'!G39<>\"\",'待遇の整理(正社員)'!G39,\"\")","v":"適用"},{"$f":"IF('待遇の整理(正社員)'!H39<>\"\",'待遇の整理(正社員)'!H39,\"\")","v":"適用"},{"$f":"IF('待遇の整理(正社員)'!I39<>\"\",'待遇の整理(正社員)'!I39,\"\")","v":"適用"},{"$f":"IF('待遇の整理(正社員)'!J39<>\"\",'待遇の整理(正社員)'!J39,\"\")","v":"適用"},{"$f":"IF('待遇の整理(正社員)'!K39<>\"\",'待遇の整理(正社員)'!K39,\"\")","v":"適用"},{"$f":"IF('待遇の整理(正社員)'!L39<>\"\",'待遇の整理(正社員)'!L39,\"\")","v":"適用"},{"$f":"IF('待遇の整理(正社員)'!M39<>\"\",'待遇の整理(正社員)'!M39,\"\")","v":"適用"},null,"福利厚生その他","給食施設（食堂）"]
["福利厚生その他","休憩室",{"$f":"IF('待遇の整理(正社員)'!D40<>\"\",'待遇の整理(正社員)'!D40,\"\")","v":"適用"},{"$f":"IF('待遇の整理(正社員)'!E40<>\"\",'待遇の整理(正社員)'!E40,\"\")","v":"適用"},{"$f":"IF('待遇の整理(正社員)'!F40<>\"\",'待遇の整理(正社員)'!F40,\"\")","v":"適用"},{"$f":"IF('待遇の整理(正社員)'!G40<>\"\",'待遇の整理(正社員)'!G40,\"\")","v":"適用"},{"$f":"IF('待遇の整理(正社員)'!H40<>\"\",'待遇の整理(正社員)'!H40,\"\")","v":"適用"},{"$f":"IF('待遇の整理(正社員)'!I40<>\"\",'待遇の整理(正社員)'!I40,\"\")","v":"適用"},{"$f":"IF('待遇の整理(正社員)'!J40<>\"\",'待遇の整理(正社員)'!J40,\"\")","v":"適用"},{"$f":"IF('待遇の整理(正社員)'!K40<>\"\",'待遇の整理(正社員)'!K40,\"\")","v":"適用"},{"$f":"IF('待遇の整理(正社員)'!L40<>\"\",'待遇の整理(正社員)'!L40,\"\")","v":"適用"},{"$f":"IF('待遇の整理(正社員)'!M40<>\"\",'待遇の整理(正社員)'!M40,\"\")","v":"適用"},null,"福利厚生その他","休憩室"]
["福利厚生その他","更衣室",{"$f":"IF('待遇の整理(正社員)'!D41<>\"\",'待遇の整理(正社員)'!D41,\"\")","v":"適用"},{"$f":"IF('待遇の整理(正社員)'!E41<>\"\",'待遇の整理(正社員)'!E41,\"\")","v":"適用"},{"$f":"IF('待遇の整理(正社員)'!F41<>\"\",'待遇の整理(正社員)'!F41,\"\")","v":"適用"},{"$f":"IF('待遇の整理(正社員)'!G41<>\"\",'待遇の整理(正社員)'!G41,\"\")","v":"適用"},{"$f":"IF('待遇の整理(正社員)'!H41<>\"\",'待遇の整理(正社員)'!H41,\"\")","v":"適用"},{"$f":"IF('待遇の整理(正社員)'!I41<>\"\",'待遇の整理(正社員)'!I41,\"\")","v":"適用"},{"$f":"IF('待遇の整理(正社員)'!J41<>\"\",'待遇の整理(正社員)'!J41,\"\")","v":"適用"},{"$f":"IF('待遇の整理(正社員)'!K41<>\"\",'待遇の整理(正社員)'!K41,\"\")","v":"適用"},{"$f":"IF('待遇の整理(正社員)'!L41<>\"\",'待遇の整理(正社員)'!L41,\"\")","v":"適用"},{"$f":"IF('待遇の整理(正社員)'!M41<>\"\",'待遇の整理(正社員)'!M41,\"\")","v":"適用"},null,"福利厚生その他","更衣室"]
["福利厚生その他",{"$f":"IF('待遇の洗い出し(正社員)'!$B39<>0,'待遇の洗い出し(正社員)'!$B39,\"\")","v":""},{"$f":"IF('待遇の整理(正社員)'!D42<>\"\",'待遇の整理(正社員)'!D42,\"\")","v":"適用"},{"$f":"IF('待遇の整理(正社員)'!E42<>\"\",'待遇の整理(正社員)'!E42,\"\")","v":"適用"},{"$f":"IF('待遇の整理(正社員)'!F42<>\"\",'待遇の整理(正社員)'!F42,\"\")","v":"適用"},{"$f":"IF('待遇の整理(正社員)'!G42<>\"\",'待遇の整理(正社員)'!G42,\"\")","v":"適用"},{"$f":"IF('待遇の整理(正社員)'!H42<>\"\",'待遇の整理(正社員)'!H42,\"\")","v":"適用"},{"$f":"IF('待遇の整理(正社員)'!I42<>\"\",'待遇の整理(正社員)'!I42,\"\")","v":"適用"},{"$f":"IF('待遇の整理(正社員)'!J42<>\"\",'待遇の整理(正社員)'!J42,\"\")","v":"適用"},{"$f":"IF('待遇の整理(正社員)'!K42<>\"\",'待遇の整理(正社員)'!K42,\"\")","v":"適用"},{"$f":"IF('待遇の整理(正社員)'!L42<>\"\",'待遇の整理(正社員)'!L42,\"\")","v":"適用"},{"$f":"IF('待遇の整理(正社員)'!M42<>\"\",'待遇の整理(正社員)'!M42,\"\")","v":"適用"},null,"福利厚生その他",{"$f":"IF('待遇の洗い出し(正社員)'!$B39<>0,'待遇の洗い出し(正社員)'!$B39,\"\")","v":""}]
["福利厚生その他",{"$f":"IF('待遇の洗い出し(正社員)'!$B40<>0,'待遇の洗い出し(正社員)'!$B40,\"\")","v":""},{"$f":"IF('待遇の整理(正社員)'!D43<>\"\",'待遇の整理(正社員)'!D43,\"\")","v":"適用"},{"$f":"IF('待遇の整理(正社員)'!E43<>\"\",'待遇の整理(正社員)'!E43,\"\")","v":"適用"},{"$f":"IF('待遇の整理(正社員)'!F43<>\"\",'待遇の整理(正社員)'!F43,\"\")","v":"適用"},{"$f":"IF('待遇の整理(正社員)'!G43<>\"\",'待遇の整理(正社員)'!G43,\"\")","v":"適用"},{"$f":"IF('待遇の整理(正社員)'!H43<>\"\",'待遇の整理(正社員)'!H43,\"\")","v":"適用"},{"$f":"IF('待遇の整理(正社員)'!I43<>\"\",'待遇の整理(正社員)'!I43,\"\")","v":"適用"},{"$f":"IF('待遇の整理(正社員)'!J43<>\"\",'待遇の整理(正社員)'!J43,\"\")","v":"適用"},{"$f":"IF('待遇の整理(正社員)'!K43<>\"\",'待遇の整理(正社員)'!K43,\"\")","v":"適用"},{"$f":"IF('待遇の整理(正社員)'!L43<>\"\",'待遇の整理(正社員)'!L43,\"\")","v":"適用"},{"$f":"IF('待遇の整理(正社員)'!M43<>\"\",'待遇の整理(正社員)'!M43,\"\")","v":"適用"},null,"福利厚生その他",{"$f":"IF('待遇の洗い出し(正社員)'!$B40<>0,'待遇の洗い出し(正社員)'!$B40,\"\")","v":""}]
["福利厚生その他",{"$f":"IF('待遇の洗い出し(正社員)'!$B41<>0,'待遇の洗い出し(正社員)'!$B41,\"\")","v":""},{"$f":"IF('待遇の整理(正社員)'!D44<>\"\",'待遇の整理(正社員)'!D44,\"\")","v":"適用"},{"$f":"IF('待遇の整理(正社員)'!E44<>\"\",'待遇の整理(正社員)'!E44,\"\")","v":"適用"},{"$f":"IF('待遇の整理(正社員)'!F44<>\"\",'待遇の整理(正社員)'!F44,\"\")","v":"適用"},{"$f":"IF('待遇の整理(正社員)'!G44<>\"\",'待遇の整理(正社員)'!G44,\"\")","v":"適用"},{"$f":"IF('待遇の整理(正社員)'!H44<>\"\",'待遇の整理(正社員)'!H44,\"\")","v":"適用"},{"$f":"IF('待遇の整理(正社員)'!I44<>\"\",'待遇の整理(正社員)'!I44,\"\")","v":"適用"},{"$f":"IF('待遇の整理(正社員)'!J44<>\"\",'待遇の整理(正社員)'!J44,\"\")","v":"適用"},{"$f":"IF('待遇の整理(正社員)'!K44<>\"\",'待遇の整理(正社員)'!K44,\"\")","v":"適用"},{"$f":"IF('待遇の整理(正社員)'!L44<>\"\",'待遇の整理(正社員)'!L44,\"\")","v":"適用"},{"$f":"IF('待遇の整理(正社員)'!M44<>\"\",'待遇の整理(正社員)'!M44,\"\")","v":"適用"},null,"福利厚生その他",{"$f":"IF('待遇の洗い出し(正社員)'!$B41<>0,'待遇の洗い出し(正社員)'!$B41,\"\")","v":""}]
["福利厚生その他",{"$f":"IF('待遇の洗い出し(正社員)'!$B42<>0,'待遇の洗い出し(正社員)'!$B42,\"\")","v":""},{"$f":"IF('待遇の整理(正社員)'!D45<>\"\",'待遇の整理(正社員)'!D45,\"\")","v":"適用"},{"$f":"IF('待遇の整理(正社員)'!E45<>\"\",'待遇の整理(正社員)'!E45,\"\")","v":"適用"},{"$f":"IF('待遇の整理(正社員)'!F45<>\"\",'待遇の整理(正社員)'!F45,\"\")","v":"適用"},{"$f":"IF('待遇の整理(正社員)'!G45<>\"\",'待遇の整理(正社員)'!G45,\"\")","v":"適用"},{"$f":"IF('待遇の整理(正社員)'!H45<>\"\",'待遇の整理(正社員)'!H45,\"\")","v":"適用"},{"$f":"IF('待遇の整理(正社員)'!I45<>\"\",'待遇の整理(正社員)'!I45,\"\")","v":"適用"},{"$f":"IF('待遇の整理(正社員)'!J45<>\"\",'待遇の整理(正社員)'!J45,\"\")","v":"適用"},{"$f":"IF('待遇の整理(正社員)'!K45<>\"\",'待遇の整理(正社員)'!K45,\"\")","v":"適用"},{"$f":"IF('待遇の整理(正社員)'!L45<>\"\",'待遇の整理(正社員)'!L45,\"\")","v":"適用"},{"$f":"IF('待遇の整理(正社員)'!M45<>\"\",'待遇の整理(正社員)'!M45,\"\")","v":"適用"},null,"福利厚生その他",{"$f":"IF('待遇の洗い出し(正社員)'!$B42<>0,'待遇の洗い出し(正社員)'!$B42,\"\")","v":""}]
["福利厚生その他",{"$f":"IF('待遇の洗い出し(正社員)'!$B43<>0,'待遇の洗い出し(正社員)'!$B43,\"\")","v":""},{"$f":"IF('待遇の整理(正社員)'!D46<>\"\",'待遇の整理(正社員)'!D46,\"\")","v":"適用"},{"$f":"IF('待遇の整理(正社員)'!E46<>\"\",'待遇の整理(正社員)'!E46,\"\")","v":"適用"},{"$f":"IF('待遇の整理(正社員)'!F46<>\"\",'待遇の整理(正社員)'!F46,\"\")","v":"適用"},{"$f":"IF('待遇の整理(正社員)'!G46<>\"\",'待遇の整理(正社員)'!G46,\"\")","v":"適用"},{"$f":"IF('待遇の整理(正社員)'!H46<>\"\",'待遇の整理(正社員)'!H46,\"\")","v":"適用"},{"$f":"IF('待遇の整理(正社員)'!I46<>\"\",'待遇の整理(正社員)'!I46,\"\")","v":"適用"},{"$f":"IF('待遇の整理(正社員)'!J46<>\"\",'待遇の整理(正社員)'!J46,\"\")","v":"適用"},{"$f":"IF('待遇の整理(正社員)'!K46<>\"\",'待遇の整理(正社員)'!K46,\"\")","v":"適用"},{"$f":"IF('待遇の整理(正社員)'!L46<>\"\",'待遇の整理(正社員)'!L46,\"\")","v":"適用"},{"$f":"IF('待遇の整理(正社員)'!M46<>\"\",'待遇の整理(正社員)'!M46,\"\")","v":"適用"},null,"福利厚生その他",{"$f":"IF('待遇の洗い出し(正社員)'!$B43<>0,'待遇の洗い出し(正社員)'!$B43,\"\")","v":""}]
["福利厚生その他",{"$f":"IF('待遇の洗い出し(正社員)'!$B44<>0,'待遇の洗い出し(正社員)'!$B44,\"\")","v":""},{"$f":"IF('待遇の整理(正社員)'!D47<>\"\",'待遇の整理(正社員)'!D47,\"\")","v":"適用"},{"$f":"IF('待遇の整理(正社員)'!E47<>\"\",'待遇の整理(正社員)'!E47,\"\")","v":"適用"},{"$f":"IF('待遇の整理(正社員)'!F47<>\"\",'待遇の整理(正社員)'!F47,\"\")","v":"適用"},{"$f":"IF('待遇の整理(正社員)'!G47<>\"\",'待遇の整理(正社員)'!G47,\"\")","v":"適用"},{"$f":"IF('待遇の整理(正社員)'!H47<>\"\",'待遇の整理(正社員)'!H47,\"\")","v":"適用"},{"$f":"IF('待遇の整理(正社員)'!I47<>\"\",'待遇の整理(正社員)'!I47,\"\")","v":"適用"},{"$f":"IF('待遇の整理(正社員)'!J47<>\"\",'待遇の整理(正社員)'!J47,\"\")","v":"適用"},{"$f":"IF('待遇の整理(正社員)'!K47<>\"\",'待遇の整理(正社員)'!K47,\"\")","v":"適用"},{"$f":"IF('待遇の整理(正社員)'!L47<>\"\",'待遇の整理(正社員)'!L47,\"\")","v":"適用"},{"$f":"IF('待遇の整理(正社員)'!M47<>\"\",'待遇の整理(正社員)'!M47,\"\")","v":"適用"},null,"福利厚生その他",{"$f":"IF('待遇の洗い出し(正社員)'!$B44<>0,'待遇の洗い出し(正社員)'!$B44,\"\")","v":""}]
["福利厚生その他",{"$f":"IF('待遇の洗い出し(正社員)'!$B45<>0,'待遇の洗い出し(正社員)'!$B45,\"\")","v":""},{"$f":"IF('待遇の整理(正社員)'!D48<>\"\",'待遇の整理(正社員)'!D48,\"\")","v":"適用"},{"$f":"IF('待遇の整理(正社員)'!E48<>\"\",'待遇の整理(正社員)'!E48,\"\")","v":"適用"},{"$f":"IF('待遇の整理(正社員)'!F48<>\"\",'待遇の整理(正社員)'!F48,\"\")","v":"適用"},{"$f":"IF('待遇の整理(正社員)'!G48<>\"\",'待遇の整理(正社員)'!G48,\"\")","v":"適用"},{"$f":"IF('待遇の整理(正社員)'!H48<>\"\",'待遇の整理(正社員)'!H48,\"\")","v":"適用"},{"$f":"IF('待遇の整理(正社員)'!I48<>\"\",'待遇の整理(正社員)'!I48,\"\")","v":"適用"},{"$f":"IF('待遇の整理(正社員)'!J48<>\"\",'待遇の整理(正社員)'!J48,\"\")","v":"適用"},{"$f":"IF('待遇の整理(正社員)'!K48<>\"\",'待遇の整理(正社員)'!K48,\"\")","v":"適用"},{"$f":"IF('待遇の整理(正社員)'!L48<>\"\",'待遇の整理(正社員)'!L48,\"\")","v":"適用"},{"$f":"IF('待遇の整理(正社員)'!M48<>\"\",'待遇の整理(正社員)'!M48,\"\")","v":"適用"},null,"福利厚生その他",{"$f":"IF('待遇の洗い出し(正社員)'!$B45<>0,'待遇の洗い出し(正社員)'!$B45,\"\")","v":""}]
["福利厚生その他",{"$f":"IF('待遇の洗い出し(正社員)'!$B46<>0,'待遇の洗い出し(正社員)'!$B46,\"\")","v":""},{"$f":"IF('待遇の整理(正社員)'!D49<>\"\",'待遇の整理(正社員)'!D49,\"\")","v":"適用"},{"$f":"IF('待遇の整理(正社員)'!E49<>\"\",'待遇の整理(正社員)'!E49,\"\")","v":"適用"},{"$f":"IF('待遇の整理(正社員)'!F49<>\"\",'待遇の整理(正社員)'!F49,\"\")","v":"適用"},{"$f":"IF('待遇の整理(正社員)'!G49<>\"\",'待遇の整理(正社員)'!G49,\"\")","v":"適用"},{"$f":"IF('待遇の整理(正社員)'!H49<>\"\",'待遇の整理(正社員)'!H49,\"\")","v":"適用"},{"$f":"IF('待遇の整理(正社員)'!I49<>\"\",'待遇の整理(正社員)'!I49,\"\")","v":"適用"},{"$f":"IF('待遇の整理(正社員)'!J49<>\"\",'待遇の整理(正社員)'!J49,\"\")","v":"適用"},{"$f":"IF('待遇の整理(正社員)'!K49<>\"\",'待遇の整理(正社員)'!K49,\"\")","v":"適用"},{"$f":"IF('待遇の整理(正社員)'!L49<>\"\",'待遇の整理(正社員)'!L49,\"\")","v":"適用"},{"$f":"IF('待遇の整理(正社員)'!M49<>\"\",'待遇の整理(正社員)'!M49,\"\")","v":"適用"},null,"福利厚生その他",{"$f":"IF('待遇の洗い出し(正社員)'!$B46<>0,'待遇の洗い出し(正社員)'!$B46,\"\")","v":""}]
["福利厚生その他",{"$f":"IF('待遇の洗い出し(正社員)'!$B47<>0,'待遇の洗い出し(正社員)'!$B47,\"\")","v":""},{"$f":"IF('待遇の整理(正社員)'!D50<>\"\",'待遇の整理(正社員)'!D50,\"\")","v":"適用"},{"$f":"IF('待遇の整理(正社員)'!E50<>\"\",'待遇の整理(正社員)'!E50,\"\")","v":"適用"},{"$f":"IF('待遇の整理(正社員)'!F50<>\"\",'待遇の整理(正社員)'!F50,\"\")","v":"適用"},{"$f":"IF('待遇の整理(正社員)'!G50<>\"\",'待遇の整理(正社員)'!G50,\"\")","v":"適用"},{"$f":"IF('待遇の整理(正社員)'!H50<>\"\",'待遇の整理(正社員)'!H50,\"\")","v":"適用"},{"$f":"IF('待遇の整理(正社員)'!I50<>\"\",'待遇の整理(正社員)'!I50,\"\")","v":"適用"},{"$f":"IF('待遇の整理(正社員)'!J50<>\"\",'待遇の整理(正社員)'!J50,\"\")","v":"適用"},{"$f":"IF('待遇の整理(正社員)'!K50<>\"\",'待遇の整理(正社員)'!K50,\"\")","v":"適用"},{"$f":"IF('待遇の整理(正社員)'!L50<>\"\",'待遇の整理(正社員)'!L50,\"\")","v":"適用"},{"$f":"IF('待遇の整理(正社員)'!M50<>\"\",'待遇の整理(正社員)'!M50,\"\")","v":"適用"},null,"福利厚生その他",{"$f":"IF('待遇の洗い出し(正社員)'!$B47<>0,'待遇の洗い出し(正社員)'!$B47,\"\")","v":""}]
["福利厚生その他",{"$f":"IF('待遇の洗い出し(正社員)'!$B48<>0,'待遇の洗い出し(正社員)'!$B48,\"\")","v":""},{"$f":"IF('待遇の整理(正社員)'!D51<>\"\",'待遇の整理(正社員)'!D51,\"\")","v":"適用"},{"$f":"IF('待遇の整理(正社員)'!E51<>\"\",'待遇の整理(正社員)'!E51,\"\")","v":"適用"},{"$f":"IF('待遇の整理(正社員)'!F51<>\"\",'待遇の整理(正社員)'!F51,\"\")","v":"適用"},{"$f":"IF('待遇の整理(正社員)'!G51<>\"\",'待遇の整理(正社員)'!G51,\"\")","v":"適用"},{"$f":"IF('待遇の整理(正社員)'!H51<>\"\",'待遇の整理(正社員)'!H51,\"\")","v":"適用"},{"$f":"IF('待遇の整理(正社員)'!I51<>\"\",'待遇の整理(正社員)'!I51,\"\")","v":"適用"},{"$f":"IF('待遇の整理(正社員)'!J51<>\"\",'待遇の整理(正社員)'!J51,\"\")","v":"適用"},{"$f":"IF('待遇の整理(正社員)'!K51<>\"\",'待遇の整理(正社員)'!K51,\"\")","v":"適用"},{"$f":"IF('待遇の整理(正社員)'!L51<>\"\",'待遇の整理(正社員)'!L51,\"\")","v":"適用"},{"$f":"IF('待遇の整理(正社員)'!M51<>\"\",'待遇の整理(正社員)'!M51,\"\")","v":"適用"},null,"福利厚生その他",{"$f":"IF('待遇の洗い出し(正社員)'!$B48<>0,'待遇の洗い出し(正社員)'!$B48,\"\")","v":""}]
["福利厚生その他",{"$f":"IF('待遇の洗い出し(正社員)'!$B49<>0,'待遇の洗い出し(正社員)'!$B49,\"\")","v":""},{"$f":"IF('待遇の整理(正社員)'!D52<>\"\",'待遇の整理(正社員)'!D52,\"\")","v":"適用"},{"$f":"IF('待遇の整理(正社員)'!E52<>\"\",'待遇の整理(正社員)'!E52,\"\")","v":"適用"},{"$f":"IF('待遇の整理(正社員)'!F52<>\"\",'待遇の整理(正社員)'!F52,\"\")","v":"適用"},{"$f":"IF('待遇の整理(正社員)'!G52<>\"\",'待遇の整理(正社員)'!G52,\"\")","v":"適用"},{"$f":"IF('待遇の整理(正社員)'!H52<>\"\",'待遇の整理(正社員)'!H52,\"\")","v":"適用"},{"$f":"IF('待遇の整理(正社員)'!I52<>\"\",'待遇の整理(正社員)'!I52,\"\")","v":"適用"},{"$f":"IF('待遇の整理(正社員)'!J52<>\"\",'待遇の整理(正社員)'!J52,\"\")","v":"適用"},{"$f":"IF('待遇の整理(正社員)'!K52<>\"\",'待遇の整理(正社員)'!K52,\"\")","v":"適用"},{"$f":"IF('待遇の整理(正社員)'!L52<>\"\",'待遇の整理(正社員)'!L52,\"\")","v":"適用"},{"$f":"IF('待遇の整理(正社員)'!M52<>\"\",'待遇の整理(正社員)'!M52,\"\")","v":"適用"},null,"福利厚生その他",{"$f":"IF('待遇の洗い出し(正社員)'!$B49<>0,'待遇の洗い出し(正社員)'!$B49,\"\")","v":""}]
["福利厚生その他",{"$f":"IF('待遇の洗い出し(正社員)'!$B50<>0,'待遇の洗い出し(正社員)'!$B50,\"\")","v":""},{"$f":"IF('待遇の整理(正社員)'!D53<>\"\",'待遇の整理(正社員)'!D53,\"\")","v":"適用"},{"$f":"IF('待遇の整理(正社員)'!E53<>\"\",'待遇の整理(正社員)'!E53,\"\")","v":"適用"},{"$f":"IF('待遇の整理(正社員)'!F53<>\"\",'待遇の整理(正社員)'!F53,\"\")","v":"適用"},{"$f":"IF('待遇の整理(正社員)'!G53<>\"\",'待遇の整理(正社員)'!G53,\"\")","v":"適用"},{"$f":"IF('待遇の整理(正社員)'!H53<>\"\",'待遇の整理(正社員)'!H53,\"\")","v":"適用"},{"$f":"IF('待遇の整理(正社員)'!I53<>\"\",'待遇の整理(正社員)'!I53,\"\")","v":"適用"},{"$f":"IF('待遇の整理(正社員)'!J53<>\"\",'待遇の整理(正社員)'!J53,\"\")","v":"適用"},{"$f":"IF('待遇の整理(正社員)'!K53<>\"\",'待遇の整理(正社員)'!K53,\"\")","v":"適用"},{"$f":"IF('待遇の整理(正社員)'!L53<>\"\",'待遇の整理(正社員)'!L53,\"\")","v":"適用"},{"$f":"IF('待遇の整理(正社員)'!M53<>\"\",'待遇の整理(正社員)'!M53,\"\")","v":"適用"},null,"福利厚生その他",{"$f":"IF('待遇の洗い出し(正社員)'!$B50<>0,'待遇の洗い出し(正社員)'!$B50,\"\")","v":""}]
["福利厚生その他",{"$f":"IF('待遇の洗い出し(正社員)'!$B51<>0,'待遇の洗い出し(正社員)'!$B51,\"\")","v":""},{"$f":"IF('待遇の整理(正社員)'!D54<>\"\",'待遇の整理(正社員)'!D54,\"\")","v":"適用"},{"$f":"IF('待遇の整理(正社員)'!E54<>\"\",'待遇の整理(正社員)'!E54,\"\")","v":"適用"},{"$f":"IF('待遇の整理(正社員)'!F54<>\"\",'待遇の整理(正社員)'!F54,\"\")","v":"適用"},{"$f":"IF('待遇の整理(正社員)'!G54<>\"\",'待遇の整理(正社員)'!G54,\"\")","v":"適用"},{"$f":"IF('待遇の整理(正社員)'!H54<>\"\",'待遇の整理(正社員)'!H54,\"\")","v":"適用"},{"$f":"IF('待遇の整理(正社員)'!I54<>\"\",'待遇の整理(正社員)'!I54,\"\")","v":"適用"},{"$f":"IF('待遇の整理(正社員)'!J54<>\"\",'待遇の整理(正社員)'!J54,\"\")","v":"適用"},{"$f":"IF('待遇の整理(正社員)'!K54<>\"\",'待遇の整理(正社員)'!K54,\"\")","v":"適用"},{"$f":"IF('待遇の整理(正社員)'!L54<>\"\",'待遇の整理(正社員)'!L54,\"\")","v":"適用"},{"$f":"IF('待遇の整理(正社員)'!M54<>\"\",'待遇の整理(正社員)'!M54,\"\")","v":"適用"},null,"福利厚生その他",{"$f":"IF('待遇の洗い出し(正社員)'!$B51<>0,'待遇の洗い出し(正社員)'!$B51,\"\")","v":""}]
["福利厚生その他",{"$f":"IF('待遇の洗い出し(正社員)'!$B52<>0,'待遇の洗い出し(正社員)'!$B52,\"\")","v":""},{"$f":"IF('待遇の整理(正社員)'!D55<>\"\",'待遇の整理(正社員)'!D55,\"\")","v":"適用"},{"$f":"IF('待遇の整理(正社員)'!E55<>\"\",'待遇の整理(正社員)'!E55,\"\")","v":"適用"},{"$f":"IF('待遇の整理(正社員)'!F55<>\"\",'待遇の整理(正社員)'!F55,\"\")","v":"適用"},{"$f":"IF('待遇の整理(正社員)'!G55<>\"\",'待遇の整理(正社員)'!G55,\"\")","v":"適用"},{"$f":"IF('待遇の整理(正社員)'!H55<>\"\",'待遇の整理(正社員)'!H55,\"\")","v":"適用"},{"$f":"IF('待遇の整理(正社員)'!I55<>\"\",'待遇の整理(正社員)'!I55,\"\")","v":"適用"},{"$f":"IF('待遇の整理(正社員)'!J55<>\"\",'待遇の整理(正社員)'!J55,\"\")","v":"適用"},{"$f":"IF('待遇の整理(正社員)'!K55<>\"\",'待遇の整理(正社員)'!K55,\"\")","v":"適用"},{"$f":"IF('待遇の整理(正社員)'!L55<>\"\",'待遇の整理(正社員)'!L55,\"\")","v":"適用"},{"$f":"IF('待遇の整理(正社員)'!M55<>\"\",'待遇の整理(正社員)'!M55,\"\")","v":"適用"},null,"福利厚生その他",{"$f":"IF('待遇の洗い出し(正社員)'!$B52<>0,'待遇の洗い出し(正社員)'!$B52,\"\")","v":""}]
["福利厚生その他",{"$f":"IF('待遇の洗い出し(正社員)'!$B53<>0,'待遇の洗い出し(正社員)'!$B53,\"\")","v":""},{"$f":"IF('待遇の整理(正社員)'!D56<>\"\",'待遇の整理(正社員)'!D56,\"\")","v":"適用"},{"$f":"IF('待遇の整理(正社員)'!E56<>\"\",'待遇の整理(正社員)'!E56,\"\")","v":"適用"},{"$f":"IF('待遇の整理(正社員)'!F56<>\"\",'待遇の整理(正社員)'!F56,\"\")","v":"適用"},{"$f":"IF('待遇の整理(正社員)'!G56<>\"\",'待遇の整理(正社員)'!G56,\"\")","v":"適用"},{"$f":"IF('待遇の整理(正社員)'!H56<>\"\",'待遇の整理(正社員)'!H56,\"\")","v":"適用"},{"$f":"IF('待遇の整理(正社員)'!I56<>\"\",'待遇の整理(正社員)'!I56,\"\")","v":"適用"},{"$f":"IF('待遇の整理(正社員)'!J56<>\"\",'待遇の整理(正社員)'!J56,\"\")","v":"適用"},{"$f":"IF('待遇の整理(正社員)'!K56<>\"\",'待遇の整理(正社員)'!K56,\"\")","v":"適用"},{"$f":"IF('待遇の整理(正社員)'!L56<>\"\",'待遇の整理(正社員)'!L56,\"\")","v":"適用"},{"$f":"IF('待遇の整理(正社員)'!M56<>\"\",'待遇の整理(正社員)'!M56,\"\")","v":"適用"},null,"福利厚生その他",{"$f":"IF('待遇の洗い出し(正社員)'!$B53<>0,'待遇の洗い出し(正社員)'!$B53,\"\")","v":""}]
["福利厚生その他",{"$f":"IF('待遇の洗い出し(正社員)'!$B54<>0,'待遇の洗い出し(正社員)'!$B54,\"\")","v":""},{"$f":"IF('待遇の整理(正社員)'!D57<>\"\",'待遇の整理(正社員)'!D57,\"\")","v":"適用"},{"$f":"IF('待遇の整理(正社員)'!E57<>\"\",'待遇の整理(正社員)'!E57,\"\")","v":"適用"},{"$f":"IF('待遇の整理(正社員)'!F57<>\"\",'待遇の整理(正社員)'!F57,\"\")","v":"適用"},{"$f":"IF('待遇の整理(正社員)'!G57<>\"\",'待遇の整理(正社員)'!G57,\"\")","v":"適用"},{"$f":"IF('待遇の整理(正社員)'!H57<>\"\",'待遇の整理(正社員)'!H57,\"\")","v":"適用"},{"$f":"IF('待遇の整理(正社員)'!I57<>\"\",'待遇の整理(正社員)'!I57,\"\")","v":"適用"},{"$f":"IF('待遇の整理(正社員)'!J57<>\"\",'待遇の整理(正社員)'!J57,\"\")","v":"適用"},{"$f":"IF('待遇の整理(正社員)'!K57<>\"\",'待遇の整理(正社員)'!K57,\"\")","v":"適用"},{"$f":"IF('待遇の整理(正社員)'!L57<>\"\",'待遇の整理(正社員)'!L57,\"\")","v":"適用"},{"$f":"IF('待遇の整理(正社員)'!M57<>\"\",'待遇の整理(正社員)'!M57,\"\")","v":"適用"},null,"福利厚生その他",{"$f":"IF('待遇の洗い出し(正社員)'!$B54<>0,'待遇の洗い出し(正社員)'!$B54,\"\")","v":""}]
["福利厚生その他",{"$f":"IF('待遇の洗い出し(正社員)'!$B55<>0,'待遇の洗い出し(正社員)'!$B55,\"\")","v":""},{"$f":"IF('待遇の整理(正社員)'!D58<>\"\",'待遇の整理(正社員)'!D58,\"\")","v":"適用"},{"$f":"IF('待遇の整理(正社員)'!E58<>\"\",'待遇の整理(正社員)'!E58,\"\")","v":"適用"},{"$f":"IF('待遇の整理(正社員)'!F58<>\"\",'待遇の整理(正社員)'!F58,\"\")","v":"適用"},{"$f":"IF('待遇の整理(正社員)'!G58<>\"\",'待遇の整理(正社員)'!G58,\"\")","v":"適用"},{"$f":"IF('待遇の整理(正社員)'!H58<>\"\",'待遇の整理(正社員)'!H58,\"\")","v":"適用"},{"$f":"IF('待遇の整理(正社員)'!I58<>\"\",'待遇の整理(正社員)'!I58,\"\")","v":"適用"},{"$f":"IF('待遇の整理(正社員)'!J58<>\"\",'待遇の整理(正社員)'!J58,\"\")","v":"適用"},{"$f":"IF('待遇の整理(正社員)'!K58<>\"\",'待遇の整理(正社員)'!K58,\"\")","v":"適用"},{"$f":"IF('待遇の整理(正社員)'!L58<>\"\",'待遇の整理(正社員)'!L58,\"\")","v":"適用"},{"$f":"IF('待遇の整理(正社員)'!M58<>\"\",'待遇の整理(正社員)'!M58,\"\")","v":"適用"},null,"福利厚生その他",{"$f":"IF('待遇の洗い出し(正社員)'!$B55<>0,'待遇の洗い出し(正社員)'!$B55,\"\")","v":""}]
["福利厚生その他",{"$f":"IF('待遇の洗い出し(正社員)'!$B56<>0,'待遇の洗い出し(正社員)'!$B56,\"\")","v":""},{"$f":"IF('待遇の整理(正社員)'!D59<>\"\",'待遇の整理(正社員)'!D59,\"\")","v":"適用"},{"$f":"IF('待遇の整理(正社員)'!E59<>\"\",'待遇の整理(正社員)'!E59,\"\")","v":"適用"},{"$f":"IF('待遇の整理(正社員)'!F59<>\"\",'待遇の整理(正社員)'!F59,\"\")","v":"適用"},{"$f":"IF('待遇の整理(正社員)'!G59<>\"\",'待遇の整理(正社員)'!G59,\"\")","v":"適用"},{"$f":"IF('待遇の整理(正社員)'!H59<>\"\",'待遇の整理(正社員)'!H59,\"\")","v":"適用"},{"$f":"IF('待遇の整理(正社員)'!I59<>\"\",'待遇の整理(正社員)'!I59,\"\")","v":"適用"},{"$f":"IF('待遇の整理(正社員)'!J59<>\"\",'待遇の整理(正社員)'!J59,\"\")","v":"適用"},{"$f":"IF('待遇の整理(正社員)'!K59<>\"\",'待遇の整理(正社員)'!K59,\"\")","v":"適用"},{"$f":"IF('待遇の整理(正社員)'!L59<>\"\",'待遇の整理(正社員)'!L59,\"\")","v":"適用"},{"$f":"IF('待遇の整理(正社員)'!M59<>\"\",'待遇の整理(正社員)'!M59,\"\")","v":"適用"},null,"福利厚生その他",{"$f":"IF('待遇の洗い出し(正社員)'!$B56<>0,'待遇の洗い出し(正社員)'!$B56,\"\")","v":""}]
["福利厚生その他",{"$f":"IF('待遇の洗い出し(正社員)'!$B57<>0,'待遇の洗い出し(正社員)'!$B57,\"\")","v":""},{"$f":"IF('待遇の整理(正社員)'!D60<>\"\",'待遇の整理(正社員)'!D60,\"\")","v":"適用"},{"$f":"IF('待遇の整理(正社員)'!E60<>\"\",'待遇の整理(正社員)'!E60,\"\")","v":"適用"},{"$f":"IF('待遇の整理(正社員)'!F60<>\"\",'待遇の整理(正社員)'!F60,\"\")","v":"適用"},{"$f":"IF('待遇の整理(正社員)'!G60<>\"\",'待遇の整理(正社員)'!G60,\"\")","v":"適用"},{"$f":"IF('待遇の整理(正社員)'!H60<>\"\",'待遇の整理(正社員)'!H60,\"\")","v":"適用"},{"$f":"IF('待遇の整理(正社員)'!I60<>\"\",'待遇の整理(正社員)'!I60,\"\")","v":"適用"},{"$f":"IF('待遇の整理(正社員)'!J60<>\"\",'待遇の整理(正社員)'!J60,\"\")","v":"適用"},{"$f":"IF('待遇の整理(正社員)'!K60<>\"\",'待遇の整理(正社員)'!K60,\"\")","v":"適用"},{"$f":"IF('待遇の整理(正社員)'!L60<>\"\",'待遇の整理(正社員)'!L60,\"\")","v":"適用"},{"$f":"IF('待遇の整理(正社員)'!M60<>\"\",'待遇の整理(正社員)'!M60,\"\")","v":"適用"},null,"福利厚生その他",{"$f":"IF('待遇の洗い出し(正社員)'!$B57<>0,'待遇の洗い出し(正社員)'!$B57,\"\")","v":""}]
["福利厚生その他",{"$f":"IF('待遇の洗い出し(正社員)'!$B58<>0,'待遇の洗い出し(正社員)'!$B58,\"\")","v":""},{"$f":"IF('待遇の整理(正社員)'!D61<>\"\",'待遇の整理(正社員)'!D61,\"\")","v":"適用"},{"$f":"IF('待遇の整理(正社員)'!E61<>\"\",'待遇の整理(正社員)'!E61,\"\")","v":"適用"},{"$f":"IF('待遇の整理(正社員)'!F61<>\"\",'待遇の整理(正社員)'!F61,\"\")","v":"適用"},{"$f":"IF('待遇の整理(正社員)'!G61<>\"\",'待遇の整理(正社員)'!G61,\"\")","v":"適用"},{"$f":"IF('待遇の整理(正社員)'!H61<>\"\",'待遇の整理(正社員)'!H61,\"\")","v":"適用"},{"$f":"IF('待遇の整理(正社員)'!I61<>\"\",'待遇の整理(正社員)'!I61,\"\")","v":"適用"},{"$f":"IF('待遇の整理(正社員)'!J61<>\"\",'待遇の整理(正社員)'!J61,\"\")","v":"適用"},{"$f":"IF('待遇の整理(正社員)'!K61<>\"\",'待遇の整理(正社員)'!K61,\"\")","v":"適用"},{"$f":"IF('待遇の整理(正社員)'!L61<>\"\",'待遇の整理(正社員)'!L61,\"\")","v":"適用"},{"$f":"IF('待遇の整理(正社員)'!M61<>\"\",'待遇の整理(正社員)'!M61,\"\")","v":"適用"},null,"福利厚生その他",{"$f":"IF('待遇の洗い出し(正社員)'!$B58<>0,'待遇の洗い出し(正社員)'!$B58,\"\")","v":""}]
["福利厚生その他",{"$f":"IF('待遇の洗い出し(正社員)'!$B59<>0,'待遇の洗い出し(正社員)'!$B59,\"\")","v":""},{"$f":"IF('待遇の整理(正社員)'!D62<>\"\",'待遇の整理(正社員)'!D62,\"\")","v":"適用"},{"$f":"IF('待遇の整理(正社員)'!E62<>\"\",'待遇の整理(正社員)'!E62,\"\")","v":"適用"},{"$f":"IF('待遇の整理(正社員)'!F62<>\"\",'待遇の整理(正社員)'!F62,\"\")","v":"適用"},{"$f":"IF('待遇の整理(正社員)'!G62<>\"\",'待遇の整理(正社員)'!G62,\"\")","v":"適用"},{"$f":"IF('待遇の整理(正社員)'!H62<>\"\",'待遇の整理(正社員)'!H62,\"\")","v":"適用"},{"$f":"IF('待遇の整理(正社員)'!I62<>\"\",'待遇の整理(正社員)'!I62,\"\")","v":"適用"},{"$f":"IF('待遇の整理(正社員)'!J62<>\"\",'待遇の整理(正社員)'!J62,\"\")","v":"適用"},{"$f":"IF('待遇の整理(正社員)'!K62<>\"\",'待遇の整理(正社員)'!K62,\"\")","v":"適用"},{"$f":"IF('待遇の整理(正社員)'!L62<>\"\",'待遇の整理(正社員)'!L62,\"\")","v":"適用"},{"$f":"IF('待遇の整理(正社員)'!M62<>\"\",'待遇の整理(正社員)'!M62,\"\")","v":"適用"},null,"福利厚生その他",{"$f":"IF('待遇の洗い出し(正社員)'!$B59<>0,'待遇の洗い出し(正社員)'!$B59,\"\")","v":""}]
["福利厚生その他",{"$f":"IF('待遇の洗い出し(正社員)'!$B60<>0,'待遇の洗い出し(正社員)'!$B60,\"\")","v":""},{"$f":"IF('待遇の整理(正社員)'!D63<>\"\",'待遇の整理(正社員)'!D63,\"\")","v":"適用"},{"$f":"IF('待遇の整理(正社員)'!E63<>\"\",'待遇の整理(正社員)'!E63,\"\")","v":"適用"},{"$f":"IF('待遇の整理(正社員)'!F63<>\"\",'待遇の整理(正社員)'!F63,\"\")","v":"適用"},{"$f":"IF('待遇の整理(正社員)'!G63<>\"\",'待遇の整理(正社員)'!G63,\"\")","v":"適用"},{"$f":"IF('待遇の整理(正社員)'!H63<>\"\",'待遇の整理(正社員)'!H63,\"\")","v":"適用"},{"$f":"IF('待遇の整理(正社員)'!I63<>\"\",'待遇の整理(正社員)'!I63,\"\")","v":"適用"},{"$f":"IF('待遇の整理(正社員)'!J63<>\"\",'待遇の整理(正社員)'!J63,\"\")","v":"適用"},{"$f":"IF('待遇の整理(正社員)'!K63<>\"\",'待遇の整理(正社員)'!K63,\"\")","v":"適用"},{"$f":"IF('待遇の整理(正社員)'!L63<>\"\",'待遇の整理(正社員)'!L63,\"\")","v":"適用"},{"$f":"IF('待遇の整理(正社員)'!M63<>\"\",'待遇の整理(正社員)'!M63,\"\")","v":"適用"},null,"福利厚生その他",{"$f":"IF('待遇の洗い出し(正社員)'!$B60<>0,'待遇の洗い出し(正社員)'!$B60,\"\")","v":""}]

{"sheet":"【個別 対 個別】比較・点検シート","index":7,"n_rows":88,"n_cols":7,"rows_kept":88,"cut":false,"hidden":false,"merged":[[37,5,46,5],[37,6,46,6],[36,4,36,6],[26,4,26,6],[31,0,34,0],[31,4,31,6],[32,4,32,6],[33,4,33,6],[34,4,34,6],[28,0,30,0],[28,4,28,6],[29,4,29,6],[30,4,30,6],[27,4,27,6]]}
["手順７","正社員とパートタイム労働者・有期雇用労働者を比較・点検しましょう",null,"(左の「＋」マークを押下して説明をお読みの上、記入してください)"]
[null,"・待遇を比較する正社員とパートタイム労働者・有期雇用労働者を1名ずつ選択してください。下表に選択した正社員の社員名または社員番号などの識別子を入力し、社員タイプをプルダウンから選択てください。"]
[null,"・選出した正社員と、パートタイム労働者・有期雇用労働者それぞれ1名について、職務の内容を記入してください。"]
[null,"・パートタイム労働者・有期雇用労働者の職務の内容・配置の変更の範囲について、正社員(選択している社員タイプ)と比較した場合の状況をプルダウンから選択してください。なお、制度上での比較ではなく、実際の転勤や配置の変更の状況を比較してください。"]
[null,null,null,"凡例"]
[null,null,null,"１：正社員(選択している社員タイプ)と同じ"]
[null,null,null,"２：正社員(選択している社員タイプ)とやや異なる"]
[null,null,null,"３：正社員(選択している社員タイプ)と大きく異なる"]
[null,"・パートタイム労働者・有期雇用労働者の基本給の決定要素について、重要度をプルダウンから選択してください。"]
[null,null,null,"凡例"]
[null,null,null,"１：非常に重要"]
[null,null,null,"２：やや重要"]
[null,null,null,"３：重要でない"]
[null,"・パートタイム労働者・有期雇用労働者の待遇について、正社員と比較した場合の支給状況をプルダウンから選択してください。"]
[null,null,null,"凡例"]
[null,null,null,"１：正社員(選択している社員タイプ)と同条件で支給している"]
[null,null,null,"２：正社員(選択している社員タイプ)には支給するが、パートタイム労働者・有期雇用労働者には支給していない"]
[null,null,null,"３：正社員(選択している社員タイプ)、パートタイム労働者・有期雇用労働者とも支給するが、支給条件が異なる"]
[null,"・パートタイム労働者・有期雇用労働者の待遇のうち数字の隣の欄に色がついたものは、支給条件や、正社員と違いを設けている理由を書き出してください。さらに、マニュアルを参照しながら対応策を記入してみましょう。"]
[null,"・正社員とパートタイム労働者・有期雇用労働者の待遇について、全て入力が完了したら「登録」ボタンを押下してください。"]
[null,null,null,null,null,"マニュアルの参照はこちら⇒","手当"]
[null,null,null,null,null,null,"福利厚生その他"]
[null,null,null,null,"《賞与・手当・福利厚生その他　選択肢》",null,"賞与"]
[null,null,null,null,"１：正社員(選択している社員タイプ)と同条件で支給している",null,"基本給"]
[null,null,null,null,"２：正社員(選択している社員タイプ)には支給するが、パートタイム労働者・有期雇用労働者には支給していない"]
[null,null,null,null,"３：正社員(選択している社員タイプ)、パートタイム労働者・有期雇用労働者とも支給するが、支給条件が異なる"]
[null,"社員名/社員番号"]
[null,"社員タイプ",null,"→\n←"]
["職務の内容","業務内容\n(職種)"]
[null,"中核的業務"]
[null,"責任の程度"]
["職務の内容・\n配置の変更の範囲","働く場所の\n変更の有無",{"$f":"INDEX('【集団 対 集団】データベース'!$C$16:$L$72,MATCH('【個別 対 個別】比較・点検シート'!$B32,'【集団 対 集団】データベース'!$B$16:$B$72,0),MATCH('【個別 対 個別】比較・点検シート'!$C$28,'【集団 対 集団】データベース'!$C$9:$L$9,0))","v":{"$error":"#N/A"}}]
[null,"働く場所の\n変更の詳細",{"$f":"INDEX('【集団 対 集団】データベース'!$C$16:$L$72,MATCH('【個別 対 個別】比較・点検シート'!$B33,'【集団 対 集団】データベース'!$B$16:$B$72,0),MATCH('【個別 対 個別】比較・点検シート'!$C$28,'【集団 対 集団】データベース'!$C$9:$L$9,0))","v":{"$error":"#N/A"}}]
[null,"従事する仕事の\n変更の有無",{"$f":"INDEX('【集団 対 集団】データベース'!$C$16:$L$72,MATCH('【個別 対 個別】比較・点検シート'!$B34,'【集団 対 集団】データベース'!$B$16:$B$72,0),MATCH('【個別 対 個別】比較・点検シート'!$C$28,'【集団 対 集団】データベース'!$C$9:$L$9,0))","v":{"$error":"#N/A"}}]
[null,"従事する仕事の\n変更の詳細",{"$f":"INDEX('【集団 対 集団】データベース'!$C$16:$L$72,MATCH('【個別 対 個別】比較・点検シート'!$B35,'【集団 対 集団】データベース'!$B$16:$B$72,0),MATCH('【個別 対 個別】比較・点検シート'!$C$28,'【集団 対 集団】データベース'!$C$9:$L$9,0))","v":{"$error":"#N/A"}}]
["index","index",null,null,null,"待遇差の理由","待遇差の対応策"]
["支給している基本給の比率","（正社員の基本給を100として記入）",100]
["基本給（決定要素）",{"$f":"'【集団 対 集団】データベース'!B22","v":"職務の遂行能力"},{"$f":"INDEX('【集団 対 集団】データベース'!$C$16:$L$72,MATCH('【個別 対 個別】比較・点検シート'!$B38,'【集団 対 集団】データベース'!$B$16:$B$72,0),MATCH('【個別 対 個別】比較・点検シート'!$C$28,'【集団 対 集団】データベース'!$C$9:$L$9,0))","v":{"$error":"#N/A"}},null,null,"基本給の決定要素や職務の内容、職務の内容・配置の変更の範囲を踏まえ、支給に差を設けている理由を入力してください","理由を記入できなかった場合や、理由を踏まえて待遇差が不合理と考える場合は、支給における差を改善するための対応策を入力してください"]
["基本給（決定要素）",{"$f":"'【集団 対 集団】データベース'!B23","v":"業務の内容や責任の重さ"},{"$f":"INDEX('【集団 対 集団】データベース'!$C$16:$L$72,MATCH('【個別 対 個別】比較・点検シート'!$B39,'【集団 対 集団】データベース'!$B$16:$B$72,0),MATCH('【個別 対 個別】比較・点検シート'!$C$28,'【集団 対 集団】データベース'!$C$9:$L$9,0))","v":{"$error":"#N/A"}}]
["基本給（決定要素）",{"$f":"'【集団 対 集団】データベース'!B24","v":"仕事の成果や業績"},{"$f":"INDEX('【集団 対 集団】データベース'!$C$16:$L$72,MATCH('【個別 対 個別】比較・点検シート'!$B40,'【集団 対 集団】データベース'!$B$16:$B$72,0),MATCH('【個別 対 個別】比較・点検シート'!$C$28,'【集団 対 集団】データベース'!$C$9:$L$9,0))","v":{"$error":"#N/A"}}]
["基本給（決定要素）",{"$f":"'【集団 対 集団】データベース'!B25","v":"年齢や勤続年数"},{"$f":"INDEX('【集団 対 集団】データベース'!$C$16:$L$72,MATCH('【個別 対 個別】比較・点検シート'!$B41,'【集団 対 集団】データベース'!$B$16:$B$72,0),MATCH('【個別 対 個別】比較・点検シート'!$C$28,'【集団 対 集団】データベース'!$C$9:$L$9,0))","v":{"$error":"#N/A"}}]
["基本給（決定要素）",{"$f":"'【集団 対 集団】データベース'!B26","v":"市場での賃金相場"},{"$f":"INDEX('【集団 対 集団】データベース'!$C$16:$L$72,MATCH('【個別 対 個別】比較・点検シート'!$B42,'【集団 対 集団】データベース'!$B$16:$B$72,0),MATCH('【個別 対 個別】比較・点検シート'!$C$28,'【集団 対 集団】データベース'!$C$9:$L$9,0))","v":{"$error":"#N/A"}}]
["基本給（決定要素）",{"$f":"'【集団 対 集団】データベース'!B27","v":""},{"$f":"INDEX('【集団 対 集団】データベース'!$C$16:$L$72,MATCH('【個別 対 個別】比較・点検シート'!$B43,'【集団 対 集団】データベース'!$B$16:$B$72,0),MATCH('【個別 対 個別】比較・点検シート'!$C$28,'【集団 対 集団】データベース'!$C$9:$L$9,0))","v":{"$error":"#N/A"}}]
["基本給（決定要素）",{"$f":"'【集団 対 集団】データベース'!B28","v":""},{"$f":"INDEX('【集団 対 集団】データベース'!$C$16:$L$72,MATCH('【個別 対 個別】比較・点検シート'!$B44,'【集団 対 集団】データベース'!$B$16:$B$72,0),MATCH('【個別 対 個別】比較・点検シート'!$C$28,'【集団 対 集団】データベース'!$C$9:$L$9,0))","v":{"$error":"#N/A"}}]
["基本給（決定要素）",{"$f":"'【集団 対 集団】データベース'!B29","v":""},{"$f":"INDEX('【集団 対 集団】データベース'!$C$16:$L$72,MATCH('【個別 対 個別】比較・点検シート'!$B45,'【集団 対 集団】データベース'!$B$16:$B$72,0),MATCH('【個別 対 個別】比較・点検シート'!$C$28,'【集団 対 集団】データベース'!$C$9:$L$9,0))","v":{"$error":"#N/A"}}]
["基本給（決定要素）",{"$f":"'【集団 対 集団】データベース'!B30","v":""},{"$f":"INDEX('【集団 対 集団】データベース'!$C$16:$L$72,MATCH('【個別 対 個別】比較・点検シート'!$B46,'【集団 対 集団】データベース'!$B$16:$B$72,0),MATCH('【個別 対 個別】比較・点検シート'!$C$28,'【集団 対 集団】データベース'!$C$9:$L$9,0))","v":{"$error":"#N/A"}}]
["基本給（決定要素）",{"$f":"'【集団 対 集団】データベース'!B31","v":""},{"$f":"INDEX('【集団 対 集団】データベース'!$C$16:$L$72,MATCH('【個別 対 個別】比較・点検シート'!$B47,'【集団 対 集団】データベース'!$B$16:$B$72,0),MATCH('【個別 対 個別】比較・点検シート'!$C$28,'【集団 対 集団】データベース'!$C$9:$L$9,0))","v":{"$error":"#N/A"}}]
["賞与","賞与",{"$f":"INDEX('【集団 対 集団】データベース'!$C$16:$L$72,MATCH('【個別 対 個別】比較・点検シート'!$A48,'【集団 対 集団】データベース'!$A$16:$A$72,0),MATCH('【個別 対 個別】比較・点検シート'!$C$28,'【集団 対 集団】データベース'!$C$9:$L$9,0))","v":{"$error":"#N/A"}}]
["手当",{"$f":"'【集団 対 集団】データベース'!B33","v":""},{"$f":"INDEX('【集団 対 集団】データベース'!$C$16:$L$72,MATCH('【個別 対 個別】比較・点検シート'!$B49,'【集団 対 集団】データベース'!$B$16:$B$72,0),MATCH('【個別 対 個別】比較・点検シート'!$C$28,'【集団 対 集団】データベース'!$C$9:$L$9,0))","v":{"$error":"#N/A"}}]
["手当",{"$f":"'【集団 対 集団】データベース'!B34","v":""},{"$f":"INDEX('【集団 対 集団】データベース'!$C$16:$L$72,MATCH('【個別 対 個別】比較・点検シート'!$B50,'【集団 対 集団】データベース'!$B$16:$B$72,0),MATCH('【個別 対 個別】比較・点検シート'!$C$28,'【集団 対 集団】データベース'!$C$9:$L$9,0))","v":{"$error":"#N/A"}}]
["手当",{"$f":"'【集団 対 集団】データベース'!B35","v":""},{"$f":"INDEX('【集団 対 集団】データベース'!$C$16:$L$72,MATCH('【個別 対 個別】比較・点検シート'!$B51,'【集団 対 集団】データベース'!$B$16:$B$72,0),MATCH('【個別 対 個別】比較・点検シート'!$C$28,'【集団 対 集団】データベース'!$C$9:$L$9,0))","v":{"$error":"#N/A"}}]
["手当",{"$f":"'【集団 対 集団】データベース'!B36","v":""},{"$f":"INDEX('【集団 対 集団】データベース'!$C$16:$L$72,MATCH('【個別 対 個別】比較・点検シート'!$B52,'【集団 対 集団】データベース'!$B$16:$B$72,0),MATCH('【個別 対 個別】比較・点検シート'!$C$28,'【集団 対 集団】データベース'!$C$9:$L$9,0))","v":{"$error":"#N/A"}}]
["手当",{"$f":"'【集団 対 集団】データベース'!B37","v":""},{"$f":"INDEX('【集団 対 集団】データベース'!$C$16:$L$72,MATCH('【個別 対 個別】比較・点検シート'!$B53,'【集団 対 集団】データベース'!$B$16:$B$72,0),MATCH('【個別 対 個別】比較・点検シート'!$C$28,'【集団 対 集団】データベース'!$C$9:$L$9,0))","v":{"$error":"#N/A"}}]
["手当",{"$f":"'【集団 対 集団】データベース'!B38","v":""},{"$f":"INDEX('【集団 対 集団】データベース'!$C$16:$L$72,MATCH('【個別 対 個別】比較・点検シート'!$B54,'【集団 対 集団】データベース'!$B$16:$B$72,0),MATCH('【個別 対 個別】比較・点検シート'!$C$28,'【集団 対 集団】データベース'!$C$9:$L$9,0))","v":{"$error":"#N/A"}}]
["手当",{"$f":"'【集団 対 集団】データベース'!B39","v":""},{"$f":"INDEX('【集団 対 集団】データベース'!$C$16:$L$72,MATCH('【個別 対 個別】比較・点検シート'!$B55,'【集団 対 集団】データベース'!$B$16:$B$72,0),MATCH('【個別 対 個別】比較・点検シート'!$C$28,'【集団 対 集団】データベース'!$C$9:$L$9,0))","v":{"$error":"#N/A"}}]
["手当",{"$f":"'【集団 対 集団】データベース'!B40","v":""},{"$f":"INDEX('【集団 対 集団】データベース'!$C$16:$L$72,MATCH('【個別 対 個別】比較・点検シート'!$B56,'【集団 対 集団】データベース'!$B$16:$B$72,0),MATCH('【個別 対 個別】比較・点検シート'!$C$28,'【集団 対 集団】データベース'!$C$9:$L$9,0))","v":{"$error":"#N/A"}}]
["手当",{"$f":"'【集団 対 集団】データベース'!B41","v":""},{"$f":"INDEX('【集団 対 集団】データベース'!$C$16:$L$72,MATCH('【個別 対 個別】比較・点検シート'!$B57,'【集団 対 集団】データベース'!$B$16:$B$72,0),MATCH('【個別 対 個別】比較・点検シート'!$C$28,'【集団 対 集団】データベース'!$C$9:$L$9,0))","v":{"$error":"#N/A"}}]
["手当",{"$f":"'【集団 対 集団】データベース'!B42","v":""},{"$f":"INDEX('【集団 対 集団】データベース'!$C$16:$L$72,MATCH('【個別 対 個別】比較・点検シート'!$B58,'【集団 対 集団】データベース'!$B$16:$B$72,0),MATCH('【個別 対 個別】比較・点検シート'!$C$28,'【集団 対 集団】データベース'!$C$9:$L$9,0))","v":{"$error":"#N/A"}}]
["手当",{"$f":"'【集団 対 集団】データベース'!B43","v":""},{"$f":"INDEX('【集団 対 集団】データベース'!$C$16:$L$72,MATCH('【個別 対 個別】比較・点検シート'!$B59,'【集団 対 集団】データベース'!$B$16:$B$72,0),MATCH('【個別 対 個別】比較・点検シート'!$C$28,'【集団 対 集団】データベース'!$C$9:$L$9,0))","v":{"$error":"#N/A"}}]
["手当",{"$f":"'【集団 対 集団】データベース'!B44","v":""},{"$f":"INDEX('【集団 対 集団】データベース'!$C$16:$L$72,MATCH('【個別 対 個別】比較・点検シート'!$B60,'【集団 対 集団】データベース'!$B$16:$B$72,0),MATCH('【個別 対 個別】比較・点検シート'!$C$28,'【集団 対 集団】データベース'!$C$9:$L$9,0))","v":{"$error":"#N/A"}}]
["手当",{"$f":"'【集団 対 集団】データベース'!B45","v":""},{"$f":"INDEX('【集団 対 集団】データベース'!$C$16:$L$72,MATCH('【個別 対 個別】比較・点検シート'!$B61,'【集団 対 集団】データベース'!$B$16:$B$72,0),MATCH('【個別 対 個別】比較・点検シート'!$C$28,'【集団 対 集団】データベース'!$C$9:$L$9,0))","v":{"$error":"#N/A"}}]
["手当",{"$f":"'【集団 対 集団】データベース'!B46","v":""},{"$f":"INDEX('【集団 対 集団】データベース'!$C$16:$L$72,MATCH('【個別 対 個別】比較・点検シート'!$B62,'【集団 対 集団】データベース'!$B$16:$B$72,0),MATCH('【個別 対 個別】比較・点検シート'!$C$28,'【集団 対 集団】データベース'!$C$9:$L$9,0))","v":{"$error":"#N/A"}}]
["手当",{"$f":"'【集団 対 集団】データベース'!B47","v":""},{"$f":"INDEX('【集団 対 集団】データベース'!$C$16:$L$72,MATCH('【個別 対 個別】比較・点検シート'!$B63,'【集団 対 集団】データベース'!$B$16:$B$72,0),MATCH('【個別 対 個別】比較・点検シート'!$C$28,'【集団 対 集団】データベース'!$C$9:$L$9,0))","v":{"$error":"#N/A"}}]
["福利厚生その他",{"$f":"'【集団 対 集団】データベース'!B48","v":"給食施設（食堂）"},{"$f":"INDEX('【集団 対 集団】データベース'!$C$16:$L$72,MATCH('【個別 対 個別】比較・点検シート'!$B64,'【集団 対 集団】データベース'!$B$16:$B$72,0),MATCH('【個別 対 個別】比較・点検シート'!$C$28,'【集団 対 集団】データベース'!$C$9:$L$9,0))","v":{"$error":"#N/A"}}]
["福利厚生その他",{"$f":"'【集団 対 集団】データベース'!B49","v":"休憩室"},{"$f":"INDEX('【集団 対 集団】データベース'!$C$16:$L$72,MATCH('【個別 対 個別】比較・点検シート'!$B65,'【集団 対 集団】データベース'!$B$16:$B$72,0),MATCH('【個別 対 個別】比較・点検シート'!$C$28,'【集団 対 集団】データベース'!$C$9:$L$9,0))","v":{"$error":"#N/A"}}]
["福利厚生その他",{"$f":"'【集団 対 集団】データベース'!B50","v":"更衣室"},{"$f":"INDEX('【集団 対 集団】データベース'!$C$16:$L$72,MATCH('【個別 対 個別】比較・点検シート'!$B66,'【集団 対 集団】データベース'!$B$16:$B$72,0),MATCH('【個別 対 個別】比較・点検シート'!$C$28,'【集団 対 集団】データベース'!$C$9:$L$9,0))","v":{"$error":"#N/A"}}]
["福利厚生その他",{"$f":"'【集団 対 集団】データベース'!B51","v":""},{"$f":"INDEX('【集団 対 集団】データベース'!$C$16:$L$72,MATCH('【個別 対 個別】比較・点検シート'!$B67,'【集団 対 集団】データベース'!$B$16:$B$72,0),MATCH('【個別 対 個別】比較・点検シート'!$C$28,'【集団 対 集団】データベース'!$C$9:$L$9,0))","v":{"$error":"#N/A"}}]
["福利厚生その他",{"$f":"'【集団 対 集団】データベース'!B52","v":""},{"$f":"INDEX('【集団 対 集団】データベース'!$C$16:$L$72,MATCH('【個別 対 個別】比較・点検シート'!$B68,'【集団 対 集団】データベース'!$B$16:$B$72,0),MATCH('【個別 対 個別】比較・点検シート'!$C$28,'【集団 対 集団】データベース'!$C$9:$L$9,0))","v":{"$error":"#N/A"}}]
["福利厚生その他",{"$f":"'【集団 対 集団】データベース'!B53","v":""},{"$f":"INDEX('【集団 対 集団】データベース'!$C$16:$L$72,MATCH('【個別 対 個別】比較・点検シート'!$B69,'【集団 対 集団】データベース'!$B$16:$B$72,0),MATCH('【個別 対 個別】比較・点検シート'!$C$28,'【集団 対 集団】データベース'!$C$9:$L$9,0))","v":{"$error":"#N/A"}}]
["福利厚生その他",{"$f":"'【集団 対 集団】データベース'!B54","v":""},{"$f":"INDEX('【集団 対 集団】データベース'!$C$16:$L$72,MATCH('【個別 対 個別】比較・点検シート'!$B70,'【集団 対 集団】データベース'!$B$16:$B$72,0),MATCH('【個別 対 個別】比較・点検シート'!$C$28,'【集団 対 集団】データベース'!$C$9:$L$9,0))","v":{"$error":"#N/A"}}]
["福利厚生その他",{"$f":"'【集団 対 集団】データベース'!B55","v":""},{"$f":"INDEX('【集団 対 集団】データベース'!$C$16:$L$72,MATCH('【個別 対 個別】比較・点検シート'!$B71,'【集団 対 集団】データベース'!$B$16:$B$72,0),MATCH('【個別 対 個別】比較・点検シート'!$C$28,'【集団 対 集団】データベース'!$C$9:$L$9,0))","v":{"$error":"#N/A"}}]
["福利厚生その他",{"$f":"'【集団 対 集団】データベース'!B56","v":""},{"$f":"INDEX('【集団 対 集団】データベース'!$C$16:$L$72,MATCH('【個別 対 個別】比較・点検シート'!$B72,'【集団 対 集団】データベース'!$B$16:$B$72,0),MATCH('【個別 対 個別】比較・点検シート'!$C$28,'【集団 対 集団】データベース'!$C$9:$L$9,0))","v":{"$error":"#N/A"}}]
["福利厚生その他",{"$f":"'【集団 対 集団】データベース'!B57","v":""},{"$f":"INDEX('【集団 対 集団】データベース'!$C$16:$L$72,MATCH('【個別 対 個別】比較・点検シート'!$B73,'【集団 対 集団】データベース'!$B$16:$B$72,0),MATCH('【個別 対 個別】比較・点検シート'!$C$28,'【集団 対 集団】データベース'!$C$9:$L$9,0))","v":{"$error":"#N/A"}}]
["福利厚生その他",{"$f":"'【集団 対 集団】データベース'!B58","v":""},{"$f":"INDEX('【集団 対 集団】データベース'!$C$16:$L$72,MATCH('【個別 対 個別】比較・点検シート'!$B74,'【集団 対 集団】データベース'!$B$16:$B$72,0),MATCH('【個別 対 個別】比較・点検シート'!$C$28,'【集団 対 集団】データベース'!$C$9:$L$9,0))","v":{"$error":"#N/A"}}]
["福利厚生その他",{"$f":"'【集団 対 集団】データベース'!B59","v":""},{"$f":"INDEX('【集団 対 集団】データベース'!$C$16:$L$72,MATCH('【個別 対 個別】比較・点検シート'!$B75,'【集団 対 集団】データベース'!$B$16:$B$72,0),MATCH('【個別 対 個別】比較・点検シート'!$C$28,'【集団 対 集団】データベース'!$C$9:$L$9,0))","v":{"$error":"#N/A"}}]
["福利厚生その他",{"$f":"'【集団 対 集団】データベース'!B60","v":""},{"$f":"INDEX('【集団 対 集団】データベース'!$C$16:$L$72,MATCH('【個別 対 個別】比較・点検シート'!$B76,'【集団 対 集団】データベース'!$B$16:$B$72,0),MATCH('【個別 対 個別】比較・点検シート'!$C$28,'【集団 対 集団】データベース'!$C$9:$L$9,0))","v":{"$error":"#N/A"}}]
["福利厚生その他",{"$f":"'【集団 対 集団】データベース'!B61","v":""},{"$f":"INDEX('【集団 対 集団】データベース'!$C$16:$L$72,MATCH('【個別 対 個別】比較・点検シート'!$B77,'【集団 対 集団】データベース'!$B$16:$B$72,0),MATCH('【個別 対 個別】比較・点検シート'!$C$28,'【集団 対 集団】データベース'!$C$9:$L$9,0))","v":{"$error":"#N/A"}}]
["福利厚生その他",{"$f":"'【集団 対 集団】データベース'!B62","v":""},{"$f":"INDEX('【集団 対 集団】データベース'!$C$16:$L$72,MATCH('【個別 対 個別】比較・点検シート'!$B78,'【集団 対 集団】データベース'!$B$16:$B$72,0),MATCH('【個別 対 個別】比較・点検シート'!$C$28,'【集団 対 集団】データベース'!$C$9:$L$9,0))","v":{"$error":"#N/A"}}]
["福利厚生その他",{"$f":"'【集団 対 集団】データベース'!B63","v":""},{"$f":"INDEX('【集団 対 集団】データベース'!$C$16:$L$72,MATCH('【個別 対 個別】比較・点検シート'!$B79,'【集団 対 集団】データベース'!$B$16:$B$72,0),MATCH('【個別 対 個別】比較・点検シート'!$C$28,'【集団 対 集団】データベース'!$C$9:$L$9,0))","v":{"$error":"#N/A"}}]
["福利厚生その他",{"$f":"'【集団 対 集団】データベース'!B64","v":""},{"$f":"INDEX('【集団 対 集団】データベース'!$C$16:$L$72,MATCH('【個別 対 個別】比較・点検シート'!$B80,'【集団 対 集団】データベース'!$B$16:$B$72,0),MATCH('【個別 対 個別】比較・点検シート'!$C$28,'【集団 対 集団】データベース'!$C$9:$L$9,0))","v":{"$error":"#N/A"}}]
["福利厚生その他",{"$f":"'【集団 対 集団】データベース'!B65","v":""},{"$f":"INDEX('【集団 対 集団】データベース'!$C$16:$L$72,MATCH('【個別 対 個別】比較・点検シート'!$B81,'【集団 対 集団】データベース'!$B$16:$B$72,0),MATCH('【個別 対 個別】比較・点検シート'!$C$28,'【集団 対 集団】データベース'!$C$9:$L$9,0))","v":{"$error":"#N/A"}}]
["福利厚生その他",{"$f":"'【集団 対 集団】データベース'!B66","v":""},{"$f":"INDEX('【集団 対 集団】データベース'!$C$16:$L$72,MATCH('【個別 対 個別】比較・点検シート'!$B82,'【集団 対 集団】データベース'!$B$16:$B$72,0),MATCH('【個別 対 個別】比較・点検シート'!$C$28,'【集団 対 集団】データベース'!$C$9:$L$9,0))","v":{"$error":"#N/A"}}]
["福利厚生その他",{"$f":"'【集団 対 集団】データベース'!B67","v":""},{"$f":"INDEX('【集団 対 集団】データベース'!$C$16:$L$72,MATCH('【個別 対 個別】比較・点検シート'!$B83,'【集団 対 集団】データベース'!$B$16:$B$72,0),MATCH('【個別 対 個別】比較・点検シート'!$C$28,'【集団 対 集団】データベース'!$C$9:$L$9,0))","v":{"$error":"#N/A"}}]
["福利厚生その他",{"$f":"'【集団 対 集団】データベース'!B68","v":""},{"$f":"INDEX('【集団 対 集団】データベース'!$C$16:$L$72,MATCH('【個別 対 個別】比較・点検シート'!$B84,'【集団 対 集団】データベース'!$B$16:$B$72,0),MATCH('【個別 対 個別】比較・点検シート'!$C$28,'【集団 対 集団】データベース'!$C$9:$L$9,0))","v":{"$error":"#N/A"}}]
["福利厚生その他",{"$f":"'【集団 対 集団】データベース'!B69","v":""},{"$f":"INDEX('【集団 対 集団】データベース'!$C$16:$L$72,MATCH('【個別 対 個別】比較・点検シート'!$B85,'【集団 対 集団】データベース'!$B$16:$B$72,0),MATCH('【個別 対 個別】比較・点検シート'!$C$28,'【集団 対 集団】データベース'!$C$9:$L$9,0))","v":{"$error":"#N/A"}}]
["福利厚生その他",{"$f":"'【集団 対 集団】データベース'!B70","v":""},{"$f":"INDEX('【集団 対 集団】データベース'!$C$16:$L$72,MATCH('【個別 対 個別】比較・点検シート'!$B86,'【集団 対 集団】データベース'!$B$16:$B$72,0),MATCH('【個別 対 個別】比較・点検シート'!$C$28,'【集団 対 集団】データベース'!$C$9:$L$9,0))","v":{"$error":"#N/A"}}]
["福利厚生その他",{"$f":"'【集団 対 集団】データベース'!B71","v":""},{"$f":"INDEX('【集団 対 集団】データベース'!$C$16:$L$72,MATCH('【個別 対 個別】比較・点検シート'!$B87,'【集団 対 集団】データベース'!$B$16:$B$72,0),MATCH('【個別 対 個別】比較・点検シート'!$C$28,'【集団 対 集団】データベース'!$C$9:$L$9,0))","v":{"$error":"#N/A"}}]
["福利厚生その他",{"$f":"'【集団 対 集団】データベース'!B72","v":""},{"$f":"INDEX('【集団 対 集団】データベース'!$C$16:$L$72,MATCH('【個別 対 個別】比較・点検シート'!$B88,'【集団 対 集団】データベース'!$B$16:$B$72,0),MATCH('【個別 対 個別】比較・点検シート'!$C$28,'【集団 対 集団】データベース'!$C$9:$L$9,0))","v":{"$error":"#N/A"}}]

{"sheet":"【手当】マニュアル参照","index":8,"n_rows":120,"n_cols":11,"rows_kept":120,"cut":false,"hidden":false,"merged":[[8,7,8,11],[8,1,8,5]]}
["【付録】","手当について、「不合理な待遇差解消のための点検・検討マニュアル」を確認しましょう"]
[null,"・パートタイム労働者・有期雇用労働者の待遇の支給状況について、"]
[null,"「２：正社員(選択している社員タイプ)には支給するが、パートタイム労働者・有期雇用労働者には支給していない」または、"]
[null,"「３：正社員(選択している社員タイプ)、パートタイム労働者・有期雇用労働者とも支給するが、支給条件が異なる」となった場合、"]
[null,"「不合理な待遇差解消のための点検・検討マニュアル」を参照しながら、以下について検討してみましょう。"]
[null,null,"①支給状況の差に係る説明が合理的と言えるかどうか"]
[null,null,"②合理的でないと判断した場合、どのように是正するか"]
[]
[null,"【集団 対 集団】比較・点検シートに戻る",null,null,null,null,null,"【個別 対 個別】比較・点検シートに戻る"]
[]
[]
[]
[]
[]
[]
[]
[]
[]
[]
[]
[]
[]
[]
[]
[]
[]
[]
[]
[]
[]
[]
[]
[]
[]
[]
[]
[]
[]
[]
[]
[]
[]
[]
[]
[]
[]
[]
[]
[]
[]
[]
[]
[]
[]
[]
[]
[]
[]
[]
[]
[]
[]
[]
[]
[]
[]
[]
[]
[]
[]
[]
[]
[]
[]
[]
[]
[]
[]
[]
[]
[]
[]
[]
[]
[]
[]
[]
[]
[]
[]
[]
[]
[]
[]
[]
[]
[]
[]
[]
[]
[]
[]
[]
[]
[]
[]
[]
[]
[]
[]
[]
[]
[]
[]
[]
[]
[]
[null,null,null,null,null,null,null,null,null,null,"◆より詳細に確認したい場合："]
[null,null,null,null,null,null,null,null,null,null,"「不合理な待遇差解消のための点検・検討マニュアル」"]
[null,null,null,null,null,null,null,null,null,null,"https://www.mhlw.go.jp/stf/newpage_03984.html"]

{"sheet":"【福利厚生その他】マニュアル参照","index":9,"n_rows":124,"n_cols":11,"rows_kept":124,"cut":false,"hidden":false,"merged":[[8,1,8,5],[8,7,8,11]]}
["【付録】","福利厚生その他について、「不合理な待遇差解消のための点検・検討マニュアル」を確認しましょう"]
[null,"・パートタイム労働者・有期雇用労働者の待遇の支給状況について、"]
[null,"「２：正社員(選択している社員タイプ)には支給するが、パートタイム労働者・有期雇用労働者には支給していない」または、"]
[null,"「３：正社員(選択している社員タイプ)、パートタイム労働者・有期雇用労働者とも支給するが、支給条件が異なる」となった場合、"]
[null,"「不合理な待遇差解消のための点検・検討マニュアル」を参照しながら、以下について検討してみましょう。"]
[null,null,"①支給状況の差に係る説明が合理的と言えるかどうか"]
[null,null,"②合理的でないと判断した場合、どのように是正するか"]
[]
[null,"【集団 対 集団】比較・点検シートに戻る",null,null,null,null,null,"【個別 対 個別】比較・点検シートに戻る"]
[]
[]
[]
[]
[]
[]
[]
[]
[]
[]
[]
[]
[]
[]
[]
[]
[]
[]
[]
[]
[]
[]
[]
[]
[]
[]
[]
[]
[]
[]
[]
[]
[]
[]
[]
[]
[]
[]
[]
[]
[]
[]
[]
[]
[]
[]
[]
[]
[]
[]
[]
[]
[]
[]
[]
[]
[]
[]
[]
[]
[]
[]
[]
[]
[]
[]
[]
[]
[]
[]
[]
[]
[]
[]
[]
[]
[]
[]
[]
[]
[]
[]
[]
[]
[]
[]
[]
[]
[]
[]
[]
[]
[]
[]
[]
[]
[]
[]
[]
[]
[]
[]
[]
[]
[]
[]
[]
[]
[]
[]
[]
[]
[null,null,null,null,null,null,null,null,null,null,"◆より詳細に確認したい場合："]
[null,null,null,null,null,null,null,null,null,null,"「不合理な待遇差解消のための点検・検討マニュアル」"]
[null,null,null,null,null,null,null,null,null,null,"https://www.mhlw.go.jp/stf/newpage_03984.html"]

{"sheet":"【賞与】マニュアル参照","index":10,"n_rows":86,"n_cols":10,"rows_kept":86,"cut":false,"hidden":false,"merged":[[8,1,8,5],[8,7,8,11]]}
["【付録】","賞与について、「不合理な待遇差解消のための点検・検討マニュアル」を確認しましょう"]
[null,"・パートタイム労働者・有期雇用労働者の待遇の支給状況について、"]
[null,"「２：正社員(選択している社員タイプ)には支給するが、パートタイム労働者・有期雇用労働者には支給していない」または、"]
[null,"「３：正社員(選択している社員タイプ)、パートタイム労働者・有期雇用労働者とも支給するが、支給条件が異なる」となった場合、"]
[null,"「不合理な待遇差解消のための点検・検討マニュアル」を参照しながら、以下について検討してみましょう。"]
[null,null,"①支給状況の差に係る説明が合理的と言えるかどうか"]
[null,null,"②合理的でないと判断した場合、どのように是正するか"]
[]
[null,"【集団 対 集団】比較・点検シートに戻る",null,null,null,null,null,"【個別 対 個別】比較・点検シートに戻る"]
[]
[]
[]
[]
[]
[]
[]
[]
[]
[]
[]
[]
[]
[]
[]
[]
[]
[]
[]
[]
[]
[]
[]
[]
[]
[]
[]
[]
[]
[]
[]
[]
[]
[]
[]
[]
[]
[]
[]
[]
[]
[]
[]
[]
[]
[]
[]
[]
[]
[]
[]
[]
[]
[]
[]
[]
[]
[]
[]
[]
[]
[]
[]
[]
[]
[]
[]
[]
[]
[]
[]
[]
[]
[]
[null,null,null,null,null,null,null,null,null,"◆より詳細に確認したい場合："]
[null,null,null,null,null,null,null,null,null,"「不合理な待遇差解消のための点検・検討マニュアル」"]
[null,null,null,null,null,null,null,null,null,"https://www.mhlw.go.jp/stf/newpage_03984.html"]

{"sheet":"【基本給】マニュアル参照","index":11,"n_rows":58,"n_cols":11,"rows_kept":58,"cut":false,"hidden":false,"merged":[[8,1,8,5],[8,7,8,11]]}
["【付録】","基本給について、「不合理な待遇差解消のための点検・検討マニュアル」を確認しましょう"]
[null,"・パートタイム労働者・有期雇用労働者の待遇の支給状況について、"]
[null,"「２：正社員(選択している社員タイプ)には支給するが、パートタイム労働者・有期雇用労働者には支給していない」または、"]
[null,"「３：正社員(選択している社員タイプ)、パートタイム労働者・有期雇用労働者とも支給するが、支給条件が異なる」となった場合、"]
[null,"「不合理な待遇差解消のための点検・検討マニュアル」を参照しながら、以下について検討してみましょう。"]
[null,null,"①支給状況の差に係る説明が合理的と言えるかどうか"]
[null,null,"②合理的でないと判断した場合、どのように是正するか"]
[]
[null,"【集団 対 集団】比較・点検シートに戻る",null,null,null,null,null,"【個別 対 個別】比較・点検シートに戻る"]
[]
[]
[]
[]
[]
[]
[]
[]
[]
[]
[]
[]
[]
[]
[]
[]
[]
[]
[]
[]
[]
[]
[]
[]
[]
[]
[]
[]
[]
[]
[]
[]
[]
[]
[]
[]
[]
[]
[]
[]
[]
[]
[]
[]
[]
[]
[null,null,null,null,null,null,null,null,null,null,"◆より詳細に確認したい場合："]
[null,null,null,null,null,null,null,null,null,null,"「不合理な待遇差解消のための点検・検討マニュアル」"]
[null,null,null,null,null,null,null,null,null,null,"https://www.mhlw.go.jp/stf/newpage_03984.html"]

{"sheet":"リスト","index":12,"n_rows":11,"n_cols":7,"rows_kept":11,"cut":false,"hidden":true,"merged":[]}
[null,"有/無","適用/非適用","基本給の決定要素の重要度","パート・有期の人材活用","パート・有期の待遇適用状況","パート・有期タイプ"]
[null,"有","適用","１：非常に重要","１：正社員(選択している社員タイプ)と同じ","１：正社員(選択している社員タイプ)と同条件で支給している",{"$f":"社員タイプの洗い出し!E$15&\" \"&社員タイプの洗い出し!E$16","v":" "}]
[null,"無","非適用","２：やや重要","２：正社員(選択している社員タイプ)とやや異なる","２：正社員(選択している社員タイプ)には支給するが、パートタイム労働者・有期雇用労働者には支給していない",{"$f":"社員タイプの洗い出し!F$15&\" \"&社員タイプの洗い出し!F$16","v":" "}]
[null,null,null,"３：重要でない","３：正社員(選択している社員タイプ)と大きく異なる","３：正社員(選択している社員タイプ)、パートタイム労働者・有期雇用労働者とも支給するが、支給条件が異なる",{"$f":"社員タイプの洗い出し!G$15&\" \"&社員タイプの洗い出し!G$16","v":" "}]
[null,null,null,null,null,null,{"$f":"社員タイプの洗い出し!H$15&\" \"&社員タイプの洗い出し!H$16","v":" "}]
[null,null,null,null,null,null,{"$f":"社員タイプの洗い出し!I$15&\" \"&社員タイプの洗い出し!I$16","v":" "}]
[null,null,null,null,null,null,{"$f":"社員タイプの洗い出し!J$15&\" \"&社員タイプの洗い出し!J$16","v":" "}]
[null,null,null,null,null,null,{"$f":"社員タイプの洗い出し!K$15&\" \"&社員タイプの洗い出し!K$16","v":" "}]
[null,null,null,null,null,null,{"$f":"社員タイプの洗い出し!L$15&\" \"&社員タイプの洗い出し!L$16","v":" "}]
[null,null,null,null,null,null,{"$f":"社員タイプの洗い出し!M$15&\" \"&社員タイプの洗い出し!M$16","v":" "}]
[null,null,null,null,null,null,{"$f":"社員タイプの洗い出し!N$15&\" \"&社員タイプの洗い出し!N$16","v":" "}]